BEGIN:VCALENDAR
VERSION:2.0
PRODID:-//IP.Board Calendar 4.0.13.1//EN
METHOD:PUBLISH
CALSCALE:GREGORIAN
X-WR-CALNAME:В этот день в прошлом
BEGIN:VTIMEZONE
TZID:Europe/London
TZURL:http://tzurl.org/zoneinfo/Europe/London
X-LIC-LOCATION:Europe/London
BEGIN:DAYLIGHT
TZOFFSETFROM:+0000
TZOFFSETTO:+0100
TZNAME:BST
DTSTART:20150329T020000Z
RRULE:FREQ=YEARLY;BYMONTH=3;BYDAY=-1SU
END:DAYLIGHT
BEGIN:STANDARD
TZOFFSETFROM:+0100
TZOFFSETTO:+0000
TZNAME:GMT
DTSTART:20151025T020000Z
RRULE:FREQ=YEARLY;BYMONTH=10;BYDAY=-1SU
END:STANDARD
END:VTIMEZONE
BEGIN:VEVENT
SUMMARY:Развилки Дня
DTSTAMP:20150503T233859Z
SEQUENCE:0
UID:3a60981f17b0188a1425f28a79cd83ca@172.17.0.3
ORGANIZER;CN="ясмин джакмич":fai@fai.org.ru
DESCRIPTION:\n4 мая\nДо XIX века 
	   1410 — В Б
	олонье при
	 загадочных о
	бстоятельства
	х умер антипапа
	 Александр V (п
	редполагают\, что он был 
	отравлен своим преемником Иоанном XXIII).
	https://ru.wikipedia.org/wiki/Иоанн_XXIII_(антип
	апа)\n    1493 — Папа ри
	мский Александр VI опублик
	овал первую буллу Inter c
	aetera\, делящую Новый Свет между
	 Испанией и Португалией.https://ru.wikipedia.org/wi
	ki/Inter_caetera\n    1715 — В П
	ариже произведё
	н первый складно
	й зонтик.\n    17
	83 — Английски
	й астроном Уильям Г
	ершель заметил на Л
	уне красную вспышк
	у.XIX век    1807
	 — Между Фр
	анцией и П
	ерсией за
	ключён Фи
	нкенштейн
	ский догов
	ор\, положи
	вший начало Франко-
	Персидскому альянсу против Британии
	 и России.https://ru.wikipedia.org/wiki/Фи
	нкенштейнский_
	договор\n    184
	4 — В доме А
	ксаковых 
	прошёл то
	ржественный
	 обед в честь при
	мирения русски
	х западников и 
	славянофилов.\n  
	  1848 — Открытие Уч
	редительного соб
	рания Франции.\n 
	   1878 — В зд
	ании опе
	рного теа
	тра Томас 
	Алва Эдисон впе
	рвые продемонст
	рировал изобретё
	нный им фонограф.\n    
	1896 — В Лондоне вышел пе
	рвый выпуск газеты «Dai
	ly Mail»\, известно
	го таблоида\, на
	 счету которых 
	создание леген
	дарных мэмов XX века -
	 Проклятия Фараонов и Лох-Несского чу
	довища https://ru.wikipedia.org/wiki/Daily_MailXX ве
	к    1904\n     
	   Началось 
	строительств
	о Панамского к
	анала.\n     
	   В Англии 
	Генри Ройс
	 и Чарльз 
	Роллс начали п
	роизводство авто
	мобилей под назва
	нием «Роллс-Ройс»
	.\n    1910\n        Созд
	ан Канадский военн
	о-морской флот.\n
	    1919\n      
	  В Пекине
	 проходит 
	студенческая де
	монстрация протеста\, положив
	шая начало Движению 4 мая.https://ru.wiki
	pedia.org/wiki/Движение_4_мая\n    1
	924\n        В Париже
	 начались VIII Ол
	импийские иг
	ры.\n        В
	ертолёт Э. Эмиш
	ена первым пролетел п
	о замкнутому маршруту
	 в 1 км (Франция).\n   
	 1927 — В США со
	здана Акаде
	мия киноискусств
	а\, которая вскор
	е учредит кинопре
	мию «Оскар».\n   
	 1934 — Открытие Мос
	ковского Дома кино 
	(ныне Центральный 
	Дом кино).\n    1
	935 — Сталин 
	на выпуске
	 красных офицер
	ов произносит знам
	енитую фразу: «Кад
	ры решают всё!».\
	n    1960 — Со
	вет Минист
	ров СССР пр
	инял поста
	новление «
	Об изменен
	ии масштаба ц
	ен и замене н
	ыне обращающих
	ся денег новыми день
	гами»\, в соответствии 
	с которым с 1 января 1
	961 было проведено 
	10-\nкратное ум
	еньшение цен 
	(деноминация)
	 и заработко
	в с введением «ново
	го» рубля\, приравн
	енного к десяти «с
	тарым».\n    1961 — 
	В СССР принят указ 
	об усилении борь
	бы с тунеядством.
	\n    1966 — В Т
	урине мини
	стр автопр
	омышленнос
	ти СССР А.М.
	Тарасов п
	одписал п
	ротокол о
	б участии
	 итальянс
	кой фирмы
	 «Фиат» в 
	сооружен
	ии промышле
	нного компле
	кса по произ
	водству легко
	вых\nавтомобил
	ей в СССР. В Т
	ольятти выпускался а
	втомобиль\, основанн
	ый на модели «Фиат» 1
	24.\n    1970 — Ке
	нтская трагед
	ия. В универс
	итете америк
	анского город
	а Кент\, Огай
	о\, Национ
	альная г
	вардия от
	крывает о
	гонь по сту
	денческой 
	демонстрации проти
	в вторжения США в Камбоджу — 4 студ
	ента погибли.https://ru.wikipedia.o
	rg/wiki/Расстрел_в_Ке
	нтском_универ
	ситете\n    1
	979 — Марг
	арет Тэтч
	ер стано
	вится пр
	емьер-ми
	нистром 
	Великоб
	ритании — 
	первой и пока е
	динственной же
	нщиной-премьер
	ом Великобритан
	ии.\n    1986 — Зо
	на эвакуации вокру
	г Чернобыля увелич
	ена до 30 километро
	в.\n    1987 — 
	Принято 
	решение 
	исполком
	а Ленсовет
	а «О строительст
	ве сооружений з
	ащиты Ленинград
	а от наводнений»
	.\n    1988 — Комп
	ания «Пепси»
	 стала перво
	й западной 
	фирмой\, куп
	ившей рекламное
	 время на Центра
	льном советском
	 телевидении.\n 
	   1990 — Верхо
	вный Совет
	 Латвийской 
	ССР резко ос
	удил включ
	ение Латви
	и в состав
	 Советско
	го Союза и 
	объявил о восс
	тановлении не
	зависимости Л
	атвийской Рес
	публики.\n    
	1994 — Депу
	таты Ев
	ропейског
	о парламент
	а проголосова
	ли за полнопра
	вное членство 
	Финляндии\, Норвеги
	и\, Австрии и Швеции в Европейском сою
	зе с 1 января 1995. \n
DTSTART;VALUE=DATE:20150503
END:VEVENT
END:VCALENDAR
