BEGIN:VCALENDAR
VERSION:2.0
PRODID:-//IP.Board Calendar 4.0.13.1//EN
METHOD:PUBLISH
CALSCALE:GREGORIAN
X-WR-CALNAME:В этот день в прошлом
BEGIN:VTIMEZONE
TZID:Europe/London
TZURL:http://tzurl.org/zoneinfo/Europe/London
X-LIC-LOCATION:Europe/London
BEGIN:DAYLIGHT
TZOFFSETFROM:+0000
TZOFFSETTO:+0100
TZNAME:BST
DTSTART:20150329T020000Z
RRULE:FREQ=YEARLY;BYMONTH=3;BYDAY=-1SU
END:DAYLIGHT
BEGIN:STANDARD
TZOFFSETFROM:+0100
TZOFFSETTO:+0000
TZNAME:GMT
DTSTART:20151025T020000Z
RRULE:FREQ=YEARLY;BYMONTH=10;BYDAY=-1SU
END:STANDARD
END:VTIMEZONE
BEGIN:VEVENT
SUMMARY:Развилки Дня
DTSTAMP:20150731T073651Z
SEQUENCE:0
UID:09a3798250079341eeccc267e9f2c488@172.17.0.3
ORGANIZER;CN="ясмин джакмич":fai@fai.org.ru
DESCRIPTION:\n1 августаДо
	 XX века527 — 
	Юстиниан I
	 стал импе
	ратором В
	изантии.12
	91 — шве
	йцарские 
	кантоны Шв
	иц\, Ури\,
	 Унтерв
	альден 
	заключили «в
	ечный союз»
	\, заложивший 
	основы Швейца
	рской конфедераци
	и.1461 — коронаци
	я Эдуарда IV\, 
	короля Ан
	глии.1498 — 
	Христофор 
	Колумб пер
	вым из евр
	опейцев посе
	тил Венесуэл
	у.1514 — велики
	й князь моск
	овский Васи
	лий III въехал
	 в Смоленск. Эт
	о событие имел
	о историческое
	 значение: город
	 110 лет находил
	ся под влад
	ычеством Л
	итвы. В честь э
	той победы в
	 Москве бы
	л основан
	 Новодев
	ичий монас
	тырь.1619 — 
	первые аф
	риканские 
	рабы доста
	влены в Джей
	мстаун\, Вир
	джиния.1770 
	— в сра
	жении п
	ри Каг
	уле р
	усска
	я арми
	я под р
	уководст
	вом П. А
	. Румянц
	ева раз
	громила 
	турецкую
	 армию Ха
	лиль-паши.
	1774 — а
	нглийским
	 учёным Дж
	озефом При
	стли откры
	т химическ
	ий элемен
	т кислород
	.1780 — в р
	амках
	 воор
	уженного 
	нейтрали
	тета Швец
	ия объявил
	а о своём по
	стоянном н
	ейтралитете
	.1789 — русс
	ко-австр
	ийский от
	ряд под 
	командован
	ием А. В. 
	Суворова р
	азбил турок
	 в сражении
	 под Фокшан
	ами.1798 —
	 Абукир
	ское сра
	жение: А
	нглийский 
	флот адми
	рала Нель
	сона оде
	ржал побед
	у над фра
	нцузским 
	флотом.18
	01 — ро
	ссийск
	ий имп
	ератор 
	Александр 
	I отказалс
	я от титул
	а великог
	о магистра
	 Мальтийс
	кого ордена\
	, повелел 
	убрать мал
	ьтийский к
	рест с го
	сударстве
	нного гер
	ба и иск
	лючил о
	рден Св. Ио
	анна Иеру
	салимског
	о из спис
	ка ордено
	в Россий
	ской импе
	рии.1808
	 — Н
	аполе
	оновск
	ий ген
	ерал Иоа
	хим Мюрат
	 провозглаш
	ен неаполита
	нским короле
	м взамен пошедш
	его \"на повыше
	ние\" старшего 
	брата Наполеон
	а Жозефа.1812
	 — сражение 
	под Клястицам
	и.XX век1914 
	— Гер
	мания об
	ъявила в
	ойну Росс
	ии.1919 —
	 в Венгрии
	 свергнута
	 провозгла
	шённая в м
	арте сове
	тская республ
	ика.1924 — уч
	реждён об
	щесоюзны
	й Орден Красн
	ого Знамени.
	1936 — откры
	тие Олимп
	ийских иг
	р в Берлин
	е.1939Учреж
	дена ме
	даль «З
	олотая
	 Звезда
	» Геро
	я Советско
	го Союза.Откр
	ылась Всесою
	зная сельско
	хозяйственна
	я выставка (с 1959
	 г. — Выставк
	а достижений 
	народного хозяй
	ства СССР\, с 199
	2 г. — Все
	российский
	 выставочн
	ый центр).
	 1943Япо
	ния пре
	достави
	ла полно
	мочия к
	оллобора
	ционистс
	кому прав
	ительств
	у в Бирме
	\, формаль
	но пров
	озгласи
	в ее независ
	имостьВ Оук
	-Ридже начал
	 работу завод
	 по обогащени
	ю урана.1944А
	нна Фран
	к сдела
	ла после
	днюю за
	пись в 
	своём 
	дневн
	ике.На
	чало 
	Варша
	вского вос
	стания в 
	оккупиров
	анной неме
	цко-нацис
	тскими вой
	сками Пол
	ьше.1953 —
	 швейц
	арски
	й учё
	ный О
	гюст П
	икар вме
	сте с сын
	ом Жаком зак
	ончил строите
	льство батиска
	фа «Триест»\, н
	а котором в 19
	60 году Жак спустит
	ся на дно Марианск
	ой впадины на глуб
	ину 10916 м.1954 —
	 вступило 
	в силу п
	рекраще
	ние огня
	 во Вьетн
	аме\, Лаос
	е и Камбодже
	. Окончание 
	колониально
	й войны Франц
	ии в Индокита
	е.1971По ини
	циатив
	е Джорд
	жа Харрис
	она в Мэд
	исон-Сквер
	 Гарден пр
	оведён бл
	аготворите
	льный конце
	рт из двух 
	частей в п
	ользу голод
	ающих в Бан
	гладеш. Участник
	ами были Боб Д
	илан\, Ринго С
	тарр\, Эрик 
	Клэптон и 
	др.1975 — в
	 Хельс
	инки н
	а Совещани
	и по безопа
	сности и с
	отрудниче
	ству в Ев
	ропе рук
	оводител
	ями 33 ев
	ропейс
	ких гос
	ударст
	в\, США 
	и Кана
	ды подп
	исан Зак
	лючительный
	 акт Совещани
	я по безопасн
	ости и сотруднич
	еству в Европе.19
	81 — дебют музык
	ального телекана
	ла «MTV». Ровно через шесть лет он начал р
	аботать и в Европе.
DTSTART;VALUE=DATE:20150731
END:VEVENT
END:VCALENDAR
