BEGIN:VCALENDAR
VERSION:2.0
PRODID:-//IP.Board Calendar 4.0.13.1//EN
METHOD:PUBLISH
CALSCALE:GREGORIAN
X-WR-CALNAME:В этот день в прошлом
BEGIN:VTIMEZONE
TZID:Europe/London
TZURL:http://tzurl.org/zoneinfo/Europe/London
X-LIC-LOCATION:Europe/London
BEGIN:DAYLIGHT
TZOFFSETFROM:+0000
TZOFFSETTO:+0100
TZNAME:BST
DTSTART:20150329T020000Z
RRULE:FREQ=YEARLY;BYMONTH=3;BYDAY=-1SU
END:DAYLIGHT
BEGIN:STANDARD
TZOFFSETFROM:+0100
TZOFFSETTO:+0000
TZNAME:GMT
DTSTART:20151025T020000Z
RRULE:FREQ=YEARLY;BYMONTH=10;BYDAY=-1SU
END:STANDARD
END:VTIMEZONE
BEGIN:VEVENT
SUMMARY:Развилки Дня
DTSTAMP:20150731T075132Z
SEQUENCE:0
UID:3f60e0aa818bebb9e964876ee44e0229@172.17.0.3
ORGANIZER;CN="ясмин джакмич":fai@fai.org.ru
DESCRIPTION:\n2 августаДо XVI
	II века338 до н. 
	э. — битва п
	ри Херонее — 
	Филипп II\, к
	ороль Мак
	едонии с 30-ты
	сячной армией по
	беждает воиска 
	Афин и Беотии(
	около 30 тыс.
	 человек)
	.216 до н
	. э. 
	— к
	арфа
	генс
	кий 
	полко
	водец 
	Ганниба
	л при Канна
	х нанёс сам
	ое тяжёлое п
	оражение ри
	млянам за в
	сю их истори
	ю.49 до н. э.
	 — Гай Юли
	й Цезарь разб
	ил у Лериды 
	армии Помпе
	я.47 до н. э. — Гай
	 Юлий Цезарь\, разбив б
	оспорского царя Фарнак
	а II (????????)\, послал в сен
	ат сообщение «п
	ришёл\, увиде
	л\, победил»
	.461 — имп
	ератор Зап
	адной Римской импер
	ии Майориан убит сво
	им офицером Рицимером
	 (Ricimer).1100 — при
	 загадочных
	 обстоятель
	ствах на охоте
	 погиб английс
	кий король Ви
	льгельм II Рыжий
	 (есть версия\
	, что его подстре
	лил собственный
	 брат\, будущий 
	король Англии
	 Генрих I).13
	77 — объ
	единен
	ное рус
	ское в
	ойско 
	под пр
	едводи
	тельст
	вом кн
	язя Ив
	ана Дм
	итриев
	ича раз
	бито ор
	дынски
	м войско
	м под пр
	едводительс
	твом царевич
	а Араб-шаха 
	Музаффара в
	 Битве на р
	еке Пьяне.1
	492 — в 
	соотв
	етстви
	и с Альга
	мбрским дек
	ретом евреи 
	должны были п
	окинуть Испани
	ю в срок до 2 а
	вгуста.1552
	В Пасса
	у подпис
	ан догово
	р\, предо
	ставивш
	ий проте
	стантски
	м князьям
	 Германи
	и свобод
	у опред
	елять ре
	лигию св
	оих подд
	анных.Гер
	цог Сакс
	онии Иога
	нн Фредер
	ик выпуще
	н на свобо
	ду после
	 шести лет зак
	лючения у им
	ператора Св
	ященной Римс
	кой империи К
	арла V.1553 —
	 французс
	кие войска 
	разбиты в
	ойсками С
	вященной
	 Римской 
	империи у
	 Марсиано.160
	8 — Россия 
	и Речь Поспол
	итая заключил
	и перемирие на
	 4 года\, по кот
	орому войс
	ка Речи П
	осполитой об
	язывались у
	йти из Туши
	на\, места
	 резиден
	ции Лжедми
	трия.1610 —
	 мореплава
	тель Генри Г
	удзон открыл
	 Гудзонов зали
	в\, будучи уверенным
	\, что он вышел Север
	ным путём в Тихий
	 океан.XVIII ве
	к1718 — Ф
	ранция
	\, Анг
	лия\,
	 Австри
	я и Гол
	ландия с
	формиров
	али первый 
	Союз четырёх 
	против Испан
	ии.1727 — русс
	кий импер
	атор Пёт
	р II издал 
	указ о вос
	становле
	нии выборной
	 должности г
	етмана Малоро
	ссии\, но при 
	этом указывало
	сь\, что гетма
	ном должен б
	ыть избран 
	Даниил Апосто
	л.1769 — испан
	цы основали
	 поселение Н
	уэстра Сен
	ьора ла Ре
	йна де Лос Анд
	желес де Пор
	циунцила (с
	ейчас — п
	росто Лос-
	Анджелес).
	1776 — сос
	тоялась ц
	еремония
	 подписан
	ия Декла
	рации нез
	ависимост
	и\, приня
	той 4 июля
	 Контин
	ентальны
	м конгресс
	ом и пров
	озгласивше
	й отделение
	 13 североам
	ериканских
	 колоний о
	т Велико
	британии
	. Таким 
	образо
	м было
	 образов
	ано новое 
	государство
	 — США. День 
	Независимости СШ
	А празднуется 4 
	июля\, а 2 авгу
	ста может считат
	ься днём\, ког
	да независим
	ость была за
	креплена де-юре.
	1790 — провед
	ена перва
	я перепись
	 населения
	 США.1794 — 
	за при
	вержен
	ность Р
	обеспьеру 
	арестован ф
	ранцузский х
	удожник\, рев
	олюционер Жак 
	Луи Давид\, ко
	торый пробуд
	ет в тюрьме р
	овно год.1796 
	— Наполеон раз
	бил австрийцев 
	в битве у Лона
	то (Ломбардия
	).XIX век180
	2 — плеб
	исцитом
	 Наполео
	н назнач
	ен пожизнен
	ным консулом
	 Франции.181
	2 — в Одессе
	 началась эпиде
	мия чумы\, от кот
	орой скончался к
	аждый 9-й житель 
	города.1830 
	— отрёк
	ся от пр
	естола
	 в пользу
	 сына ге
	рцога Л
	юдовик
	а Ангу
	лемског
	о францу
	зский кор
	оль Карл
	 X (последн
	ий правящий 
	представите
	ль из старш
	ей ветви динас
	тии Бурбонов).
	 Через 20 мину
	т номинальный
	 Людовик XIX 
	крайне нео
	хотно отрекся
	 от престола\
	, передав п
	рава плем
	яннику. П
	оследующи
	е 7 дней мальчи
	к номинально
	 считался легитимиста
	ми королем Генрихом V1887 
	— Роуэллом Ходжем (Rowe
	ll Hodge) запатентов
	ана в США к
	олючая про
	волока.XX 
	век1903 — в
	 Македон
	ии начало
	сь антитур
	ецкое Или
	нденское 
	восстание
	.1906В Св
	еабор
	ге (Ф
	инля
	ндия)
	 пра
	вите
	льственн
	ыми войск
	ами подавл
	ено воору
	жённое вос
	стание рус
	ских матросов
	.1909На воор
	ужение 
	армии США 
	принят перв
	ый военный 
	самолёт\, пост
	роенный братья
	ми Райт.1914 — и
	мператором Ник
	олаем II объяв
	лен манифест 
	о войне с Ге
	рманией1916
	 — в Москве
	 основан завод 
	АМО (Автомобиль
	ное моторное обще
	ство). В конце 1933 г
	ода был переим
	енован в ЗИС (з
	авод имени С
	талина)\, а п
	осле разоб
	лачения культ
	а личности ста
	л именоваться
	 ЗИЛом (завод
	ом имени Лихач
	ёва).1930 — в 
	СССР на 
	учениях 
	Московско
	го военног
	о округа\, на
	 окраине г
	орода Воро
	нежа впервые
	 высажен возд
	ушный десант[4].
	 Впоследствии 
	этот день стал
	 отмечаться в
	 СССР\, а тепе
	рь в России\,
	 как День воздуш
	но-десантных во
	йск. Первых дес
	антников было
	 12 человек.1
	933Откры
	т Бело
	морско-
	Балтий
	ский к
	анал.
	На С
	урам
	ском
	 перевал
	е состоя
	лась обка
	тка перв
	ого в С
	ССР ма
	гистра
	льного 
	электро
	воза.19
	34 —
	 по
	сл
	е 
	с
	ме
	рти 
	рейхс
	презид
	ента Г
	инденб
	урга Ад
	ольф Гитлер
	 объявлен 
	фюрером Герма
	нии.1940 — образ
	ована Молдав
	ская ССР.1942 
	— Кущёвская
	 атака.1945 —
	 окончание
	 Потсдамск
	ой конферен
	ции.1964 — П
	ервый Тон
	кинский и
	нцидент: а
	мерикански
	й эсминец «
	Мэддокс» 
	при подде
	ржке авиа
	ции ВМС США
	 отразил 
	атаку тр
	ёх северо
	вьетнамс
	ких торпе
	дных кат
	еров\, п
	редположи
	тельно нах
	одясь в тер
	риториальн
	ых водах С
	еверного В
	ьетнама.19
	72 — подп
	исан догов
	ор об объ
	единении
	 Египта и
	 Ливии в ед
	иное госуда
	рство.1980 — 
	состоялос
	ь массовое 
	убийство в Б
	олонье. Крупнейш
	ий теракт в ис
	тории Италии в
	о второй полови
	не ХХ века.199
	0 — вторжение 
	Ирака в Кувейт.
	1995 — создание 
	«Русского Рад
	ио».1996 — в 
	России п
	риведен в 
	исполнение
	 последний 
	на сегодняшн
	ий день смерт
	ный приговор.
	 В этот день был расстрелян уб
	ийца 11 подростков Сергей Головкин.
DTSTART;VALUE=DATE:20150801
END:VEVENT
END:VCALENDAR
