BEGIN:VCALENDAR
VERSION:2.0
PRODID:-//IP.Board Calendar 4.0.13.1//EN
METHOD:PUBLISH
CALSCALE:GREGORIAN
X-WR-CALNAME:В этот день в прошлом
BEGIN:VTIMEZONE
TZID:Europe/London
TZURL:http://tzurl.org/zoneinfo/Europe/London
X-LIC-LOCATION:Europe/London
BEGIN:DAYLIGHT
TZOFFSETFROM:+0000
TZOFFSETTO:+0100
TZNAME:BST
DTSTART:20150329T020000Z
RRULE:FREQ=YEARLY;BYMONTH=3;BYDAY=-1SU
END:DAYLIGHT
BEGIN:STANDARD
TZOFFSETFROM:+0100
TZOFFSETTO:+0000
TZNAME:GMT
DTSTART:20151025T020000Z
RRULE:FREQ=YEARLY;BYMONTH=10;BYDAY=-1SU
END:STANDARD
END:VTIMEZONE
BEGIN:VEVENT
SUMMARY:Развилки Дня
DTSTAMP:20150803T074610Z
SEQUENCE:0
UID:5b7b20b2f713b47cca5fd43215d75a5d@172.17.0.3
ORGANIZER;CN="ясмин джакмич":fai@fai.org.ru
DESCRIPTION:\n3 августаДо XX ве
	ка431 год до н. 
	э. — сол
	нечное з
	атмение чу
	ть не сорв
	ало воен
	но-морско
	й поход 
	афинян про
	тив Спарты
	.1492 — Хрис
	тофор Колу
	мб отплыл из
	 города Палос-
	де-ла-Фронтера
	 на трёх судн
	ах: «Нинья»\,
	 «Пинта» и
	 «Санта-М
	ария» в по
	исках Индии 
	— началось п
	ервое путеш
	ествие Кол
	умба в Но
	вый Свет
	.1546 — 
	за печат
	ание ра
	бот гу
	манист
	ов пове
	шен фра
	нцузски
	й издате
	ль Этьен 
	Доле.1596
	 — 
	нем
	ецк
	ий аст
	роном Да
	вид Фабр
	ициус о
	ткрыл пе
	рвую пере
	менную зв
	езду — Миру
	 Кита.1778 —
	 в Милан
	е открыл
	ось здан
	ие оперы «Ла С
	кала»\, построенное архит
	ектором Джузеппе Пьермарини
	 (Giuseppe Piermarini) на месте ст
	арой церкви
	 Санта Мария дел
	ла Скала.1795 —
	 основана П
	арижская ко
	нсерватория
	.1799 — в ход
	е войны
	 второ
	й коал
	иции Т
	урция 
	впервые да
	ла свободн
	ый проход
	 через Бос
	фор российс
	ким военным
	 кораблям.18
	12 — соедине
	ние первой
	 и второй р
	усских арм
	ий под Смоле
	нском.1847Пап
	а римский 
	подписал к
	онкордат с 
	Россией.18
	82 — Ко
	нгресс 
	США запре
	тил въезд в ст
	рану лунатика
	м\, преступни
	кам и сумасшедш
	им\, а также на 10 
	лет запрети
	л иммиграци
	ю китайцев. (с
	ам по себе од
	ин из гнусн
	ейших дискримин
	ационных законов\
	, с еще более не
	лепым содер
	жанием)XX в
	ек1903 — в
	 ходе ил
	инденско
	го восста
	ния образ
	ована Круш
	евская респу
	блика.1904 — ч
	лены англий
	ской экспед
	иции стали
	 первыми людь
	ми Запада\, 
	вошедшими
	 в священн
	ый город
	 Лхаса 
	в Тибете
	1912 — Ту
	рция 
	пред
	оста
	вила 
	огра
	ниче
	нную 
	автономи
	ю Албани
	и и позвол
	ила препо
	давание а
	лбанского 
	языка в шк
	олах.1913 —
	 забавны
	й в ретр
	оспекти
	ве инцид
	ент: рус
	ская пол
	иция запре
	тила футбольны
	й матч в Касим
	ове (ныне Ряза
	нская область)
	\, заявив\, что д
	анное скопл
	ение людей 
	является 
	незаконны
	м собранием
	.1914 — Перва
	я мировая 
	война: Ге
	рмания объ
	явила войн
	у Франции
	.1922 — рад
	ио Нью-Й
	орка при
	менило пе
	рвый в ми
	ре звук
	овой радиоэ
	ффект: двумя 
	кусками де
	рева было
	 изображ
	ено хло
	панье 
	дверью.
	1929От
	кры
	то 
	дв
	иж
	ен
	и
	е
	 
	п
	р
	и
	г
	о
	ро
	дн
	ых
	 э
	ле
	ктр
	опое
	здов
	 от 
	Яросл
	авско
	го вок
	зала п
	о марш
	руту 
	Москв
	а — Мы
	тищи.В 
	Ростове
	-на-Дону
	 стала раб
	отать первая 
	в СССР автомат
	ическая телефонн
	ая станция (АТС) 
	на 6000 номеров\, 
	построенная
	 при содейст
	вии шведск
	ой фирмы «Э
	рикссон».1
	932 — лидер И
	талии Бени
	то Муссоли
	ни объявил 
	борьбу с п
	ацифизмом.
	1940 — на 
	седьмо
	й сесс
	ии Вер
	ховного
	 Совета
	 СССР у
	довлетв
	орена пр
	осьба Народ
	ного сейма Ли
	товской ССР 
	о принятии 
	республики
	 в состав С
	ССР.1945 
	— вс
	е эт
	ническ
	ие немц
	ы и венг
	ры лишен
	ы права п
	олучени
	я гражда
	нства Че
	хословак
	ии.1950 —
	 Совет Без
	опасности
	 ООН прог
	олосовал 
	против вс
	тупления Ки
	тая в ООН.19
	52 — в Хельс
	инки состоял
	ась церемония
	 закрытия XV 
	Олимпийских 
	игр\, в котор
	ых впервые 
	приняли уч
	астие спор
	тсмены ССС
	Р. Новички 
	поделили 
	первое ме
	сто в нео
	фициальн
	ом коман
	дном зачёте 
	с безогово
	рочными лид
	ерами прежних Олим
	пиад американцами.
	1958 — американска
	я АПЛ «Nautilus» в ходе
	 секретного задан
	ия «Солнечный с
	вет» в 23 часа 
	15 минут вперв
	ые в истори
	и достигл
	а Северн
	ого полюс
	а под водой
	.1959 — в Мо
	скве откр
	ылся перв
	ый Междун
	ародный киноф
	естиваль.1980 
	— прошла це
	ремония торже
	ственного закр
	ытия XXII Олимп
	ийских игр 
	в Москве.1988 
	— досрочно из советской
	 тюрьмы выпущен немец 
	Матиас Руст (Mathias Ru
	st)\, посадивши
	й свой само
	лёт на Крас
	ной площади.1
	995За печат
	ание нено
	рмативной
	 лексики на 
	страницах 
	русской газ
	еты «Собесе
	дник» её главн
	ый редактор Ю
	. Пилипенко 
	привлечён к с
	уду.Самолёт 
	Ил-76 во гла
	ве с Влад
	имиром Ша
	рпатовым 
	и ещё 6 чл
	енами экипажа был принужде
	н совершить посадку в районеКандагара.
DTSTART;TZID=Europe/London:20150802T210000Z
DTEND;TZID=Europe/London:20150802T210000Z
END:VEVENT
END:VCALENDAR
