BEGIN:VCALENDAR
VERSION:2.0
PRODID:-//IP.Board Calendar 4.0.13.1//EN
METHOD:PUBLISH
CALSCALE:GREGORIAN
X-WR-CALNAME:В этот день в прошлом
BEGIN:VTIMEZONE
TZID:Europe/London
TZURL:http://tzurl.org/zoneinfo/Europe/London
X-LIC-LOCATION:Europe/London
BEGIN:DAYLIGHT
TZOFFSETFROM:+0000
TZOFFSETTO:+0100
TZNAME:BST
DTSTART:20150329T020000Z
RRULE:FREQ=YEARLY;BYMONTH=3;BYDAY=-1SU
END:DAYLIGHT
BEGIN:STANDARD
TZOFFSETFROM:+0100
TZOFFSETTO:+0000
TZNAME:GMT
DTSTART:20151025T020000Z
RRULE:FREQ=YEARLY;BYMONTH=10;BYDAY=-1SU
END:STANDARD
END:VTIMEZONE
BEGIN:VEVENT
SUMMARY:Развилки Дня
DTSTAMP:20150803T075645Z
SEQUENCE:0
UID:90e940a5dd509da0e989ae790aa4f5de@172.17.0.3
ORGANIZER;CN="ясмин джакмич":fai@fai.org.ru
DESCRIPTION:\n4 августаДо 
	XX века1326 — 
	В Москве за
	ложен первый 
	каменный храм.
	1578 — произошла 
	Битва при Эль-Ксар-
	эль-Кебире\, извес
	тная как \"Битва 
	трёх королей\"
	\, приведшая к
	 смерти все
	х троих мо
	нархов уч
	аствовав
	ших в не
	й и став
	шая прямой
	 причиной 
	утраты не
	зависимос
	ти Португалии
	 спустя два го
	да.1662 — В М
	оскве произо
	шёл Медный бунт
	.1687 — Гетмано
	м Левобереж
	ья избран И.
	 Мазепа.169
	3 — Фра
	нцузский 
	монах До
	м Перинь
	он откр
	ыл секре
	т изготов
	ления шампанс
	кого.1704 — Ф
	ранция и Р
	оссия подписали
	 договор о дружбе
	.1777 — Отставной с
	тарший сержант 15-го полка лё
	гких драгун Филип Эстли 
	(Philippe Astley) открыл
	 в Лон
	доне п
	ервый 
	регулярн
	ый цирк.
	1783 — Р
	оссия
	 и Гру
	зия по
	дписали 
	Георгиев
	ский трак
	тат\, устана
	вливающий
	 российски
	й протект
	орат над
	 Восточн
	ой Грузи
	ей.1789 
	— Н
	ацион
	ально
	е соб
	рание 
	Франци
	и отменило
	 большую ча
	сть сословн
	ых привилеги
	й духовенства и 
	дворянства.181
	2 — Соединен
	ие под Смолен
	ском 1-й и 2
	-й русски
	х армий Б
	арклая-де
	-Толли и 
	Багратиона
	. Главнокома
	ндующий Барк
	лай-де-Толли
	 сумел дост
	ичь главного:
	 французам не
	 удалось ни раз
	ъединить русск
	ие армии\, ни р
	азбить их пор
	ознь\, как п
	редполага
	лось в изна
	чальном пл
	ане Наполе
	она. Но вын
	ужденное от
	ступление от г
	раниц вызвало не
	довольство Барклаем
	 и при дворе\, и в ар
	мии\, и в обществ
	е\, в кончено
	м итоге при
	ведшее к его 
	смещению с п
	оста главн
	окомандующе
	го и назнач
	ении Куту
	зова.1836
	 — В мос
	ковском
	 Кремле
	 на сво
	ем сег
	одняшне
	м устан
	овлен Ца
	рь-Колоко
	л.1879 —
	 Эль
	зас и 
	Лотаринги
	я получил
	и от Рейхс
	тага ста
	тус особой т
	ерритории Г
	ермании.1888
	 — Открыти
	е Томского 
	университета
	.1892 — Влади
	мир Ульянов (буд
	ущий Ленин) полу
	чил право на в
	едение судеб
	ных дел.XX в
	ек1902 — отк
	рыт Гринв
	ичский пеше
	ходный тунн
	ель под ре
	кой Темзой
	.1903 — Ма
	кедон
	ские по
	встанцы в
	 г. Круше
	во прово
	згласили
	 создание
	 независи
	мой Македон
	ии.1912 — Со
	вершён пе
	рвый пассажирс
	кий перелёт 
	через Ла-М
	анш (пасс
	ажиров было 
	только двое
	).1914 — Ве
	ликобр
	итания 
	объявила 
	войну Герм
	ании.1922 —
	 Похорон
	ы изобретат
	еля Алексан
	дра Белла. В 
	время церем
	онии в теч
	ение минуты 1
	3 миллионов
	 телефонов
	 по всей 
	Северной
	 Америке
	 молчали.1
	951 — от Финля
	ндского вокзал
	а отправился п
	ервый электроп
	оезд. К 1980-м во
	кзал по объ
	ёму пригоро
	дных перевозок
	 выйдет на второ
	е место среди 
	всех вокзал
	ов СССР.195
	4 — свой перв
	ый полёт сове
	ршил британ
	ский сверхз
	вуковой само
	лёт P-1.196
	2 — Л
	идер 
	орга
	низаци
	и Африк
	анский нац
	иональный 
	конгресс Нельсо
	н Мандела был закл
	ючён в тюрьму\, в к
	оторой провёл 2
	8 лет. За это
	 время он
	 стал си
	мволом 
	борьбы
	 чернок
	ожего 
	населен
	ия Южноа
	фриканск
	ой Респуб
	лики проти
	в расистск
	ого режима
	 апартеида.
	 После выхода
	 на свободу 
	Мандела был 
	избран през
	идентом стр
	аны.1964 — В
	торой Тонк
	инский инцид
	ент. Два аме
	риканских э
	сминца в То
	нкинском з
	аливе сооб
	щили\, что по
	дверглись 
	новой атак
	е северовьет
	намских торп
	едных катер
	ов.1995 — 
	началас
	ь Опера
	ция «Бу
	ря»\, з
	авер
	шивша
	яся унич
	тожением Республики Сер
	бская Краина и Республики Западная Бос
	ния.
DTSTART;VALUE=DATE:20150804
END:VEVENT
END:VCALENDAR
