BEGIN:VCALENDAR
VERSION:2.0
PRODID:-//IP.Board Calendar 4.0.13.1//EN
METHOD:PUBLISH
CALSCALE:GREGORIAN
X-WR-CALNAME:В этот день в прошлом
BEGIN:VTIMEZONE
TZID:Europe/London
TZURL:http://tzurl.org/zoneinfo/Europe/London
X-LIC-LOCATION:Europe/London
BEGIN:DAYLIGHT
TZOFFSETFROM:+0000
TZOFFSETTO:+0100
TZNAME:BST
DTSTART:20150329T020000Z
RRULE:FREQ=YEARLY;BYMONTH=3;BYDAY=-1SU
END:DAYLIGHT
BEGIN:STANDARD
TZOFFSETFROM:+0100
TZOFFSETTO:+0000
TZNAME:GMT
DTSTART:20151025T020000Z
RRULE:FREQ=YEARLY;BYMONTH=10;BYDAY=-1SU
END:STANDARD
END:VTIMEZONE
BEGIN:VEVENT
SUMMARY:Развилки Дня
DTSTAMP:20150803T081040Z
SEQUENCE:0
UID:5187d4314bfac189cd607af7c052c1dc@172.17.0.3
ORGANIZER;CN="ясмин джакмич":fai@fai.org.ru
DESCRIPTION:\n5 августаДо 
	XIX века1420 — Ч
	ешские табор
	иты выдвинули
	 свою программу (
	«12 пражских ст
	атей»)\, требу
	ющую уничтожени
	е роскоши\, нра
	вственного 
	зла\, отмен
	ы иконопо
	читания.
	1583 — 
	Анг
	лий
	ски
	й мо
	реп
	лав
	ател
	ь Хем
	фри Ги
	лберт 
	объявил
	 остров
	 Ньюфаун
	дленд соб
	ственность
	ю Британии и
	 основал та
	м первое поселен
	ие (первая английс
	кая колония в Севе
	рной Америке).1699
	 — 5-7 август
	а прошёл пе
	рвый смотр-па
	рад и первые
	 манёвры ро
	ссийского 
	флота на 
	рейде Т
	аганрога.
	1772 — С
	осто
	ялся пер
	вый разде
	л Речи По
	сполитой между
	 Россией\, Пруссией и
	 Австрией.1775 — Испан
	ское судно «San Car
	los» вошло в
	 бухту Са
	н-Францис
	ко. Испа
	нский море
	плаватель Х
	уан де Айал
	а стал пер
	вым европе
	йцем прибы
	вшим сюда.17
	89 — Во 
	Франци
	и отмен
	ены стесняющ
	ие феодальные п
	овинности\, сост
	авлявшие крепо
	стное право.XIX 
	век1858 — З
	аработал п
	ервый (прол
	оженный с 
	третьей попы
	тки) телегра
	фный кабель\,
	 проложенный по
	 дну Атлантики
	\, связавший 
	Великобрит
	анию и США. 
	16 авгус
	та Кор
	олева 
	Виктор
	ия обм
	енялас
	ь прив
	етстви
	ями с 
	прези
	дентом
	 США Джеймс
	ом Бьюкененом.
	 Приветствие а
	нглийской королев
	ы состояло из 103 сл
	ов\, передача которы
	х длилась 16 часов. О
	днако уже в сент
	ябре 1858 года 
	связь была 
	нарушена\,
	 видимо вви
	ду недостато
	чной гидрои
	золяции каб
	ель был раз
	рушен корр
	озией.1861
	В арм
	ии США
	 отмен
	ены тел
	есные на
	казания
	.Президе
	нт США Авраа
	м Линкольн подп
	исал указ о введени
	и подоходного налога 
	(3 % от доходов\, превыша
	ющих $800). Впервые бы
	л применён 4 ав
	густа 1862 год
	а.1864 — астро
	ном Джованн
	и Донати впер
	вые наблюдал 
	спектр кометы
	.1884 — На ост
	рове Бед
	лоу в Нь
	ю-Йорке зал
	ожен первый 
	камень в о
	снование п
	остамента статуи Св
	ободы.1891 — Выпущены первые доро
	жные чеки («American Express»)
	.XX век1914 — 
	В Кливленд
	е\, США уста
	новлены пер
	вые в мире 
	электрическ
	ие светофоры
	.1921 — В амер
	иканском 
	городе Дейт
	оне (шт. Ога
	йо) успешно исп
	ытан первый 
	в мире авт
	омобиль\, у
	правляемы
	й по радио
	.1924В Ту
	рции 
	запрещ
	ено мно
	гоженств
	о.Из мас
	терско
	й Балт
	ийског
	о судост
	роительног
	о завода выш
	ел первый со
	ветский теп
	ловоз Якова
	 Гаккеля.193
	9 — Во в
	ремя боя
	 на Халх
	ин-Голе
	 русск
	ий лётч
	ик Михаил Ю
	юкин Соверш
	ил первый в исто
	рии авиации тар
	ан наземной це
	ли.1940Подводн
	ая лодка «
	Щ-423» отп
	равилась
	 из Мурма
	нска во Вл
	адивосток п
	о Северному мо
	рскому пути. 
	11 сентября о
	на прибыла в
	 пункт назн
	ачения. До 
	этого перехо
	да лишь надво
	дным судам у
	давалось пр
	ойти этим марш
	рутом.1941 — нач
	алась героическая об
	орона Одессы\, 5 авгус
	та — 16 октября 194
	1 г — 73 дня.19
	43 — Про
	изведён 
	первый по
	бедный са
	лют во вре
	мя Великой
	 Отечеств
	енной войн
	ы в честь о
	свобождения О
	рла и Белгорода п
	осле Курской би
	твы — 12 залпов и
	з 124 орудий.195
	5 — Сост
	оялась 
	торжествен
	ная церемон
	ия по случаю
	 выпуска мил
	лионного «Ф
	ольксвагена
	 2». Девизом эт
	ого времени 
	в жизни немц
	ев становитс
	я популярная 
	фраза\, связан
	ная с «Фольксв
	агеном»\, — «О
	н член моей с
	емьи».1964 
	— Вьетн
	амская во
	йна: авиа
	ция США впер
	вые бомбит С
	еверный Вьет
	нам (операц
	ия «Пронзающ
	ая стрела»).1
	966 — Своим дац
	зыбао Мао Цзэ
	дун объявил ло
	зунг «Огонь по ш
	табам!».1967 — Выпущен первы
	й альбом группы «Пинк Флойд» - «The Piper 
	at the Gates of Dawn».1973 — Ст
	артует совет
	ская космиче
	ская миссия «
	Марс-6».1980 
	— Бельгия р
	азделена на т
	ри автономные
	 провинции по
	 языковому п
	ринципу.2000
	 — Об отк
	рытии нов
	ой планет
	ы объявила
	 междунаро
	дная групп
	а астрономо
	в. Небесное 
	тело нахо
	дится в с
	оседней зв
	ёздной сис
	теме и враща
	ется вокруг
	 звезды Эп
	силон Эридан
	а. Эта звезда
	 видна на наш
	ем небоскло
	не невооружё
	нным глазом. П
	о оценкам учё
	ных\, обнар
	уженная п
	ланета со
	стоит из 
	газа и п
	о размерам прев
	ышает Юпитер — самую большую плане
	ту Солнечной системы.
DTSTART;VALUE=DATE:20150805
END:VEVENT
END:VCALENDAR
