BEGIN:VCALENDAR
VERSION:2.0
PRODID:-//IP.Board Calendar 4.0.13.1//EN
METHOD:PUBLISH
CALSCALE:GREGORIAN
X-WR-CALNAME:В этот день в прошлом
BEGIN:VTIMEZONE
TZID:Europe/London
TZURL:http://tzurl.org/zoneinfo/Europe/London
X-LIC-LOCATION:Europe/London
BEGIN:DAYLIGHT
TZOFFSETFROM:+0000
TZOFFSETTO:+0100
TZNAME:BST
DTSTART:20150329T020000Z
RRULE:FREQ=YEARLY;BYMONTH=3;BYDAY=-1SU
END:DAYLIGHT
BEGIN:STANDARD
TZOFFSETFROM:+0100
TZOFFSETTO:+0000
TZNAME:GMT
DTSTART:20151025T020000Z
RRULE:FREQ=YEARLY;BYMONTH=10;BYDAY=-1SU
END:STANDARD
END:VTIMEZONE
BEGIN:VEVENT
SUMMARY:Развилки Дня
DTSTAMP:20150803T083621Z
SEQUENCE:0
UID:ee055a8bc250309595b4991f202cf231@172.17.0.3
ORGANIZER;CN="ясмин джакмич":fai@fai.org.ru
DESCRIPTION:\n6 августаДо XIX
	 века939 год — И
	спанцы разбили
	 мавров в битве
	 у Саламанки.
	988 год — Одн
	а из дат при
	нятых в ка
	честве ус
	ловного 
	момента К
	рещение Руси
	\, принятие
	 христиан
	ства киев
	ским кня
	зем Вла
	димиром.
	1181 г
	о
	д
	 
	— 
	Новго
	родская 
	дружина
	 основал
	а первый 
	русский г
	ород на Вя
	тке — Нику
	лицын.1181 г
	од — Китай
	ские и японс
	кие астрон
	омы фикси
	руют вспы
	шку сверх
	новой зв
	езды.119
	2 год
	 — 
	Новго
	родск
	им арх
	иеписк
	опом Гр
	игорие
	м освящ
	ёна церко
	вь во имя П
	реображения
	 Господня в В
	арлаамо-Хутынс
	ком монастыре.
	1378 год — Битв
	а на реке Во
	же (Рязанщин
	а): князь Дми
	трий Иванов
	ич\, впосле
	дствии прозван
	ный Донским\, р
	азбил карат
	ельную эксп
	едицию хана 
	Мамая.1492 го
	д — Одна 
	из каравел
	л Христофора 
	Колумба уже н
	а третий день 
	пути потеряла с
	вой руль\, из-
	за чего эк
	спедиция з
	адержалась
	 в Тенериф
	е.1496 го
	д — 
	Барто
	ломео К
	олумб осно
	вал г. Са
	нто-Доми
	нго — с
	толицу 
	Доминика
	нской Респ
	ублики.1502 г
	од — Дио
	нисий нача
	л роспись Ф
	ерапонтова 
	монастыря.1506 г
	од — Литовцы
	 побеждают кр
	ымских тата
	р в Клецкой б
	итве.1723 год —
	 Во время перс
	идского поход
	а русской армии и 
	флота 1722 — 172
	3 русским 
	десантом 
	взят Бак
	у.1726 г
	од 
	— по
	дписан с
	оюзный до
	говор ме
	жду Священ
	ной Римско
	й и Российс
	кой империями
	.1790 год — П
	исатель А
	. Радищев 
	приговорён к ка
	зни за книгу «Пу
	тешествие из Пе
	тербурга в Мос
	кву».XIX век18
	06 год — К
	онец Священной Р
	имской империи после отказа им
	ператора Франца II (Franz II. J
	oseph Karl) от германско
	й короны и ликвида
	ции империи. Впро
	чем\, 11 августа 1
	804 года Фра
	нц принял 
	титул Импера
	тора Австрии\
	, дабы обесп
	ечить про
	тивовес и
	мперии Наполео
	на1817 год — Н
	ачала дейст
	вовать Нижего
	родская ярмарка
	.1825 год — Конг
	ресс в город
	е Чукисаке (с
	овр. Сукре) о
	бъявил о незав
	исимости Верх
	него Перу\, на
	званного Бо
	ливией.1828 год
	 — В Канад
	е состояла
	сь первая 
	Королевск
	ая регата\, 
	самое старо
	е спортивное сор
	евнование Севе
	рной Америки\, 
	дошедшее до 
	наших дней.
	1851 год — К
	итай и Рос
	сия подпи
	сали Куль
	джинский 
	торговый д
	оговор\, полож
	ивший начало 
	официальным 
	торговым от
	ношениям эти
	х стран.188
	9 годПро
	ведён по
	следний б
	ой боксёро
	в без перчат
	ок.В Лондоне 
	открыт отель «Са
	вой»\, первая в м
	ире гостиница с
	 ванной в каждом номере.1890
	 год — Убийца Уильям Ке
	ммлер (William Kemmler)
	 стал первым че
	ловеком казнённым н
	а электрическом ст
	уле (Нью-Йорк).1893 г
	одС 6 по 12 авгу
	ста в Цюрихе
	 прошёл трети
	й конгресс II И
	нтернационала
	. Среди прочих 
	на нём были п
	риняты реше
	ния о празд
	новании 1
	 мая и и
	сключении и
	з организ
	ации ана
	рхистов
	.В Греци
	и открыт
	 Коринфск
	ий канал.1896 г
	од — Мадага
	скар провозгл
	ашён французск
	ой колонией.XX
	 век1905 го
	д — Закон о
	б учрежден
	ии законос
	овещатель
	ной госуд
	арственной Дум
	ы.1914 год — О
	бъявление 
	Австро-Вен
	грией войны Рос
	сии.1915 год —
	 «Атака м
	ертвецо
	в» под 
	крепост
	ью Осов
	ец.1916 год —
	 Черного
	рия предл
	ожила Серб
	ии объедин
	иться в фед
	ерацию.19
	17 год 
	— Сф
	орми
	рова
	но в
	тор
	ое к
	оал
	ици
	онно
	е Вр
	емен
	ное пр
	авительст
	во под пр
	едседательство
	м Александра Фёдоровича К
	еренского.1926 годКиностуд
	ия «Warner Brothers» пред
	ставила на су
	д зрителей ф
	ильм «Дон 
	Жуан» со 
	звуковой
	 системо
	й «Витафо
	н»\, позв
	олявшей син
	хронизирова
	ть музыкальн
	ое сопровожд
	ение с кинокадра
	ми.1932 годОткры
	лся первый 
	Венецианск
	ий кинофести
	валь.1935 го
	д — Открытие
	 первых всес
	оюзных сорев
	нований по па
	рашютному сп
	орту.1940 годЭсто
	ния принята 
	в состав СС
	СР.Арест Ни
	колая Вавилова.1
	942 год — нац
	истами унич
	тожено гетт
	о в Микашеви
	чах.1945 г
	од — А
	мерика
	нская а
	томная 
	бомбард
	ировка яп
	онского гор
	ода Хироси
	ма. Эпохаль
	нейшее соб
	ытие Новей
	шей Истории
	.1958 год —
	 США провел
	и атмосферны
	е ядерные ис
	пытания на
	 острове Джонс
	тон.1961 год —
	 Запущен ко
	смический 
	корабль «В
	осток-2»\, 
	который
	 пилотир
	овал гражд
	анин Совет
	ского Союза
	 лётчик-космон
	авт майор Гер
	ман Титов. (лю
	бопытный факт
	 из разряда б
	аек - изначаль
	но именно Тит
	ов должен был 
	быть первым ко
	смонавтом\, но
	 Хрущёву не пон
	равилось его и
	мя\, имевшее немец
	кое звучание\,
	 и он настоял
	 на кандида
	туре Гагари
	на)1962 год — Я
	майка стала н
	езависимой по
	сле существования 
	в течение 300 лет в к
	ачестве Британс
	кой колонии.1969 год
	 — Вертолёт Ми-12 установил
	 мировой рекорд\, подняв 40
	204\,5 кг (40\,2 тонн) полезно
	й нагрузки на вы
	соту 2255 метро
	в.1970 год — Фр
	анция пров
	ела ядерны
	е испытани
	я на остро
	ве Мурур
	оа.1976 г
	од — По
	терпел ката
	строфу советски
	й дальний противоло
	дочный самолёт Ту-142 
	из 76 ОПЛАП ДД.1977 
	год — В Мон-
	де-Марсан (Ф
	ранция) прошёл 
	второй и послед
	ний Европейски
	й панк-рок фест
	иваль.1981 год
	 — В США все 
	бастующие ав
	иадиспетчеры
	 были уволены
	 после того\
	, как они н
	е выполнили р
	аспоряжение 
	президента с
	траны вернут
	ься на рабоч
	ие места.198
	2 год — 
	Итальян
	ское пра
	вительст
	во отдал
	о распо
	ряжение
	 о ликви
	дации кру
	пнейшего ча
	стного банк
	а страны — м
	иланского «
	Банко Амбро
	зиано».1986 
	годТимоти
	 Далтон б
	ыл выбран и
	сполнителем
	 роли Джеймс
	а Бонда в оч
	ередном\, пятнад
	цатом\, фильме о похожден
	иях секретного агента 0
	07.Фил Кац (Phil Katz) выпустил в
	 продажу архиватор PKARC в
	ерсии 1.0 для IBM.1991
	 годАтомная 
	подводная лодк
	а К-407 «Новом
	осковск» в
	первые в мире
	 провела за
	лп 16 межко
	нтинентальны
	х баллистичес
	ких ракет Р-29РМ 
	— операция «Беге
	мот-2».В CERN на ко
	мпьютере NeXT б
	ыла создана первая 
	в мире веб-страни
	ца с базовым набо
	ром HTML.1992 г
	од — Прави
	тельство Рос
	сии потребовало 
	у прибалтийских р
	еспублик уплаты 7\
	,7 млрд дол. долго
	в. в обмен на в
	ывод российск
	их войск.199
	5 год — 
	Хорватские в
	ласти объяви
	ли о ликвида
	ции республ
	ики Сербска
	я Краина.199
	6 годЧеченс
	кие боевики 
	начинают штурм 
	города Грозный.НАСА о
	бъявило о том\, что н
	а метеорите ALH 8400
	1\, отколовше
	мся от Марса
	 и упавшем на
	 Землю\, найд
	ены остатки мик
	роорганизмов\, существо
	вавших 3 млрд лет назад.19
	97 год — «Microsoft» заяв
	ила\, что она будет инвестир
	овать 150 миллионов долларов в «Apple Computer Inc
	».
DTSTART;VALUE=DATE:20150806
END:VEVENT
END:VCALENDAR
