BEGIN:VCALENDAR
VERSION:2.0
PRODID:-//IP.Board Calendar 4.0.13.1//EN
METHOD:PUBLISH
CALSCALE:GREGORIAN
X-WR-CALNAME:В этот день в прошлом
BEGIN:VTIMEZONE
TZID:Europe/London
TZURL:http://tzurl.org/zoneinfo/Europe/London
X-LIC-LOCATION:Europe/London
BEGIN:DAYLIGHT
TZOFFSETFROM:+0000
TZOFFSETTO:+0100
TZNAME:BST
DTSTART:20150329T020000Z
RRULE:FREQ=YEARLY;BYMONTH=3;BYDAY=-1SU
END:DAYLIGHT
BEGIN:STANDARD
TZOFFSETFROM:+0100
TZOFFSETTO:+0000
TZNAME:GMT
DTSTART:20151025T020000Z
RRULE:FREQ=YEARLY;BYMONTH=10;BYDAY=-1SU
END:STANDARD
END:VTIMEZONE
BEGIN:VEVENT
SUMMARY:Развилки Дня
DTSTAMP:20150803T110516Z
SEQUENCE:0
UID:03039a81faa7ecc73e72477893f56957@172.17.0.3
ORGANIZER;CN="ясмин джакмич":fai@fai.org.ru
DESCRIPTION:\n7 августаДо XI
	X века1560 —
	 царь Ив
	ан Грозн
	ый веле
	л в спешн
	ом порядк
	е строить в Мо
	скве дворцы 
	его ближайшим р
	одственникам (д
	етям и брату).16
	20 — Катари
	не Кеплер\,
	 матери изве
	стного астрон
	ома\, предъявл
	яется обвинен
	ие в колдовстве.
	1714 — по новом
	у стилю - Г
	ангутско
	е сражени
	е.1714 —
	 экспе
	диция
	 Ивана
	 Бухоль
	ца вышл
	а из То
	больска для 
	освоения Си
	бири (этой э
	кспедицией позже б
	ыл основан Омск).17
	20 — сражение п
	ри Гренгаме.XI
	X век1803 —
	 в путеше
	ствие о
	тправил
	ась пер
	вая русс
	кая круг
	осветна
	я экспедици
	я. Шлюпом
	 «Надежд
	а» коман
	довал Иван
	 Фёдорович К
	рузенштерн\
	, а «Невой
	» — Юрий
	 Фёдорович
	 Лисянский
	.1817 — на
	чала д
	ейство
	вать Ни
	жегород
	ская яр
	марка. 
	Дюма-о
	тец сп
	ециально
	 приехал 
	увидеть 
	эту дост
	опримечате
	льность экзо
	тической стр
	аны. Ярмарка п
	роцветала почти 
	сто лет и не имела
	 себе подобных 
	ни в России\, н
	и в Западной 
	Европе. В пут
	еводителе говори
	лось: «Подобно Л
	иверпулю\, Гамбу
	ргу\, Лондону\, 
	Парижу\, Пе
	тербургу 
	Нижний в 
	торговом отн
	ошении уже 
	давно сде
	лался вс
	емирно-
	историче
	ским пунк
	том».1819 — 
	Симон Бол
	ивар разг
	ромил испанс
	кие войска в б
	итве при Боя
	ка.1888 — об
	наружена п
	ервая жерт
	ва\, котор
	ая припи
	сывалас
	ь Джеку 
	Потрошите
	лю. Старш
	ий внук
	 королевы 
	Виктории 
	принц Клар
	енс был одн
	им из основн
	ых подозре
	ваемым\, но се
	годня обвинения
	 в его адрес с
	читаются нео
	боснованными
	.XX век1912 —
	 Росси
	я и Япония
	 разгран
	ичили сф
	еры свое
	го влиян
	ия в Мо
	нголии 
	и Маньчжу
	рии.1918 —
	 Украина и
	 Область Войск
	а Донского под
	писали договор о
	 границах.1921 
	— собрав п
	о 3 тысячи
	 долларо
	в с фермер
	ов засушл
	ивых райо
	нов Канад
	ы за искусс
	твенное вызыва
	ние дождя\, шар
	латан Чарльз
	 Хетфилд сбе
	жал в США.1
	932 — в СС
	СР за кр
	ажу госу
	дарствен
	ной и кол
	лективн
	ой собств
	енности в
	 крупных р
	азмерах в
	ведена сме
	ртная казнь — «
	закон о трёх к
	олосках» (зн
	аменитый «ук
	аз семь-восе
	мь»).1939 — 
	Саудовск
	ая Аравия вы
	дала концесси
	ю на разработ
	ку нефти фи
	рме «Станд
	ард Ойл».1
	941 — во
	енный
	 лётч
	ик В
	иктор
	 Талал
	ихин 
	первый
	 за Велик
	ую Отечест
	венную вой
	ну произв
	ёл таран 
	в ночном 
	воздушном б
	ою\, сбив на
	 подступ
	ах к Мо
	скве в
	ражеск
	ий бом
	бардир
	овщик.19
	44 — запу
	щен первы
	й америка
	нский прог
	раммируемый 
	компьютер «Ма
	рк I».1947 — к
	орабль Тур
	а Хейердала 
	«Кон-Тики»
	 терпит кру
	шение на т
	ихоокеанск
	их рифах.19
	60Фидель 
	Кастро объя
	вил о нацио
	нализации в
	сех америка
	нских предп
	риятий на Кубе
	.1970 — провед
	ён первый ком
	пьютерный ша
	хматный турни
	р.1971 — астронав
	ты «Аполлона-15» (
	четвёртая высадка 
	землян на Луну) Д. Ско
	тт\, А. Уорден и Дж. 
	Ирвин возврати
	лись на Землю.1976 
	— после 11-месячн
	ого перелёта косми
	ческий аппарат Vik
	ing 2 вышел на 
	орбиту пла
	неты Марс.
	1983 — пр
	инято 
	постан
	овлени
	е ЦК КПС
	С и СМ С
	ССР «Об
	 укрепле
	нии соци
	алистичес
	кой трудово
	й дисциплин
	ы»\, предусм
	атривавшее н
	аказания за в
	ыпуск брака\, 
	прогулы и оп
	оздания на ра
	боту\, пьянс
	тво на рабоче
	м месте. Самы
	м характерн
	ым примером
	 его претворен
	ия в жизнь\, 
	ставшим пр
	иметой ан
	дроповског
	о времени\,
	 были мас
	совые облав
	ы на посети
	телей мага
	зинов\, кино
	театров в д
	невное врем
	я.1985 — бри
	танские ж
	урналисты
	 провели о
	днодневну
	ю забасто
	вку в знак
	 протеста 
	против о
	тказа Би
	-би-си показ
	ать документ
	альный филь
	м о событи
	ях в Север
	ной Ирланд
	ии.1990 —
	 вслед
	ствие 
	агресс
	ии Ирака п
	ротив Кувей
	та\, ООН вв
	ела экономи
	ческие санк
	ции против
	 Ирака.199
	5 — за
	верши
	лась о
	пераци
	я «Буря
	». Уничтож
	ение Респ
	ублики Сер
	бская Краи
	на и Респу
	блики Запа
	дная Босн
	ия.1997 
	— к
	ана
	дцы
	 за
	ве
	рш
	или 
	строит
	ельств
	о гига
	нтско
	го газ
	опровод
	а через
	 Анды из
	 Аргенти
	ны в Чил
	и.1998 — с
	овершены 
	теракты прот
	ив посольств США 
	в Кении и Танзании. Погибло около
	 250 и ранено более 4000 человек.
DTSTART;VALUE=DATE:20150807
END:VEVENT
END:VCALENDAR
