BEGIN:VCALENDAR
VERSION:2.0
PRODID:-//IP.Board Calendar 4.0.13.1//EN
METHOD:PUBLISH
CALSCALE:GREGORIAN
X-WR-CALNAME:В этот день в прошлом
BEGIN:VTIMEZONE
TZID:Europe/London
TZURL:http://tzurl.org/zoneinfo/Europe/London
X-LIC-LOCATION:Europe/London
BEGIN:DAYLIGHT
TZOFFSETFROM:+0000
TZOFFSETTO:+0100
TZNAME:BST
DTSTART:20150329T020000Z
RRULE:FREQ=YEARLY;BYMONTH=3;BYDAY=-1SU
END:DAYLIGHT
BEGIN:STANDARD
TZOFFSETFROM:+0100
TZOFFSETTO:+0000
TZNAME:GMT
DTSTART:20151025T020000Z
RRULE:FREQ=YEARLY;BYMONTH=10;BYDAY=-1SU
END:STANDARD
END:VTIMEZONE
BEGIN:VEVENT
SUMMARY:Развилки Дня
DTSTAMP:20150807T090712Z
SEQUENCE:0
UID:209e617489c8b116d188ba6fee719235@172.17.0.3
ORGANIZER;CN="ясмин джакмич":fai@fai.org.ru
DESCRIPTION:\n8 августаXVI в
	ек1570 год
	 — Се
	н-Жерменск
	им догово
	ром прек
	ращена т
	ретья рел
	игиозная
	 война в
	о Франци
	и.1588 год 
	— Англи
	чане разб
	или остатк
	и испанск
	ой Непобедимой
	 Армады\, которая 
	перед этим был
	а разбросана 
	штормом.XVII 
	век1628 год 
	— Голла
	ндцы захватили
	 у берегов Ку
	бы испанские
	 корабли с 80
	 тоннами сере
	бра.1636 год — 
	Испанские во
	йска вплотну
	ю подошли к 
	Парижу.1648 г
	од — По 
	приказу
	 своей 
	матер
	и яны
	чарам
	и свергнут
	 с престола и каз
	нён душевнобол
	ьной турецкий су
	лтан Ибрагим I.XVI
	II век1783 год
	 — Екатерин
	а II наградил
	а А. Суворо
	ва Орденом
	 Святого Вл
	адимира.1
	786 год —
	 Мишель П
	аккар пер
	вым покори
	л высочайш
	ую вершину Е
	вропы Монблан.
	1788 год — Фра
	нцузский к
	ороль Людови
	к XVI объявил 
	созыв на сле
	дующий год Гене
	ральных штатов\, к
	оторые позже во
	зведут его на п
	лаху.XIX век18
	15 год — Напо
	леон отправилс
	я в ссылку на 
	остров Святой 
	Елены.1832 го
	д — Принц Отт
	о\, сын бавар
	ского короля\
	, провозглашё
	н королём Гр
	еции.1835 год 
	— Приняти
	е в России
	 нового у
	ниверсит
	етского у
	става\, р
	азработанног
	о министром 
	народного образования
	 графомС. С. Уваровым.1854 го
	д — компания Smith &amp\; W
	esson начала выпуск 
	патронных мага
	зинов.XX век19
	01 год — 
	В Южной Афри
	ке капитул
	ировал ком
	андующий в
	ойсками бу
	ров Де Вилль
	ерс.1907 го
	д — Пре
	дставит
	ели русс
	кого Зе
	мства п
	отребова
	ли от правит
	ельства вв
	едения все
	общего обя
	зательного
	 образовани
	я.1910 год 
	— Перс
	идские
	 правит
	ельствен
	ные войска 
	захватили лид
	еров восстани
	я в Персии Са
	ттар-хана и 
	Бегир-хана
	.1911 год — Дем
	онстрация 
	рабочих в
	 Ливерпул
	е расстрел
	яна войскам
	и.1914 год
	Разли
	чные ф
	ракции
	 Госуда
	рственно
	й Думы Ро
	ссийской 
	империи з
	аключили С
	вященный с
	оюз на пер
	иод первой
	 мировой во
	йны.Англо-фран
	цузские войска
	 оккупировали
	 Тоголенд (ныне
	 Того).1915 г
	одНемец
	кие вой
	ска за
	хватил
	и Праг
	у\, укр
	еплён
	ное п
	редме
	стье В
	аршавы
	.В Дард
	анелла
	х англи
	йской п
	одлодкой
	 затоплен
	 турецкий
	 линкор 
	«Барбар
	осса».Р
	усский и
	мператор
	 Николай
	 II отвер
	г предложе
	ние Дании с
	тать посреднико
	м в мирных пере
	говорах с Герман
	ией.1917 годНачалс
	я VI съезд па
	ртии большевико
	в\, который вз
	ял курс на 
	вооружённ
	ое восстан
	ие.1918 год
	 — Нача
	лась Амьен
	ская операция 
	англо-француз
	ских войск («Ч
	ёрный день Ге
	рмании»).1919
	 годЗав
	ершила
	сь трет
	ья англ
	о-афган
	ская во
	йна.По
	льские войс
	ка захвати
	ли Минск и
	 Ровно.Сове
	тские войска з
	аняли Тюмень.1
	920 год — Отр
	яд Улагая 
	высадился 
	на Кубани.
	1925 годВ В
	ашингтоне о
	ткрылся перв
	ый националь
	ный конгресс
	 Ку-Клукс-Клан
	а.1929 год — ди
	рижабль «Гра
	ф Цепеллин» 
	отправился 
	в перелёт во
	круг Земли.
	1935 год —
	 Герм
	ан Ге
	ринг назн
	ачен отве
	тственны
	м за нов
	ую индустри
	ю Германии — 
	телевидение.1
	937 год — Яп
	онцы захва
	тили Пекин.
	1941 годИ. В
	. Сталин 
	назначен 
	главноком
	андующим 
	советской
	 армией.Пя
	ть самолё
	тов «Ил-
	4» сов
	ершил
	и пер
	вую со
	ветску
	ю бомб
	ардир
	овку Бер
	лина.В 
	Брюссел
	е сформи
	рован «Ва
	ллонский 
	легион» из б
	ельгийцев\, выз
	вавшихся сража
	ться на стороне
	 фашистов в СС
	СР.1943 годМ
	уссолини
	 помещён
	 в заключ
	ение на 
	острове
	 Маддал
	ена на
	 Сарди
	нии.На 
	вооруже
	ние Рабоче-кр
	естьянской К
	расной Армии
	 принимается
	 тяжёлый танк К
	В-851944 год — 
	В Берли
	не восе
	мь немецких
	 офицеров\, 
	обвинённы
	х в подго
	товке поку
	шения на Гит
	лера\, в том ч
	исле фельдмарша
	л фон Вицлебен
	\, повешены н
	а басовых 
	струнах р
	ояля.1946 
	год 
	— Два
	 амер
	иканс
	ких б
	омбар
	дировщ
	ика впе
	рвые сов
	ершили 
	полёт с
	 Гавай
	ских ост
	ровов в Кал
	ифорнию без э
	кипажа\, кон
	тролируемы
	е исключите
	льно по рад
	ио.1949 год — В
	 Страсбурге 
	состоялась пе
	рвая сессия Сов
	ета Европы.1955 
	годВ СССР 
	принято п
	оложение
	 об отпуск
	ах и усло
	виях тру
	да подрос
	тков.Египет
	 обязался пост
	авлять в СССР и
	 Румынию хлопок
	 в обмен на нефть.
	1962 год — В А
	нглии арестован
	 и выслан из с
	траны лидер 
	нацистов СШ
	А Джордж Рок
	уэлл.1963 год — 
	ограбление по
	чтового поезда
	 «Глазго-Лондон
	» бандой из 15-и че
	ловек. Украден
	ы старые банк
	ноты на сумм
	у 2\,6 миллион
	а фунтов с
	терлингов (ч
	то эквивален
	тно сегодняшн
	им 40 миллион
	ам фунтов 
	стерлин
	гов). Са
	мый извес
	тный из 
	соверши
	вших огра
	бление п
	реступник
	ов — Ронни Би
	ггс\, хотя планир
	овал ограблени
	е и руководил 
	им вовсе не он.
	1966 год — В К
	итае объя
	влено нача
	ло культур
	ной революц
	ии.1967 год
	 — В Банг
	коке образов
	ана Ассоциац
	ия государств
	 Юго-Восточной А
	зии (АСЕАН). В 
	неё вошли Ин
	донезия\, Малайзия\
	,Сингапур\, Таиланд\, Фи
	липпины\, затем Бруней (198
	4)\, Вьетнам (1995)\, Лаос и Мь
	янма (1997)\, Камбоджа (
	1999).1974 год — Рич
	ард Никсон 
	объявил\, что ух
	одит в отста
	вку в связи
	 с Уотерге
	йтским скандало
	м.1983 год — 
	В Гватема
	ле совершё
	н военный перев
	орот.1990 год
	 — Ирак о
	бъявил об 
	аннексии 
	Кувейта.20
	00 годУчё
	ные Вел
	икобрит
	ании\, 
	США и 
	Италии 
	официаль
	но объяв
	или о на
	чале о
	пытов 
	по кл
	ониро
	ванию 
	человек
	а.В пер
	еходе на
	 Пушкин
	ской площад
	и сработало 
	самодельное вз
	рывное устройст
	во\, эквивалентное 
	800 грамм тротила. Во 
	время взрыва погибли 13 человек и ещё 118 
	получили ранения.
DTSTART;VALUE=DATE:20150808
END:VEVENT
END:VCALENDAR
