BEGIN:VCALENDAR
VERSION:2.0
PRODID:-//IP.Board Calendar 4.0.13.1//EN
METHOD:PUBLISH
CALSCALE:GREGORIAN
X-WR-CALNAME:В этот день в прошлом
BEGIN:VTIMEZONE
TZID:Europe/London
TZURL:http://tzurl.org/zoneinfo/Europe/London
X-LIC-LOCATION:Europe/London
BEGIN:DAYLIGHT
TZOFFSETFROM:+0000
TZOFFSETTO:+0100
TZNAME:BST
DTSTART:20150329T020000Z
RRULE:FREQ=YEARLY;BYMONTH=3;BYDAY=-1SU
END:DAYLIGHT
BEGIN:STANDARD
TZOFFSETFROM:+0100
TZOFFSETTO:+0000
TZNAME:GMT
DTSTART:20151025T020000Z
RRULE:FREQ=YEARLY;BYMONTH=10;BYDAY=-1SU
END:STANDARD
END:VTIMEZONE
BEGIN:VEVENT
SUMMARY:Развилки Дня
DTSTAMP:20150808T142403Z
SEQUENCE:0
UID:6aeeba7f46be560f68aff4c351164c34@172.17.0.3
ORGANIZER;CN="ясмин джакмич":fai@fai.org.ru
DESCRIPTION:\n9 августа До XIX в
	ека48 до н. э. 
	— произошла
	 битва при Фа
	рсале между в
	ойсками Помпе
	я и Цезаря\, 
	закончивша
	яся победой пос
	леднего.1173 —
	 началось с
	троительство П
	изанской башни.
	1483 — открыта 
	Сикстинская 
	капелла.1639 — 
	первые поселе
	ния европейцев
	 на месте ныне
	шнего Нью-Йор
	ка.1731 — в Пе
	тербурге 
	учреждён
	 Шляхетны
	й кадетский к
	орпус для военно
	го и гражданского
	 образования двор
	ян.1742 — на Аляске
	 31 человек\, ос
	тавшийся от
	 экспедиции В
	итуса Беринг
	а\, пересел с п
	оврежденного ко
	рабля на плот в
	 надежде верну
	ться на нём в 
	Россию.1782 
	— французс
	кий морепла
	ватель де Ла
	перуз основал фо
	рт Принс-Уэльс на б
	ерегу Гудзонова залив
	а (Канада).1792 — Франц 
	II стал королём Бог
	емии.XIX век1803
	 — первая де
	монстрация п
	арохода\, изо
	бретённого 
	Робертом Фу
	лтоном.1814 —
	 после пора
	жения инде
	йцы уступили
	 половину Алаб
	амы и часть Джор
	джии белым колонис
	там Америки.1830 —
	 Луи-Филипп I с
	тал королём Фра
	нции.1842 — де
	маркация грани
	цы между Канадо
	й и США\, Дого
	вор Вебстер
	а — Ашберто
	на.1848На Бук
	овине лик
	видировано 
	крепостное 
	право.Пьемо
	нт подписал 
	мирный договор 
	с Австрией\, от
	казавшись от 
	Ломбардии и 
	Венеции.1853 
	— взятие 
	русскими в
	ойсками под
	 начальство
	м генерала В. 
	А. Перовског
	о укрепления 
	Ак-Мечеть на
	 реке Сырда
	рье\, что спос
	обствовало 
	в дальнейшем 
	завоеванию Кокандского х
	анства.1859 — американец 
	Натан Эймс (Nathan Ames
	) запатентовал эскалат
	ор.1884 — французские офицеры 
	Шарль Ренар (Charles Renard) и Артур Кребс (Arth
	ur Constantin Krebs) соверш
	или полёт
	 на управля
	емом дирижаб
	ле «Франция» п
	о замкнутому ма
	ршруту длиной около 8
	 км и со скоростью\, пре
	вышающей 23 км/ч.XX век1
	902 — Эдуард VII пос
	ле переноса це
	ремонии на 44 
	дня из-за 
	операции 
	по удалению
	 аппендицита
	 был коронован 
	королём Велик
	обритании и И
	рландии1905 — 
	в Портсмуте
	 (США) при 
	посредн
	ичестве п
	резидент
	а США Тео
	дора Рузв
	ельта начал
	ись мирные 
	переговоры м
	ежду Российс
	кой империе
	й и Японией\
	, завершившиес
	я 5 сентября п
	одписанием 
	Портсмутског
	о мирного дог
	овора.1915 —
	 на Ближнем В
	остоке откр
	ыта железная
	 дорога Иеру
	салим — Беэ
	р-Шева.1917 
	— в окку
	пирован
	ной Бел
	ьгии немец
	кие власти 
	провозглас
	или фламанд
	ский язык гос
	ударственным.1
	919 — Англия 
	объявила пр
	отекторат на
	д Персией.19
	20 — брита
	нские орг
	анизации ра
	бочих объяв
	или о намере
	нии начать всео
	бщую забастовк
	у\, если Англия
	 объявит вой
	ну России.19
	34 — созда
	но конструкто
	рское бюро мо
	рского самолё
	тостроения Г. 
	М. Бериева.19
	36 — на Лет
	них Олимп
	ийских иг
	рах в Бер
	лине амер
	иканский спо
	ртсмен Джесс
	и Оуэнс выиг
	рал четвёрт
	ую золотую м
	едаль.1940 — за
	вершено стр
	оительство 
	железной дор
	оги Берлин-Ба
	гдад.1942 — 
	знаменит
	ое исполне
	ние Седьмо
	й («Ленингр
	адской») симф
	онии Дмитрия 
	Шостаковича в о
	саждённом Ленинг
	раде.1945СССР нач
	ал войну проти
	в Японии\, вв
	едя войска
	 в Манчжур
	ию.спустя
	 три дня п
	осле ато
	мной бомба
	рдировки Х
	иросимы амер
	иканцы сбросили
	 вторую атомную 
	бомбу\, названн
	ую «Толстяк»\, на
	 Японию\, разрушив
	 часть Нагасаки.
	 Погибло 74 тыс
	ячи человек
	.1948 — союз
	ники соз
	дали отдельн
	ую службу сн
	абжения прод
	овольствием 
	для Западного
	 Берлина.1950
	 — Совет 
	министров
	 СССР прин
	ял постано
	вление о разраб
	отке первой зени
	тной ракетной системы 
	«Беркут» (С-25) для об
	ороны Москвы. В мае 
	1955 года система 
	была принята 
	на вооружени
	е.1965 — Сингапу
	р отделился о
	т Малайзии и
	 получил нез
	ависимость.
	1968 — Конгр
	есс США п
	оручил Деп
	артаменту
	 торговли и
	зучить вопрос 
	о возможности 
	введения в США
	 метрической 
	системы.1969 
	— в Калифо
	рнии по пр
	иказу главы 
	религиозной 
	секты Чарльза Мэ
	нсона убита актр
	иса Шерон Тейт\
	, жена Романа 
	Полански.197
	4 — в резул
	ьтате Уоте
	ргейтского 
	скандала Рича
	рд Никсон под
	ал в отставку 
	с поста прези
	дента США. Он ст
	ал первым през
	идентом\, вынужден
	ным так поступить.197
	8 — ядерный взрыв 
	«Кратон-4» 22 кило
	тонны.1986 — на
	 рок-фестивале в 
	Небуорте (графст
	во Хертфордшир) высту
	пила группа «Queen». Ка
	к потом оказалось\, 
	это был 658-й и по
	следний конц
	ерт коллектив
	а.1990Президе
	нт СССР Ми
	хаил Сер
	геевич Г
	орбачёв по
	дписал ука
	з об образ
	овании Фо
	нда госуда
	рственного
	 имущества\
	, задачей
	 которой
	 являет
	ся «раз
	работка
	 и реали
	зация п
	рограм
	мы преоб
	разован
	ия государ
	ственных пр
	едприятий в
	 акционерны
	е общества и
	 предприяти
	я\, основа
	нные на 
	иных фо
	рмах с
	обстве
	нности
	 с одно
	време
	нным о
	сущес
	твлени
	ем демо
	нополиз
	ации про
	изводств
	а».Принят
	о постан
	овление 
	Верховног
	о Совета Р
	СФСР «О за
	щите экон
	омическо
	го сувере
	нитета Ро
	ссии». Вер
	ховный Со
	вет РСФСР 
	признал нед
	ействительным
	и все сделки союзн
	ых ведомств по зо
	лоту\, алмазам\,
	 урану и т. 
	д. на её т
	ерритор
	ии.Принята Д
	екларация о г
	осударственн
	ом суверенитете
	 Карельской АССР. С
	 1991 года Респуб
	лика Карелия 
	в составе Р
	Ф.1991 — Росс
	ийская Федерация юридически призна
	на правопреемницей СССР. \n
DTSTART;VALUE=DATE:20150809
END:VEVENT
END:VCALENDAR
