BEGIN:VCALENDAR
VERSION:2.0
PRODID:-//IP.Board Calendar 4.0.13.1//EN
METHOD:PUBLISH
CALSCALE:GREGORIAN
X-WR-CALNAME:В этот день в прошлом
BEGIN:VTIMEZONE
TZID:Europe/London
TZURL:http://tzurl.org/zoneinfo/Europe/London
X-LIC-LOCATION:Europe/London
BEGIN:DAYLIGHT
TZOFFSETFROM:+0000
TZOFFSETTO:+0100
TZNAME:BST
DTSTART:20150329T020000Z
RRULE:FREQ=YEARLY;BYMONTH=3;BYDAY=-1SU
END:DAYLIGHT
BEGIN:STANDARD
TZOFFSETFROM:+0100
TZOFFSETTO:+0000
TZNAME:GMT
DTSTART:20151025T020000Z
RRULE:FREQ=YEARLY;BYMONTH=10;BYDAY=-1SU
END:STANDARD
END:VTIMEZONE
BEGIN:VEVENT
SUMMARY:Развилки Дня
DTSTAMP:20150810T113110Z
SEQUENCE:0
UID:24f249224aca15ffc20182da37f1a97f@172.17.0.3
ORGANIZER;CN="ясмин джакмич":fai@fai.org.ru
DESCRIPTION:\n10 августаДо 
	XIX века586 д
	о н. э.
	 — Вав
	илонский ц
	арь Навухо
	доносор II
	 разрушил Ие
	русалим и сжёг П
	ервый Храм\, п
	остроенный Сол
	омоном в IX ве
	ке до н. э.
	[2] Начал
	о Вави
	лонско
	го плен
	ения.843
	 — Ве
	рденск
	им догово
	ром импери
	я Карла Вели
	кого поделе
	на между его
	 тремя внукам
	и.955 — В би
	тве на реке 
	Лех герман
	ский король
	 Оттон I В
	еликий разг
	ромил венгро
	в.1500 — Порт
	угальский
	 мореплава
	тель Диог
	у Диаш\, 
	потерявший во 
	время бури направлявшуюся 
	в Индию флотилию Кабрала (
	Pedro ?lvares Cabral)\, открыл 
	остров Ма
	дагаскар.15
	35 — Иссл
	едовател
	ь Жак Кар
	тье назвал
	 исследуемые 
	им реку и з
	алив в Кан
	аде именем 
	Святого Лав
	рентия.1539
	 — Король
	 Франции Ф
	ранциск I вв
	ёл в стране
	 государст
	венный язык
	: он приказал с
	оставлять все
	 официальные док
	ументы не на лат
	ыни\, а на фран
	цузском язы
	ке.1628 — В 
	Стокгольм
	е во время с
	воего первог
	о плавания оп
	рокинулся и з
	атонул кораб
	ль «Ваза»167
	5 — Коро
	ль Англ
	ии Карл II 
	заложил 
	первый 
	камень 
	Королевск
	ой обсерва
	тории в Г
	ринвиче.1792
	 — Великая
	 Французская революц
	ия: штурм дворца Тюильри\, арест Люд
	овика XVI (Louis XVI de France).XIX
	 век1809 —
	 Эквадор
	 объявил
	 о независ
	имости от Исп
	ании. Реально не
	зависимость была д
	остигнута только в 18
	22 году.1821 — Миссу
	ри стал 24-м штатом 
	США.1833 — Основа
	н Чикаго. Тогда 
	это был не гор
	од\, а дереву
	шка под названи
	ем Уинди-Сити с 
	населением мен
	ее двухсот чело
	век.1846 — На
	 деньги\, 
	завещанные англи
	йским химиком и минерало
	гом Джеймсом Смитсоном 
	(James Smithson)\, откры
	то пе
	рвое н
	аучно-
	исслед
	овательс
	кое учреж
	дение СШ
	А — Смитс
	оновский инстит
	ут. Решение об этом 
	было принято Конгре
	ссом ещё в 1838 год
	у\, но все эти
	 годы шли деба
	ты о необходи
	мости такого заведен
	ия для Америки.1889 — Анг
	личанин Дэн Райлэндс (
	Dan Rylands) запатент
	овал бутылку\, закр
	ывающуюся пробкой
	 с винтовой нарезк
	ой[3].XX век1905
	 — Во 
	францу
	зском 
	городе 
	Булонь-сю
	р-Мер про
	шёл первы
	й международн
	ый конгресс эспер
	антистов\, в кото
	ром приняли уча
	стие 688 человек
	. С тех пор п
	одобные вст
	речи происхо
	дят ежегодно
	 в разных гор
	одах и странах\
	, исключением 
	стали тольк
	о периоды дв
	ух мировых 
	войн.1911 
	— Прин
	ятый в
	 Вели
	кобритани
	и акт о па
	рламенте
	 лишил па
	лату лорд
	ов права
	 абсолют
	ного ве
	то.1913 
	— За
	конч
	илась 
	Вторая бал
	канская в
	ойна подпи
	санием Буха
	рестского мирн
	ого договора 
	1913 года междуБ
	олгарией\, Ру
	мынией\, Серб
	ией\, Черногор
	ией и Грецией
	.1949 — Первы
	й полёт 
	второго
	 в мире
	 и пер
	вого 
	в Се
	верной
	 Америк
	е реактивн
	ого пассажир
	ского самолёта
	 Авро Канада Дж
	етлайнер\, чер
	ез 13 дней п
	осле первого 
	в мире полёт
	а реактивног
	о авиалайнер
	а Де Хевилле
	нд Комет.1985Радиа
	ционная авария
	 в бухте ЧажмаМай
	кл Джексон за 47\,5 милли
	она долларов купил все права на песни The 
	Beatles.[4]
DTSTART;VALUE=DATE:20150810
END:VEVENT
END:VCALENDAR
