BEGIN:VCALENDAR
VERSION:2.0
PRODID:-//IP.Board Calendar 4.0.13.1//EN
METHOD:PUBLISH
CALSCALE:GREGORIAN
X-WR-CALNAME:В этот день в прошлом
BEGIN:VTIMEZONE
TZID:Europe/London
TZURL:http://tzurl.org/zoneinfo/Europe/London
X-LIC-LOCATION:Europe/London
BEGIN:DAYLIGHT
TZOFFSETFROM:+0000
TZOFFSETTO:+0100
TZNAME:BST
DTSTART:20150329T020000Z
RRULE:FREQ=YEARLY;BYMONTH=3;BYDAY=-1SU
END:DAYLIGHT
BEGIN:STANDARD
TZOFFSETFROM:+0100
TZOFFSETTO:+0000
TZNAME:GMT
DTSTART:20151025T020000Z
RRULE:FREQ=YEARLY;BYMONTH=10;BYDAY=-1SU
END:STANDARD
END:VTIMEZONE
BEGIN:VEVENT
SUMMARY:Развилки Дня
DTSTAMP:20150504T220934Z
SEQUENCE:0
UID:77532cd0876a78e59adfcaa0798f0b96@172.17.0.3
ORGANIZER;CN="ясмин джакмич":fai@fai.org.ru
DESCRIPTION:\n5 маяДо XIX века
	    1260 — Хубилай 
	становится Вел
	иким ханом монг
	ольской империи.\
	n    1494 — Христофор 
	Колумб высаживае
	тся на Ямайке.\n 
	   1581 — В горо
	де Остроге 
	вышел кален
	дарь Ивана 
	Фёдорова. 
	К каждому ме
	сяцу были напечат
	аны стихи белорус
	ского поэта Андре
	я Рымши.\n    174
	2 — В Москве были 
	восстановлены 
	после пожара К
	расные ворота.
	\n    1751 — По
	ртугальский
	 министр инос
	транных дел 
	Себастьян Ка
	рвалью-и-Мел
	у\, маркиз Пом
	бал начал наст
	упление на инкв
	изицию в Порту
	галии\, издав у
	каз\, по кот
	орому аутод
	афе не должно пр
	оисходить без\
	nправительстве
	нного одобрения.\n
	    1762 — Подписан 
	Петербургский ми
	рный договор.\n 
	   1764 — В Санкт
	-Петербурге
	 по указу и
	мператриц
	ы Екатерины 
	II основано 
	Воспитател
	ьное обществ
	о благородны
	х девиц и при
	 нём училище д
	ля мещанских
	 девушек (См
	ольный инс
	титут) — 
	первое в Росс
	ии\nженское во
	спитательно-
	образовательн
	ое учреждение.\
	n    1788 — Ис
	панский мо
	реплаватель 
	Эстебан Хос
	е Мартинес о
	бъявил остров Ва
	нкувер (ныне в Канаде)
	 собственностью Испа
	нии.XIX век\n    1816\
	n        Карл 
	Август Саксен
	-Веймар-Эйзена
	хский\, друг и
	 покровитель Гёте
	\, даровал своему
	 герцогству кон
	ституцию (до 18
	48 года поми
	мо Саксен-Вей
	мар-Эйзенаха
	 конституции
	 имели только 
	шесть стран -\n
	бывщшие франц
	узские саттели
	ты Бавария\, Ба
	ден\, Вюртемберг
	\, Гессен-Дарм
	штадт и проб
	итанские На
	ссау и Браун
	швейг).\n     
	   Опубликован первый с
	онет английского поэта Джон
	а Китса (John Keats).\n    182
	1 — смерть Наполеона
	 I на острове Святой 
	Елены.\n    1836 
	— В Бельги
	и введена в ст
	рой первая на ко
	нтинентальной 
	Европе железная 
	дорога.\n    18
	49 — Фёдор 
	Достоевск
	ий вместе 
	с другими
	 членами
	 революц
	ионного к
	ружка петр
	ашевцев п
	о доносу 
	провокатор
	а Антонелли арес
	тован и заключён 
	в Петропавловску
	ю крепость.\n    
	1862 — Битва 
	при Пуэб
	ло. Мекс
	иканская
	 национа
	льная арм
	ия разгром
	ила франц
	уские экс
	педиционные в
	ойска. Отмечается
	 в Мексике как на
	циональный праздник\n
	    1891 — в Нью-Йорке отк
	рылся концертный зал Mu
	sic Hall (сейчас Карн
	еги-холл)\; дирижё
	ром первого концерта 
	на открытии был П. И. 
	Чайковский.XX век   
	 1912\n        Начал
	о V Олимпийских иг
	р\, проводимых в
	 Стокгольме (
	Швеция)\, г
	де вперв
	ые были 
	проведен
	ы ставшие
	 потом т
	радиционн
	ыми торжест
	венные цере
	монии открыт
	ия и закрыти
	я Олимпийски
	х игр. Сами\nсо
	ревнования п
	роходили в т
	ечение двух
	 с половиной м
	есяцев\, и наи
	лучших результ
	атов добились 
	хозяева\, которые
	 завоевали по 24 з
	олотые и серебр
	яные медали и 17 
	бронзовых.\n      
	  Вышел первый но
	мер газеты «Правда»
	.\n    1921 — Во Франции впервые
	 представлены духи «Chanel No
	. 5».\n    1925 - В амери
	канском городк
	е Дейтон (шт. Тен
	несси) арестован 24-летний 
	школьный учитель Джон 
	Скоупс (John Scopes)\
	, осмелив
	шийся пре
	подавать з
	апрещённую
	 законами шта
	та эволюцион
	ную теорию\nЧа
	рльза Дарвина. 
	Судебный проц
	есс\, который 
	начался чере
	з два месяца\, 
	был окрещён «Обез
	ьяньим» и привлёк
	 внимание всего ми
	ра.\n    1927 — 
	На Волховс
	кой ГЭС прошёл
	 пуск первого с
	оветского ги
	дроэлектроге
	нератора.\n  
	  1929 — П
	ервый 
	полёт це
	льнометаллич
	еского трёхдвига
	тельного пассажи
	рского самолёта А
	НТ-9.\n    1936 —
	 Захват и
	тальянски
	ми войскам
	и столицы Эфио
	пии под командовани
	ем Пьетро Бадольо (
	Марш железной воли).\n  
	  1942 — В США введен
	ы карточки на с
	ахар.\n    19
	44 — Оконч
	ено строите
	льство Каменск-
	Уральского мет
	аллургического з
	авода (КУМЗ)\n    1945 
	— Капитуляция н
	емецких войск в
	 Голландии.\n  
	  1946 — Фран
	цузы на рефере
	ндуме высказали
	сь против проект
	а новой конституц
	ии.\n    1949 — 
	Устав Совета 
	Европы подписа
	ли в Лондоне пре
	дставители Бельги
	и\, Дании\, Франции\,
	 Великобритании\
	, Ирландии\, Итали
	и\, Люксембурга\,
	 Нидерландов\
	, Норвегии и Ш
	веции (впоследс
	твии к Совету\n
	присоединятся Г
	реция\, Исландия и Ту
	рция). Отмечается 
	как День Европы.\n
	    1951 — В В
	еликобритани
	и показан первый ко
	мпьютер\, созданн
	ый специально для
	 игры.\n    1954 —
	 в результа
	те военного 
	переворота в Пара
	гвае к власти при
	шёл Альфредо Стре
	сснер.\n    1956 — В Т
	окио начался пер
	вый чемпионат м
	ира по дзюдо.\n 
	   1961 — Пер
	вый амери
	канский субо
	рбитальный полё
	т на космическом кор
	абле «Меркурий» (МР
	-3) Алана Шепарда.
	\n    1971 — Е
	вропейск
	ие валютны
	е рынки закры
	ваются после нача
	ла массового обм
	ена долларов США
	 на марки.\n    1
	987 — Американский
	 Конгресс начал с
	лушание по сканд
	алу Ирангейт.\n  
	  1994\n        
	Парламент
	ские струк
	туры Армен
	ии\, Караба
	ха и Азерба
	йджана подписали
	 Бишкекский прот
	окол призывающий 
	к перемирию.\n   
	 1999\n        М
	акедония зак
	рыла свои гра
	ницы для алба
	нских бежен
	цев из Косо
	во.\n      
	  Впервые
	 в истории 
	единой Великоб
	ритании состоял
	ись выборы парл
	амента Шотландии.\n  
	  2000 — Ущерб от новог
	о компьютерного вир
	уса «I love you» составил
	 только в Северной Америке миллиард дол
	ларов.\n
DTSTART;VALUE=DATE:20150504
END:VEVENT
END:VCALENDAR
