BEGIN:VCALENDAR
VERSION:2.0
PRODID:-//IP.Board Calendar 4.0.13.1//EN
METHOD:PUBLISH
CALSCALE:GREGORIAN
X-WR-CALNAME:В этот день в прошлом
BEGIN:VTIMEZONE
TZID:Europe/London
TZURL:http://tzurl.org/zoneinfo/Europe/London
X-LIC-LOCATION:Europe/London
BEGIN:DAYLIGHT
TZOFFSETFROM:+0000
TZOFFSETTO:+0100
TZNAME:BST
DTSTART:20150329T020000Z
RRULE:FREQ=YEARLY;BYMONTH=3;BYDAY=-1SU
END:DAYLIGHT
BEGIN:STANDARD
TZOFFSETFROM:+0100
TZOFFSETTO:+0000
TZNAME:GMT
DTSTART:20151025T020000Z
RRULE:FREQ=YEARLY;BYMONTH=10;BYDAY=-1SU
END:STANDARD
END:VTIMEZONE
BEGIN:VEVENT
SUMMARY:Развилки Дня
DTSTAMP:20150812T142513Z
SEQUENCE:0
UID:5335cca83b945994cd083551348a2479@172.17.0.3
ORGANIZER;CN="ясмин джакмич":fai@fai.org.ru
DESCRIPTION:\n12 августаДо XIX
	 века1121 — м
	ежду войск
	ами Грузин
	ского царс
	тва и запа
	дно-сельджук
	ских эмиров М
	ардина и Хилл
	ы состоялась Д
	идгорская битв
	а.1323 — после 
	тридцати лет
	 войны Новгород
	а и Швеции межд
	у ними заключён 
	Ореховский мир.
	1479 — в Москве
	 освящён Усп
	енский собо
	р\, которы
	й строил
	ся четыр
	е года по
	д руковод
	ством ита
	льянского 
	архитектор
	а Аристотел
	я Фиораванти
	. Собор был с
	ооружён на месте 
	первого каменного с
	обора Москвы\, построен
	ного в 1326—1327 гг. в
	 правление Ивана
	 Калиты\, и возво
	дился по образцу У
	спенского собора 
	XII века во Владим
	ире.1654 — Бит
	ва под Шкло
	вом между 
	войсками 
	князя Юрия
	 Барятинск
	ого и войс
	ками Вели
	кого гетм
	ана Януша
	 Радзивил
	ла. Армия Вел
	икого княжес
	тва Литовск
	ого одержало
	 тактическую п
	обеду.1759 — 
	состоялос
	ь Кунерсдорф
	ское сражени
	е\, наиболее
	 известная
	 битва Семи
	летней войны\
	, завершивше
	еся разгромом п
	русской армии Фр
	идриха II русско
	-австрийскими 
	войсками.1792 
	— Екатерина 
	II утвердила п
	риговор русскому
	 публицисту и издате
	лю Н. И. Новикову —
	 15 лет тюрьмы.XIX век
	1824 — поэт Ал
	ександр Пушк
	ин выслан из 
	Одессы. В по
	ру михайловског
	о затвора он созд
	ал лучшие свои прои
	зведения. В 1826 году 
	Николай I вызвал 
	его в Москву и с
	нял с него опа
	лу.1840 — на 
	Царскосе
	льской же
	лезной до
	роге близ
	 станции Ц
	арское Село
	 произошло столк
	новение двух пассажи
	рских поездов. Погиб
	ло 7 человек\, 78 б
	ыло ранено.18
	51 — американец
	 Айзек Зингер 
	получил патен
	т на первую шв
	ейную машинку
	.1865 — англи
	йский врач Д
	жозеф Листе
	р впервые и
	спользовал в
	о время операц
	ии фенол\, дл
	я дезинфекц
	ии инструм
	ентов и рук
	 хирурга. 
	В результате
	 смертность 
	после хирур
	гических опе
	раций упала в
	трое.1877 — 
	американски
	й астроном А
	саф Холл от
	крыл спутник М
	арса — Деймос.189
	8 — Гавайские ос
	трова аннексиров
	аны США.XX век194
	4 — во Франци
	ю из Англии 
	начал поступ
	ать бензин по не
	фтепроводу «Пл
	уто»\, проложен
	ному по дну Ла
	-Манша.1950 — 
	Министерство
	 обороны США в
	первые выпусти
	ло справочник о т
	ом\, как надо за
	щищаться от я
	дерной атаки\, 
	после чего в 
	стране начал
	ся бум строи
	тельства уб
	ежищ.1953 —
	 на Семипа
	латинском
	 ядерном п
	олигоне прохо
	дят успешные и
	спытания перв
	ой в мире водо
	родной бомбы.
	1959Первый запуск
	 американской 
	ракеты для под
	водных лодок 
	«Поларис А-1»\,
	 которая могл
	а нести ядерную
	 боеголовку мо
	щностью в 1 ме
	гатонну.В Лит
	л-Роке (Аркан
	зас) толпа 
	попыталась 
	не допустить
	 в высшую шк
	олу двух тем
	нокожих сту
	дентов\, кото
	рые вынужде
	ны были прох
	одить туда п
	од охраной 
	армии.В СС
	СР разрешена 
	продажа в кре
	дит товаров «длите
	льного пользования»
	.1960С мыса Канавер
	ал стартует Echo 
	One — первый
	 телекомму
	никационны
	й спутник.1962
	 — стартов
	ал советский 
	космический ко
	рабль «Восток-
	4» с Павлом По
	повичем на борт
	у. Первый в ми
	ре группово
	й космически
	й полёт: «Восток
	-3» с Андрияном
	 Николаевым 
	стартовал н
	акануне.1970В
	 Москве п
	одписан 
	советско
	-западног
	ермански
	й договор
	\, которы
	й зафи
	ксиров
	ал обя
	затель
	ство ст
	орон не
	укоснит
	ельно собл
	юдать терр
	иториальную 
	целостность вс
	ех государств 
	в Европе\, неру
	шимость их грани
	ц (в том числе з
	ападной границы П
	ольши по Одеру-Нейс
	е\, а также границ
	ы между ФРГ и Г
	ДР).1974 — Ту
	рция пре
	дъявила у
	льтиматум Ки
	пру с требова
	нием создать т
	урецкие автономны
	е округа.1975 — ядерны
	й взрыв «Горизонт-4» 7\
	,6 килотонны.1979 — яде
	рный взрыв «Кимбер
	лит-4» 8\,5 килотонны
	.1981 — поступил в продажу п
	ерсональный компьютер IBM PC це
	ною в $1\,565\,- процессор 4.7
	7 МГц\, память 16 кило
	байт (с возможностью ра
	сширения до 256)\, операци
	онная система — DOS 1.
	0.1998 — Титан-IV вз
	рывается посл
	е старта с мыс
	а Канаверал\, из
	-за короткого 
	замыкания в 
	системе наве
	дения.2000 —
	 в Баренцевом 
	море потерпела катастрофу атомная подво
	дная лодка «Курск».
DTSTART;VALUE=DATE:20150812
END:VEVENT
END:VCALENDAR
