BEGIN:VCALENDAR
VERSION:2.0
PRODID:-//IP.Board Calendar 4.0.13.1//EN
METHOD:PUBLISH
CALSCALE:GREGORIAN
X-WR-CALNAME:В этот день в прошлом
BEGIN:VTIMEZONE
TZID:Europe/London
TZURL:http://tzurl.org/zoneinfo/Europe/London
X-LIC-LOCATION:Europe/London
BEGIN:DAYLIGHT
TZOFFSETFROM:+0000
TZOFFSETTO:+0100
TZNAME:BST
DTSTART:20150329T020000Z
RRULE:FREQ=YEARLY;BYMONTH=3;BYDAY=-1SU
END:DAYLIGHT
BEGIN:STANDARD
TZOFFSETFROM:+0100
TZOFFSETTO:+0000
TZNAME:GMT
DTSTART:20151025T020000Z
RRULE:FREQ=YEARLY;BYMONTH=10;BYDAY=-1SU
END:STANDARD
END:VTIMEZONE
BEGIN:VEVENT
SUMMARY:Развилки Дня
DTSTAMP:20150812T144032Z
SEQUENCE:0
UID:372fc0165cf8812b3564c529a130d01c@172.17.0.3
ORGANIZER;CN="ясмин джакмич":fai@fai.org.ru
DESCRIPTION:\n11 августаДо XIX 
	века3114 до н. э. —
	 Начало Длинног
	о счёта в кален
	даре майя.480 д
	о н. э. — Б
	итва при Ферм
	опилах между
	 персидской 
	армией и со
	юзом гречес
	ких полисов
	.117 — Начало п
	равления ри
	мского импе
	ратора Публи
	я Элия Адриана
	.1337 — Препо
	добный Сер
	гий Радоне
	жский основал 
	монастырь\, по
	зднее ставши
	й Троице-Сер
	гиевой лавро
	й.1378 — Русск
	ое войско впер
	вые разбивает
	 золотоордынце
	в в Битве на ре
	ке Воже.1471 
	— Заключ
	ён Корос
	тынский мир
	 между Москов
	ским княжеств
	ом и Новгородской 
	республикой1492 —
	 Александр VI вы
	бран Папой Римс
	ким.1707 — Прусси
	я и Швеция сф
	ормировали «
	Вечный альянс».1
	767 — В Англии
	 совершено п
	оследнее со
	жжение челов
	ека.1791 — Р
	оссийски
	й флот по
	д команд
	ованием а
	дмирала Ф
	ёдора Фёд
	оровича Ушако
	ва разгромил тур
	ецкую эскадру в 
	сражении при Калиа
	крии.XIX век1804 — 
	Австрия стал
	а империей.1863
	 — Франция 
	установила 
	свой протект
	орат над Камб
	оджей.1899 — В
	ведение «Вр
	еменных пра
	вил» об отдаче
	 студентов в солд
	аты за участие в ст
	уденческом движении.XX век1906 — В
	 Англии Юджин Ласт (Eugene August
	in Lauste) запатентова
	л одну из перв
	ых систем зву
	ковового кино.19
	09 — Океанский ла
	йнер впервые пер
	едаёт по радио 
	сигнал SOS.191
	8 — предпо
	ложительна
	я дата уста
	новки памя
	тника Иуде
	 Искариоту в 
	Свияжске. Отк
	рытие памятник
	а могло состоят
	ься также 12 авгу
	ста. Спустя дв
	е недели он 
	бесследно исче
	з.1919 — Приня
	тие констит
	уции Веймар
	ской республи
	ки.1921 — Опу
	бликован 
	наказ Совнарк
	ома о проведении
	 в жизнь новой эк
	ономической по
	литики (НЭП).19
	22 — В каче
	стве слов г
	имна Герман
	ии утверждён 
	первый куплет стих
	ов «Дойчланд\, Дой
	чланд юбер аллес
	»\, написанных в
	 1848 году про
	фессором 
	Августом 
	Генрихом Го
	фманом Фон 
	Фаллерслебе
	ном. Музыкой гимна
	 стала мелодия\, 
	написанная Йозе
	фом Гайдном в 17
	97 году как гим
	н Австрийской и
	мперии. После Второ
	й мировой войны гим
	н был отменён\, но
	 в 1950 году внов
	ь восстанов
	лен со словами 
	третьего купл
	ета. Ныне это 
	гимн объединён
	ной Германии.192
	6 — Компания 
	«Кодак» объяви
	ла\, что она начал
	а работы по соз
	данию цветной к
	иноплёнки.1929И
	ран и Ирак п
	одписали до
	говор о дружб
	е.В Цюрихе соз
	дано Агентств
	о по отправке 
	в Палестину евре
	ев.1942 — нацистам
	и уничтожено ге
	тто в Ивацевич
	ах.1943 — През
	идент США 
	Ф. Рузвельт по
	обещал Филип
	пинам незави
	симость по око
	нчании войны.1
	947 — В «Правд
	е» опублико
	вана статья 
	Д. Шепилова
	 «Советский
	 патриотизм»
	\, ставшая 
	началом камп
	ании по обви
	нению деятел
	ей культуры в ко
	смополитизме.1
	949 — Руководс
	тво СССР объявил
	о о том\, что пр
	екращает счи
	тать Югослав
	ию союзником.19
	59 — В Москве
	 открыт меж
	дународный 
	аэропорт Шерем
	етьево.1962 — 
	Запуск косм
	ического ко
	рабля Восто
	к-3. Андриян Ни
	колаев стан
	овится трет
	ьим советск
	им космонавт
	ом.1973 — По
	 Централ
	ьному те
	левидению 
	начат пре
	мьерный п
	оказ сери
	ала «Семна
	дцать мгно
	вений весн
	ы»\, поставлен
	ного Татьяной
	 Лиозновой по 
	повести Юлиа
	на Семёнова.
	1979Приведён в
	 исполнени
	е смертный 
	приговор «
	Тоньке-пулемётч
	ице»\, палачу Локотс
	кого округа (расстре
	ляла более 1500 человек).1984 — Прези
	дент США Рейган (Ronald Wilson R
	eagan)\, проверяя м
	икрофон перед пре
	сс-конференцией\, 
	заявил на всю с
	трану\, не зная\,
	 что микрофон вк
	лючён: «Дорогие 
	американцы\, я 
	рад сообщить в
	ам\, что тольк
	о что подписа
	л закон об о
	бъявлении 
	России вне 
	закона на вечн
	ые времена. Б
	омбардировка на
	чнётся через пять м
	инут».1990 — Бунт 
	заключённых в
	 СИЗО г. Сухум
	и.1992 — Открыв
	ается первый междунар
	одный авиасалон в Жуковск
	ом.1998 — Группа «Rolling 
	Stones» впервые выс
	тупила с концерт
	ом в Лужниках.1
	999Полное сол
	нечное зат
	мение\, ви
	димое на
	 террито
	рии Евр
	опы.Пра
	витель
	ство Люк
	сембурга
	 запретил
	о движение
	 тяжёлого 
	грузового
	 автотранспорта 
	по дорогам страны на п
	ериод солнечного затме
	ния с 10:30 до 13:45 по
	 местному вре
	мени. Запрет 
	касается тольк
	о тех машин\, к
	оторые будут
	 двигаться из 
	Бельгии\, Ге
	рмании и самог
	о Люксембурга 
	в сторону Фран
	ции. Это объя
	сняется тем\,
	 что Франция
	 уже объявил
	а об аналоги
	чном запрете
	 на своей терр
	итории. Южная 
	половина Люк
	сембурга\, в
	ключая столицу\, попадала в поло
	су полного солнечного затмения.
DTSTART;VALUE=DATE:20150811
END:VEVENT
END:VCALENDAR
