BEGIN:VCALENDAR
VERSION:2.0
PRODID:-//IP.Board Calendar 4.0.13.1//EN
METHOD:PUBLISH
CALSCALE:GREGORIAN
X-WR-CALNAME:В этот день в прошлом
BEGIN:VTIMEZONE
TZID:Europe/London
TZURL:http://tzurl.org/zoneinfo/Europe/London
X-LIC-LOCATION:Europe/London
BEGIN:DAYLIGHT
TZOFFSETFROM:+0000
TZOFFSETTO:+0100
TZNAME:BST
DTSTART:20150329T020000Z
RRULE:FREQ=YEARLY;BYMONTH=3;BYDAY=-1SU
END:DAYLIGHT
BEGIN:STANDARD
TZOFFSETFROM:+0100
TZOFFSETTO:+0000
TZNAME:GMT
DTSTART:20151025T020000Z
RRULE:FREQ=YEARLY;BYMONTH=10;BYDAY=-1SU
END:STANDARD
END:VTIMEZONE
BEGIN:VEVENT
SUMMARY:Развилки Дня
DTSTAMP:20150812T144238Z
SEQUENCE:0
UID:b5491f7f10a30df5895582bf91487353@172.17.0.3
ORGANIZER;CN="ясмин джакмич":fai@fai.org.ru
DESCRIPTION:\n13 августа 1099 — П
	асхалий II избр
	ан римским па
	пой.1521 — Эр
	нан Кортес захв
	атил столицу а
	цтеков Теночт
	итлан (сейчас 
	город Мехико).
	1672 — Кристиан Г
	юйгенс обнаружил 
	ледяную шапку на
	 Южном полюсе Мар
	са.[3]1876 — От
	крытие в Б
	айройте в
	ыстроенн
	ого по ос
	обому пл
	ану музыка
	льного теат
	ра для испо
	лнения прои
	зведений Ри
	харда Вагне
	ра. В этот 
	и нескол
	ько после
	дующих дн
	ей состоя
	лось первое 
	исполнения 
	полного опе
	рного цикла
	 «Кольцо ни
	белунга».1
	899 — тел
	ефон-автома
	т патентует
	ся американ
	ским изобре
	тателем Уил
	ьямом Греем.
	1903 — туре
	цкими во
	йсками п
	одавлено Ил
	инденское в
	осстание и 
	уничтожена 
	Крушевская 
	республика.1
	905 — Норвегия 
	провела рефер
	ендум о расторж
	ении унии со Швецие
	й.1912 — французский
	 врач Г. Один объявил 
	о том\, что он пер
	вым в мире выд
	елил вирус рака
	.1913 — в Шеффилд
	е выплавляетс
	я первая нержа
	веющая сталь
	.1932 — в Риме Ма
	ркони провёл 
	первое испыта
	ние коротково
	лнового радио.
	1940Начало Бит
	вы за Британию
	.В вишистской 
	Франции запре
	щены все масон
	ские ложи.1941
	 — румыно-
	немецкие в
	ойска вышл
	и к Чёрному мо
	рю восточнее О
	дессы и полност
	ью блокировали
	 Одессу с суш
	и.1942 — пре
	мьера в Н
	ью-Йорке 
	полнометра
	жного мульт
	ипликационн
	ого фильма У
	олта Диснея
	 «Бэмби».194
	5 — всеми
	рный сион
	истский кон
	гресс потреб
	овал разрешит
	ь въезд в Пал
	естину милли
	ону евреев.19
	46Британски
	ми властям
	и начата д
	епортация 
	из Палести
	ны на Кипр
	 незаконны
	х еврейски
	х иммигран
	тов.В США с
	оздана федер
	альная комисс
	ия по изучению 
	условий жизни
	 индейцев.195
	2 — Германия 
	и Япония вошл
	и в состав 
	Междунаро
	дного валю
	тного фонда
	.1961 — Гер
	манская 
	Демократ
	ическая респ
	ублика закры
	ла границу межд
	у Западным и В
	осточным Берли
	ном.1990 — пре
	зидент СССР
	 М. С. Горб
	ачёв подп
	исал указ «О во
	сстановлении прав 
	всех жертв полити
	ческих репрессий 2
	0-50-х годов».1997 
	— правитель
	ство провинци
	и Онтарио (Кана
	да) объявило о плане закрытия семи АЭС в
	озле границы с США.
DTSTART;VALUE=DATE:20150813
END:VEVENT
END:VCALENDAR
