BEGIN:VCALENDAR
VERSION:2.0
PRODID:-//IP.Board Calendar 4.0.13.1//EN
METHOD:PUBLISH
CALSCALE:GREGORIAN
X-WR-CALNAME:В этот день в прошлом
BEGIN:VTIMEZONE
TZID:Europe/London
TZURL:http://tzurl.org/zoneinfo/Europe/London
X-LIC-LOCATION:Europe/London
BEGIN:DAYLIGHT
TZOFFSETFROM:+0000
TZOFFSETTO:+0100
TZNAME:BST
DTSTART:20150329T020000Z
RRULE:FREQ=YEARLY;BYMONTH=3;BYDAY=-1SU
END:DAYLIGHT
BEGIN:STANDARD
TZOFFSETFROM:+0100
TZOFFSETTO:+0000
TZNAME:GMT
DTSTART:20151025T020000Z
RRULE:FREQ=YEARLY;BYMONTH=10;BYDAY=-1SU
END:STANDARD
END:VTIMEZONE
BEGIN:VEVENT
SUMMARY:Развилки Дня
DTSTAMP:20150814T154147Z
SEQUENCE:0
UID:4439dc9aac7278cd720976fb5b11896d@172.17.0.3
ORGANIZER;CN="ясмин джакмич":fai@fai.org.ru
DESCRIPTION:\n14 августаДо XI
	X века1040 — Ма
	кбет убил сво
	его двоюродного
	 брата\, короля 
	Шотландии Дункан
	а в битве при Элг
	ине\, и стал новы
	м королём.1248 
	— началось 
	сооружение 
	Кёльнского с
	обора.1385 — 
	великий кн
	язь литовс
	кий Ягайло зак
	лючил Кревскую
	 унию с Польш
	ей об объеди
	нении земель.1
	457 — в Майнц
	е напечатан 
	Псалтырь — пе
	рвая книга\, на
	 которой указа
	ны имена изда
	телей.1553 — с
	хваченный п
	о приказу К
	альвина в Ж
	еневе испан
	ский врач и 
	мыслитель Миге
	ль Сервет пред
	стал перед су
	дом по обвинению
	 в ереси.1775 — л
	иквидирована
	 Запорожская Се
	чь.1790 — между
	 Россией и 
	Швецией за
	ключен Вер
	ельский мир. Э
	тот договор официаль
	но завершил Русско-шведс
	кую войну 1788—1790 годов.X
	IX век1812 — бой по
	д Красным1822 
	— издан ука
	з о запрещени
	и в России та
	йных общест
	в и закрытии
	 масонских л
	ож и взятие
	 со всех чинов
	ников подписк
	и о непринадле
	жности к тайны
	м обществам.1834 —
	 в Англии введе
	ны работные дома
	 для бедняков.18
	48 — в Канад
	е отменено
	 положени
	е\, по ко
	торому анг
	лийский пр
	изнавался 
	единственн
	ым государс
	твенным язы
	ком.1850 — 
	амурска
	я экспед
	иция под 
	руководст
	вом Геннади
	я Ивановича 
	Невельского
	 подняла русск
	ий флаг на мы
	се Куегда. Был
	 основан Никол
	аевский пост (н
	ыне город Нико
	лаевск-на-Аму
	ре)\, и Невель
	ской по св
	оей инициа
	тиве объявил о
	 присоединени
	и к России Пр
	иамурского 
	края и Сахалина
	.1880 — заверш
	ено строите
	льство Кёл
	ьнского соб
	ора.1888 — Оли
	вер Шеллен
	бергер пате
	нтует электр
	ический счёт
	чик.1893 — п
	олицейский 
	префект Парижа
	 Луи Лепин вру
	чает первые в
	одительские п
	раваXX век190
	4 — бой Вл
	адивостокск
	ого отряда кре
	йсеров с японск
	ой эскадрой в К
	орейском прол
	иве.1908 — в Ф
	олкстоне (Анг
	лия) проведё
	н первый межд
	ународный кон
	курс красоты.1
	914Первым Ге
	оргиевским 
	крестом в х
	оде первой
	 мировой во
	йны награж
	дён донско
	й казак из
	 хутора Н
	ижний Кал
	мыкос Коз
	ьма Крючк
	ов.Францу
	зское наст
	упление в Л
	отарингии. 
	Французски
	е войска пыт
	ались вторгн
	уться в Герман
	ию\, но потер
	пели пораже
	ние и отступили
	 к Парижу.Во Л
	ьвове созда
	на Главная 
	Украинская 
	Рада.1917 — 
	решением
	 Временног
	о правитель
	ства Николай Р
	оманов вместе 
	с семьёй отпр
	авлен на посе
	ление в Тобол
	ьск.1919Начала
	сь Актюбин
	ская операци
	я по разгрому
	 Южной армии
	 Колчака (гр
	ажданская 
	война в Рос
	сии) силам
	и Туркест
	анского 
	фронта п
	од коман
	дованием
	 М. В. Фр
	унзе.Бе
	логвард
	ейское 
	правите
	льство С
	еверо-За
	падной Ро
	ссии приз
	нало неза
	висимость
	 Эстонии.Опу
	бликована и 
	вступила в с
	илу Веймарск
	ая конституц
	ия Германии.192
	0Чехословак
	ия и Югослав
	ия создали М
	алую Антант
	у (вскоре к
	 ним прис
	оединила
	сь Румыни
	я).В Антв
	ерпене 
	состоялась
	 торжественн
	ая церемони
	я открытия Сед
	ьмых Олимпийск
	их игр.1930 — 
	принято по
	становление 
	ЦИК и СНК СССР 
	«О всеобщем о
	бязательном 
	начальном обу
	чении».1935 —
	 в США введена
	 система социа
	льного страхо
	вания (помощи
	 безработным).1
	936 — впервые
	 на Олимпий
	ских играх п
	редставлен
	 баскетбол.194
	1 — подписа
	ние Великоб
	ританией и 
	США Атлантиче
	ской хартии.19
	42 — нацистам
	и уничтожено
	 Ганцевичское 
	гетто.1943 — по
	дписан приказ
	 о создании л
	аборатории 
	№ 2 АН СССР
	 в Казани в
	о главе с 
	професс
	ором Иго
	рем Васи
	льевичем
	 Курчатов
	ым. Лаборат
	ория стала 
	впоследств
	ии Институто
	м атомной эн
	ергии имени И
	. В. Курчатова (
	ныне научный 
	центр «Курчат
	овский институ
	т»).1945В Москве
	 подписан советс
	ко-китайский до
	говор о дружбе 
	и союзе сроком
	 на 30 лет. Ки
	тай предс
	тавляло пр
	авительст
	во Чан Кай
	ши.Импера
	тор Японии Хи
	рохито издал ук
	аз о безоговор
	очной капитуля
	ции Японии.19
	46 — ЦК ВК
	П(б) принял
	о постанов
	ление «О 
	журналах
	 „Звезда“ и
	 „Ленинград“.
	».1947 — Пакис
	тан стал неза
	висимым госу
	дарством.195
	2 — францу
	зский эконо
	мист А. Сов
	и первым 
	использовал 
	выражение «Тр
	етий мир» в о
	тношении ра
	звивающихся с
	тран.1969 — в
	 Северную
	 Ирландию
	 введены 
	британски
	е войска 
	с целью прек
	ращения сто
	лкновений м
	ежду протес
	тантами и катол
	иками.1971 — Б
	ахрейн пров
	озгласил не
	зависимость 
	после 110-летнег
	о существован
	ия в качестве
	 британской коло
	нии.1980 — в Пол
	ьше создан п
	рофсоюз «Сол
	идарность».1
	986 — ЦК КПСС п
	остановил пре
	кратить работы
	 по переброске си
	бирских рек.1992
	Борис Ельцин
	 подписал указ\,
	 который дал с
	тарт чековой 
	приватизации в России.1994 — телеско
	п Хаббл снял кольца Урана.
DTSTART;VALUE=DATE:20150814
END:VEVENT
END:VCALENDAR
