BEGIN:VCALENDAR
VERSION:2.0
PRODID:-//IP.Board Calendar 4.0.13.1//EN
METHOD:PUBLISH
CALSCALE:GREGORIAN
X-WR-CALNAME:В этот день в прошлом
BEGIN:VTIMEZONE
TZID:Europe/London
TZURL:http://tzurl.org/zoneinfo/Europe/London
X-LIC-LOCATION:Europe/London
BEGIN:DAYLIGHT
TZOFFSETFROM:+0000
TZOFFSETTO:+0100
TZNAME:BST
DTSTART:20150329T020000Z
RRULE:FREQ=YEARLY;BYMONTH=3;BYDAY=-1SU
END:DAYLIGHT
BEGIN:STANDARD
TZOFFSETFROM:+0100
TZOFFSETTO:+0000
TZNAME:GMT
DTSTART:20151025T020000Z
RRULE:FREQ=YEARLY;BYMONTH=10;BYDAY=-1SU
END:STANDARD
END:VTIMEZONE
BEGIN:VEVENT
SUMMARY:Развилки Дня
DTSTAMP:20150816T153419Z
SEQUENCE:0
UID:927fcf49cca874ca4e372f9b75ed3a22@172.17.0.3
ORGANIZER;CN="ясмин джакмич":fai@fai.org.ru
DESCRIPTION:\n16 августаXVIII век
	1788 — Минист
	р финансов Франции
	 Л. де Бриенн объя
	вил государство 
	банкротом.XIX в
	ек1804 — В Б
	улонском лес
	у прошло пер
	вое награжд
	ение орденом П
	очётного легио
	на.1811 — Доклад
	 министра ино
	странных дел\
	, герцога де
	 Бассано\, Н
	аполеону о 
	необходимости на
	метить начало втор
	жения в Россию на июнь ме
	сяц 1812 года.1812Отеч
	ественная вой
	на 1812 года: 
	Смоленск
	ое сражен
	ие.Британс
	ко-Американ
	ская война: 
	американск
	ий генерал Уиль
	ям Халл сдал Ф
	орт Детройт без
	 боя британской
	 армии.1819 — М
	анчестерска
	я бойня\, по
	боище во в
	ремя митинга
	 с требование
	м всеобщего 
	избирательн
	ого права в Англи
	и1896 — В Клондай
	ке открыто мес
	торождение золо
	та.XX век1930 — Со
	здан первый з
	вуковой цвет
	ной мультфиль
	м.1933 —  Герма
	н Геринг запрет
	ил в Пруссии ви
	висекцию (опер
	ации на живых 
	животных).193
	8 — Испо
	лком Ком
	интерна п
	ринял реше
	ние о росп
	уске Поль
	ской комм
	унистической 
	партии в связи
	 с проникновением
	 туда фашистских аге
	нтов.1941 — В СССР 
	издан приказ № 27
	0\, в котором 
	давалось ч
	ёткое опре
	деление\, к
	ого из военно
	служащих Крас
	ной армии счита
	ть предателями
	 Родины.1945 — В
	 Москве межд
	у СССР и Польш
	ей подписан д
	оговор о сов
	етско-польской
	 границе\, в о
	снову которой была
	 положена «линия Керзон
	а»\, предложенная ещё 
	в 1919—1920 годах.195
	6 — В СССР пр
	инято постано
	вление об оро
	шении и осво
	ении целин
	ных земел
	ь.1960Кипр
	 прово
	зглашё
	н само
	стояте
	льным го
	сударст
	вом — Рес
	публикой Ки
	пр.Джозеф Кит
	тингер соверши
	л прыжок с параш
	ютом с высоты о
	коло 32 киломе
	тров. За чет
	ыре с полови
	ной минуты до от
	крытия основног
	о парашюта он раз
	вил скорость 988
	 км/ч. Однако эт
	о достижение 
	не было засч
	итано как м
	ировой рек
	орд\, так как 
	Киттингер и
	спользовал 
	небольшой с
	табилизирующ
	ий парашют.19
	76 — На больш
	ой экран вышл
	а кинокомедия Эль
	дара Рязанова «И
	рония судьбы\, 
	или С лёгким п
	аром!».1995 
	— Больш
	инство н
	аселени
	я Бермудс
	ких остро
	вов на ре
	ферендум
	е проголо
	совали проти
	в независимос
	ти и за сохран
	ение статуса б
	ританской колон
	ии.1996 — После
	 года плена э
	кипаж В. Шар
	патова\, пр
	инудительн
	о посаженног
	о на аэродром
	 вблизи города К
	андагар в Афганистане\, совершил побе
	г на своём самолёте
DTSTART;VALUE=DATE:20150816
END:VEVENT
END:VCALENDAR
