BEGIN:VCALENDAR
VERSION:2.0
PRODID:-//IP.Board Calendar 4.0.13.1//EN
METHOD:PUBLISH
CALSCALE:GREGORIAN
X-WR-CALNAME:В этот день в прошлом
BEGIN:VTIMEZONE
TZID:Europe/London
TZURL:http://tzurl.org/zoneinfo/Europe/London
X-LIC-LOCATION:Europe/London
BEGIN:DAYLIGHT
TZOFFSETFROM:+0000
TZOFFSETTO:+0100
TZNAME:BST
DTSTART:20150329T020000Z
RRULE:FREQ=YEARLY;BYMONTH=3;BYDAY=-1SU
END:DAYLIGHT
BEGIN:STANDARD
TZOFFSETFROM:+0100
TZOFFSETTO:+0000
TZNAME:GMT
DTSTART:20151025T020000Z
RRULE:FREQ=YEARLY;BYMONTH=10;BYDAY=-1SU
END:STANDARD
END:VTIMEZONE
BEGIN:VEVENT
SUMMARY:Развилки Дня
DTSTAMP:20150816T154017Z
SEQUENCE:0
UID:f086e7b490914e446a35c229c3dad880@172.17.0.3
ORGANIZER;CN="ясмин джакмич":fai@fai.org.ru
DESCRIPTION:\n17 августаДо XI
	X века1502 — Хри
	стофор Колу
	мб объявил Го
	ндурас собств
	енностью Испани
	и.1771 — английск
	ий учёный Дж. Пр
	истли открыл ф
	отосинтез\, обна
	ружив\, что воз
	дух\, испорче
	нный горение
	м или дыхани
	ем\, станови
	тся вновь приг
	одным для дыхани
	я под действием з
	еленых частей ра
	стений.XIX век18
	06 — шлюп «
	Нева» под
	 командован
	ием Юрия Лис
	янского бро
	сил якорь н
	а Кронштадтско
	м рейде\, заве
	ршив первое 
	русское круг
	осветное плав
	ание.1807 — Р
	оберт Фултон от
	правился в плавание на перво
	м американском пароходе «North 
	River Steamboat».1812Сраж
	ение под 
	Смоленск
	омПервое
	 сражение
	 под Поло
	цкомИмпе
	ратор Алек
	сандр I на
	значил г
	лавнокоманду
	ющим всеми р
	усскими арми
	ями и ополче
	нием Михаила 
	Кутузова.1892 —
	 Заключение тайн
	ой военной конв
	енции России и
	 Франции.XX век19
	03 — Джозеф П
	улитцер учр
	едил Пулитце
	ровскую премию
	.1933 — Испытана 
	первая советс
	кая ракета на
	 жидком топливе.
	1934 — Первый В
	сесоюзный с
	ъезд писателей
	 СССР.1939 — От
	крытое письм
	о Фёдора Рас
	кольникова 
	Сталину.1945 — 
	Индонезия о
	бъявила о н
	езависимост
	и от Нидерл
	андов.1950 
	— Респу
	блика С
	оединё
	нные Шт
	аты Ин
	донезии пр
	еобразован
	а в унитарно
	е государст
	во — Республ
	ику Индонезию
	.1958 — Лидер К
	итая Мао Цзэд
	ун объявил на
	чало политики
	 «большого скачка
	».1960 — Габон объ
	явил о независ
	имости от Франци
	и.1961 — В СССР со
	здана система Граж
	данской обороны.1962 — Первый
	 убитый (Петер Фехтер (Pet
	er Fechter)) при попытк
	е перехода Бе
	рлинской стен
	ы.1965 — Вьетнам
	ская война: на полуо
	строве Вантыонг на
	чалась операция «St
	arlite»\, первая круп
	ная наземная о
	перация войск 
	США во Вьетнаме.1
	970 — Программа
	 «Венера»: зап
	уск аппарата 
	Венера-7\, п
	ервого усп
	ешно переда
	вшего данные
	 с поверхнос
	ти другой пл
	анеты — Вен
	еры.1977Совет
	ский атом
	ный ледок
	ол «Арктика»
	 первым из над
	водных корабле
	й достиг Север
	ного полюса Земли.1
	978На вооружение ВВС 
	США принят истребит
	ель F-16.Дабл Игл 
	II стал первым
	 воздушным ш
	аром\, пересё
	кшим Атлантиче
	ский океан\, призем
	лившись возле Пар
	ижа через 137 часо
	в после взлёта.
	1991 — На секр
	етном совещан
	ии в Москве прин
	ято решение о на
	чале действий ГК
	ЧП 18 августа1998
	Президент С
	ША Билл Клин
	тон дал пок
	азания бол
	ьшому жюри
	 о своих о
	тношения
	х с Монико
	й Левинск
	и.Правите
	льство Р
	оссийско
	й Федераци
	и объявляет де
	фолт. Начало о
	чередного эконом
	ического кризиса в 
	РФ.1999Землетрясен
	ие в Турции сил
	ой 7\,8 балла 
	по шкал
	е Рихте
	ра.Ликви
	дировано
	 Киевское 
	высшее инж
	енерное рад
	иотехническо
	е училище ПВО стра
	ны им. маршала ав
	иации А. И. Пок
	рышкина (КВИРТУ
	 ПВО).2000 — Ам
	ериканская
	 певица Тина Тернер дала свой
	 последний большой концерт в Европе.
DTSTART;VALUE=DATE:20150817
END:VEVENT
END:VCALENDAR
