BEGIN:VCALENDAR
VERSION:2.0
PRODID:-//IP.Board Calendar 4.0.13.1//EN
METHOD:PUBLISH
CALSCALE:GREGORIAN
X-WR-CALNAME:В этот день в прошлом
BEGIN:VTIMEZONE
TZID:Europe/London
TZURL:http://tzurl.org/zoneinfo/Europe/London
X-LIC-LOCATION:Europe/London
BEGIN:DAYLIGHT
TZOFFSETFROM:+0000
TZOFFSETTO:+0100
TZNAME:BST
DTSTART:20150329T020000Z
RRULE:FREQ=YEARLY;BYMONTH=3;BYDAY=-1SU
END:DAYLIGHT
BEGIN:STANDARD
TZOFFSETFROM:+0100
TZOFFSETTO:+0000
TZNAME:GMT
DTSTART:20151025T020000Z
RRULE:FREQ=YEARLY;BYMONTH=10;BYDAY=-1SU
END:STANDARD
END:VTIMEZONE
BEGIN:VEVENT
SUMMARY:Развилки Дня
DTSTAMP:20150817T082517Z
SEQUENCE:0
UID:bd176fe08f2300d366e1ee874aa464c7@172.17.0.3
ORGANIZER;CN="ясмин джакмич":fai@fai.org.ru
DESCRIPTION:\n18 августаДо XVIII
	 века293 до н. э.
	 — Основан 
	самый древний (
	из известных)
	 римский храм 
	в честь боги
	ни Венеры.1
	304 — Сос
	тоялась
	 битва 
	при Мо
	нс-ан
	-Пев
	еле 
	между
	 франц
	узской
	 армией
	 Филип
	па Крас
	ивого 
	и флам
	андским
	и повстанц
	ами. Итого
	м битвы стал 
	унизительный дл
	я ФландрииАтисс
	кий мир\, заклю
	чённый в 1305 г
	оду.1572 — С
	вадьба 
	Маргарит
	ы Валуа и
	 Генриха
	 Наваррск
	ого.1649 — 
	Богдан Х
	мельницк
	ий заключил 
	с поляками Зб
	оровский дого
	вор\, сузивш
	ий казачьи воль
	ности.1682 — На прест
	ол Царства Русско
	го вступил Пётр I
	.XVIII век1743 — В 
	Або заключ
	ён мирный 
	договор м
	ежду Россией и
	 Швецией\, по
	 которому Р
	оссии ото
	шла часть 
	Финляндии.
	1782 — В Санкт
	-Петербурге 
	открыт памят
	ник Петру I «
	Медный всадни
	к».1787 — В П
	етербурге с
	остоялась п
	ервая в ист
	ории Росс
	ии рабочая д
	емонстрация
	 — 400 строи
	телей принесли ж
	алобу Екатерине 
	II на своего на
	нимателя Дол
	гова.XIX век1826 
	— Шотландский исследовате
	ль Александер Гордон Лэинг (Al
	exander Gordon Laing) первы
	м из европе
	йцев дост
	иг древне
	го город
	а Томбук
	ту на берегу 
	Нигера.1845 
	— Учрежден
	о Русское ге
	ографическое
	 общество.1862 — 
	В Миннесоте 
	(США) началас
	ь война с и
	ндейцами 
	сиу.1868 — 
	Француз
	ский а
	строном 
	Пьер Жансе
	н обнаружи
	л в солнеч
	ном спект
	ре новый
	 элемен
	т — г
	елий.187
	7 — аме
	риканск
	ий астр
	оном А
	саф Хол
	л откр
	ыл спу
	тник Ма
	рса — Фо
	бос.1900 
	— Русский
	 инженер Кон
	стантин Перс
	кий предложил с
	лово «телевидени
	е».XX век1902 — Знам
	енитый побег 9
	 агентов газет
	ы «Искра» (Н. Э. Б
	ауман\, Литвино
	в\, Пятницкий\,Гал
	ьперин и др.) и 1 
	эсера из Лу
	кьяновской тюр
	ьмы.1920 — Ра
	тифицирова
	на 19-я поп
	равка к конс
	титуции США\, 
	предоставив
	шая право г
	олосовать
	 женщинам.
	1945 — Ко
	миссия
	 по по
	дгото
	вке н
	езависи
	мости Ин
	донезии 
	избрала
	 первым 
	президен
	том стран
	ы Ахмеда Су
	карно\, вице
	-президент
	ом — Мохам
	меда Хатта. 
	Кроме того\, 
	Комиссией б
	ыла принят
	а временна
	я констит
	уция Индо
	незии.1968
	 — Ру
	ководств
	о стран Ва
	ршавского 
	договора о
	добрило ввод в
	ойск в Чехосло
	вакию.1976 — С
	оветская стан
	ция «Луна-24»
	 совершает
	 посадку на 
	поверхность Л
	уны.1983 — Урага
	н «Алиша» пронёсс
	я по Техасу\, погибло
	 22 человека\, уще
	рб оценён в 1
	 миллиард
	 долларов.199
	1 — Михаил Горбачёв взят под домаш
	ний арест в Форосе (Крым).
DTSTART;VALUE=DATE:20150818
END:VEVENT
END:VCALENDAR
