BEGIN:VCALENDAR
VERSION:2.0
PRODID:-//IP.Board Calendar 4.0.13.1//EN
METHOD:PUBLISH
CALSCALE:GREGORIAN
X-WR-CALNAME:В этот день в прошлом
BEGIN:VTIMEZONE
TZID:Europe/London
TZURL:http://tzurl.org/zoneinfo/Europe/London
X-LIC-LOCATION:Europe/London
BEGIN:DAYLIGHT
TZOFFSETFROM:+0000
TZOFFSETTO:+0100
TZNAME:BST
DTSTART:20150329T020000Z
RRULE:FREQ=YEARLY;BYMONTH=3;BYDAY=-1SU
END:DAYLIGHT
BEGIN:STANDARD
TZOFFSETFROM:+0100
TZOFFSETTO:+0000
TZNAME:GMT
DTSTART:20151025T020000Z
RRULE:FREQ=YEARLY;BYMONTH=10;BYDAY=-1SU
END:STANDARD
END:VTIMEZONE
BEGIN:VEVENT
SUMMARY:Развилки Дня
DTSTAMP:20150818T114053Z
SEQUENCE:0
UID:b46a8177f163754c478a662f1a791e8a@172.17.0.3
ORGANIZER;CN="ясмин джакмич":fai@fai.org.ru
DESCRIPTION:\n19 августаДо X
	IX века1071 — М
	ежду арми
	ями импе
	ратора 
	Романа I
	V Диоге
	на и сель
	джукского 
	султана Ал
	п-Арслана с
	остоялась би
	тва при Манцик
	ерте.1687 — В
	 Березове Ол
	онецкого уе
	зда России 
	более тысяч
	и человек с
	ожгли себя в 
	знак проте
	ста против
	 перехода
	 на трёх
	перстн
	ое крещ
	ение1692 — 
	В Масса
	чусетсе 
	в Салеме 
	за колдо
	вство пове
	шены пять ж
	енщин.1745
	 — «кр
	асавчик
	 принц Чар
	ли» высад
	ился с францу
	зского кораб
	ля в Гленфин
	нане\,Шотланд
	ия.1772 — Густав
	 III арестовал чл
	енов государствен
	ного совета Швеции
	.XIX век1812 — Бой
	 у Валутиной 
	горы.1839Ф
	ранцузск
	ое прави
	тельств
	о объяви
	ло об из
	обрете
	нии «Даге
	ротипа» —
	 прибора\, 
	воспрои
	зводяще
	го изоб
	ражения
	 предме
	товВ 19 км 
	к югу о
	т Санкт-Петерб
	урга открыта Пулковская о
	бсерватория.1848 — Газета 
	«The New York Herald» опуб
	ликовала пе
	рвое сообще
	ние о найденном в 
	Калифорнии золоте.18
	56 — Американец Гей
	л Борден (Gail Borden)
	 запатен
	товал спо
	соб получ
	ения сгущ
	ённого моло
	ка.1874 — Те
	льняшка утве
	рждена в каче
	стве формы мат
	росов на русс
	ком флоте.1
	887 — Под
	нявшись
	 на воздушн
	ом шаре\, Дми
	трий Мендел
	еев наблюдал
	 солнечное з
	атмение.XX ве
	к1903 — Ше
	стой Си
	онистск
	ий съез
	д в Баз
	еле рас
	кололся
	 при обсужд
	ении предло
	жения осно
	вать Евре
	йское гос
	ударство
	 в Уганд
	е.1913 —
	 Лиде
	р бр
	итан
	ских
	 суф
	ражис
	ток С
	ильвия П
	анкхёрст 
	посоветова
	ла соратни
	цам изучать
	 искусство 
	джиу-джитс
	у\, чтобы с че
	стью проти
	востоять в 
	будущих с
	толкновен
	иях полиции
	.1923 — первое
	 советское н
	аучно-исследова
	тельское судно\
	, «Персей»\, в
	ышло в сво
	й первый р
	ейс.1925 
	— Отк
	рылас
	ь Всерос
	сийская 
	сельскохо
	зяйственна
	я и кустарно
	-промышленна
	я выставка\, 
	проходивша
	я на месте
	 парка им. Го
	рького в М
	оскве. Выс
	тавка яв
	лялась п
	редшест
	венницей
	 ВДНХ.194
	4 — Ал
	ександр Ива
	нович Покры
	шкин стал 
	первым тр
	ижды Герое
	м Советск
	ого Союза
	.1945Слож
	ила о
	ружи
	е яп
	онская
	 Квантунс
	кая армия в
	 Манчжурии.
	Вьетнамские 
	коммунисты за
	няли Ханой.196
	0 — Первый в
	 истории полё
	т в космос ж
	ивых сущест
	в с успешным
	 возвращением н
	а Землю: в ССС
	Р был выведе
	н на орбиту «Сп
	утник-5». 20 авг
	уста он бла
	гополучно воз
	вратился на Землю.1
	979 — Посадка кос
	мического кор
	абля Союз-34.
	1981В ходе у
	чений ВМ
	С США у 
	берегов
	 Ливии аме
	риканскими п
	ерехватчикам
	и F-14 сбиты 
	два ливийск
	их самолёт
	аСу-22.В с
	оставе
	 Перво
	го Глав
	ного упр
	авления КГ
	Б СССР соз
	дана Групп
	а специаль
	ного назначения «
	Вымпел».1982 — 
	Запуск косм
	ического ко
	рабля Союз Т-7
	.1991 — Попыт
	ка государс
	твенного переворота (ГКЧП)\, н
	аправленного на сохранение СССР. \n
DTSTART;VALUE=DATE:20150819
END:VEVENT
END:VCALENDAR
