BEGIN:VCALENDAR
VERSION:2.0
PRODID:-//IP.Board Calendar 4.0.13.1//EN
METHOD:PUBLISH
CALSCALE:GREGORIAN
X-WR-CALNAME:В этот день в прошлом
BEGIN:VTIMEZONE
TZID:Europe/London
TZURL:http://tzurl.org/zoneinfo/Europe/London
X-LIC-LOCATION:Europe/London
BEGIN:DAYLIGHT
TZOFFSETFROM:+0000
TZOFFSETTO:+0100
TZNAME:BST
DTSTART:20150329T020000Z
RRULE:FREQ=YEARLY;BYMONTH=3;BYDAY=-1SU
END:DAYLIGHT
BEGIN:STANDARD
TZOFFSETFROM:+0100
TZOFFSETTO:+0000
TZNAME:GMT
DTSTART:20151025T020000Z
RRULE:FREQ=YEARLY;BYMONTH=10;BYDAY=-1SU
END:STANDARD
END:VTIMEZONE
BEGIN:VEVENT
SUMMARY:Развилки Дня
DTSTAMP:20150819T100557Z
SEQUENCE:0
UID:29be3370e07e952e2f91df9702812c79@172.17.0.3
ORGANIZER;CN="ясмин джакмич":fai@fai.org.ru
DESCRIPTION:\n20 авгу
	ста 161
	9 — Гол
	ландски
	й корабль
	 доставил 
	в Америку
	 первых 2
	0 африк
	анских негр
	ов\, которы
	е были пр
	оданы в
	 рабств
	о обита
	телям Дже
	ймстауна.163
	4 — В Мос
	кве Васи
	лием Бур
	цовым из
	дан перв
	ый буква
	рь.1667 — Оп
	убликован
	а эпическа
	я поэма Д
	жона Мильто
	на «Потерян
	ный рай».1672 
	— «Год бедс
	твий» в Нид
	ерландах: у
	личные бес
	порядке в Гааге
	\, в ходе кот
	орых пог
	иб вели
	кий пенсио
	нарий Ян де
	 Витт.1704
	 — Ш
	турмо
	м взят
	а шведска
	я крепость
	 Нарва.1721 
	— Пущены
	 фонтаны
	 и каскад
	ы Петергоф
	а.1741 — О
	ткрыти
	е перв
	ым русским
	 мореплава
	телем капи
	тан-команд
	ором Витусо
	м Берингом 
	Аляски.1794
	 — «битв
	а у пова
	ленных
	 деревьев» 
	между амери
	канскими пос
	еленцами и с
	оюзом индей
	ских племён.
	1806 — Вслед
	 за «Невой
	» из перв
	ого русск
	ого круг
	осветного
	 плавания
	 вернулся до
	мой шлюп «
	Надежда»
	 под кома
	ндовани
	емИ. Ф. Кру
	зенштерна
	.1809 — Ар
	естова
	нный фра
	нцузами 
	папа римс
	кий Пий V
	II преп
	ровож
	ден из
	 Савон
	ы в Грен
	обль.В ход
	е русско-
	шведской 
	войны сост
	оялось сраже
	ние при Рата
	не.1829 — Р
	усско-ту
	рецкая войн
	а: русские 
	войска пе
	решли Ба
	лканы и зан
	яли Адриан
	ополь.1857
	 — ска
	ндал в
	округ 
	публи
	кации
	 «Цве
	тов з
	ла»:
	 на Бод
	лера на
	ложен ш
	траф за
	 «оскорб
	ление об
	ществен
	ной нра
	вственно
	сти».186
	8 — В
	 США
	 спе
	циаль
	ным пр
	езидентс
	ким указом
	 официальн
	о провозглаш
	ено окончание 
	Войны Севера и 
	Юга.1876 — Ре
	зня армян 
	в Турции.18
	82 — в х
	раме Христа
	 Спасителя впе
	рвые исполнен
	а увертюра П.
	 И. Чайковского
	 «1812 год»1896 
	— Запате
	нтован т
	елефон с
	 наборным ди
	ском.1897 —
	 Рональ
	д Росс о
	бнаружи
	вает воз
	будител
	ей маляр
	ии.1906 
	— В П
	етерб
	урге о
	фициальн
	о зарегистр
	ировано соз
	дание черн
	осотенного
	 Союза рус
	ского народа.
	1914 — Русск
	ие войск
	а разбили
	 немцев под Г
	умбинненом.191
	6 — Австри
	йские деши
	фровальщики в 
	течение 38 ч
	асов взл
	омали н
	овый шиф
	р италья
	нской армии.1
	918 — Стра
	нами Ант
	анты при
	знаны Лат
	вия\, Лит
	ва и Эс
	тония.1
	918 —
	 В 
	Сов
	етской
	 России
	 отмен
	ена час
	тная со
	бствен
	ность 
	на недв
	ижимость
	 в городах.1
	918 — Обра
	зование 
	издател
	ьства «В
	семирная 
	литерату
	ра».1922 — Из
	 Москвы н
	ачата широ
	ковещател
	ьная трансля
	ция радиоперед
	ач.1925 — Отк
	рыта первая 
	линия Римск
	ого метро.193
	0 — Высшее
	 аэромеха
	ническое уч
	илище\, со
	зданное 
	на базе 
	аэроме
	ханичес
	кого факуль
	тета МВТУ\,
	 преобразов
	ано в Моск
	овский авиа
	ционный инст
	итут.1934 — 
	Объявлени
	е об обмен
	е партийн
	ых билетов.
	 Обмен бил
	етов проходил
	 под лозунгом
	 наведения п
	орядка в ст
	руктуре пар
	таппарата.19
	39 — Операц
	ия советск
	о-монгольских
	 войск по разг
	рому японск
	их войск в р
	айоне реки 
	Халхин-Гол.1
	940 — Лев Т
	роцкий смер
	тельно ранен в
	 Мехико. Сконча
	лся на следующи
	й день.Арест Н
	. И. Вавилова
	.1941 — Втор
	ая миров
	ая война
	: Гитлер
	 отдал р
	аспоряже
	ние о на
	чале р
	азрабо
	тки рак
	ет «Фау
	».Отступ
	авшей со
	ветской 
	армией 
	взорван 
	Днепрогэ
	с.Команд
	ир танк
	а КВ-1 
	Зинови
	й Григ
	орьеви
	ч Колоба
	нов в бою 
	под Войсков
	ицами уничтож
	ил немецкую танк
	овую колонну из
	 22 танков и в
	ошёл в исто
	рию как од
	ин из самых у
	спешных сов
	етских танков
	ых асов Второй
	 мировой войн
	ы.1945 — Для
	 «руково
	дства все
	ми работ
	ами по и
	спользов
	анию вну
	триатомн
	ой энерги
	и урана» 
	создан Специ
	альный коми
	тет при Гос
	ударственн
	ом Комитет
	е Обороны 
	СССР.1945 — П
	резидиум 
	Верховно
	го Совета
	 СССР рат
	ифицирова
	л Устав О
	ОН.1951 — В 
	СССР созд
	ано ДОСААФ (Доб
	ровольное обще
	ство содействия
	 армии\, авиаци
	и и флоту).
	1953 — Советс
	кий Союз об
	ъявил об ус
	пешных исп
	ытаниях во
	дородной бомбы.1956
	 — Начала действова
	ть ядерная электрост
	анция «Calder Hall»\, пе
	рвая ядерная
	 электростанц
	ия Британии.19
	60 — На Зе
	млю вперв
	ые вернул
	ись запу
	щенные в 
	космос ж
	ивые суще
	ства — с
	обаки Бел
	ка и Стрел
	ка.Сенегал об
	ъявил о своё
	м выходе и
	з федератив
	ного госуда
	рства с Мал
	и.1964 — О
	снова
	н Инт
	елсат —
	 компания\,
	 владеющ
	ая групп
	ировкой т
	елекоммун
	икационны
	х спутнико
	в.1968 — На
	чало о
	перации «
	Дунай»: в
	ойска ст
	ран Варш
	авского 
	договор
	а вошли в
	 Чехослова
	кию.1975 — П
	рограмма 
	«Викинг»:
	 НАСА за
	пустило В
	икинг-1 на
	 Марс.1977 — Пр
	ограмма «Вояджер
	»: США запустили 
	космический кораб
	ль Voyager 2 для иссл
	едования 
	дальних п
	ланет Со
	лнечной 
	системы
	.1980 — 
	Ита
	льян
	ский 
	альпи
	нист 
	Райнхо
	льд Ме
	сснер 
	впервы
	е покор
	ил Эверест 
	в одиночку
	 без испо
	льзовани
	я дыхатель
	ной кислор
	одной маски
	.1983 — СШ
	А ввел
	и эмбар
	го на поста
	вку в СССР
	 оборудов
	ания для 
	строительст
	ва трубопроводов.1988
	 — закончилась 
	ирано-иракская во
	йна (1980—1988).19
	91 — Эс
	тония про
	возгласила
	 свою незав
	исимость о
	т СССР.Нес
	остоявшее
	ся событие:
	 в Москве п
	ять сове
	тских р
	еспубл
	ик — Ро
	ссия\, К
	азахста
	н\, Узбе
	кистан\
	, Белор
	уссия и
	 Таджик
	истан — д
	олжны был
	и подпис
	ать новы
	й Союзны
	й договор
	.Второй д
	ень пут
	ча. В Ле
	нинград
	е на Дв
	орцовой 
	площади 
	и в Москве
	 у Белого до
	ма прошли гр
	андиозные мит
	инги протеста
	 против ГКЧП.1
	998 — В отве
	т на тера
	кты прот
	ив амери
	канских
	 посольс
	тв в Афр
	ике ВМ
	С США а
	такуют
	 крыла
	тыми р
	акета
	ми пр
	едпо
	лагае
	мые о
	бъект
	ы тер
	рори
	стич
	еской
	 инфр
	аструк
	туры в Су
	дане и А
	фганистан
	е.Верховный
	 суд Канады
	 принял реш
	ение о том\
	, что Квеб
	ек не може
	т в одностороннем порядк
	е принимать решение об отделении от Кан
	ады.
DTSTART;VALUE=DATE:20150820
END:VEVENT
END:VCALENDAR
