BEGIN:VCALENDAR
VERSION:2.0
PRODID:-//IP.Board Calendar 4.0.13.1//EN
METHOD:PUBLISH
CALSCALE:GREGORIAN
X-WR-CALNAME:В этот день в прошлом
BEGIN:VTIMEZONE
TZID:Europe/London
TZURL:http://tzurl.org/zoneinfo/Europe/London
X-LIC-LOCATION:Europe/London
BEGIN:DAYLIGHT
TZOFFSETFROM:+0000
TZOFFSETTO:+0100
TZNAME:BST
DTSTART:20150329T020000Z
RRULE:FREQ=YEARLY;BYMONTH=3;BYDAY=-1SU
END:DAYLIGHT
BEGIN:STANDARD
TZOFFSETFROM:+0100
TZOFFSETTO:+0000
TZNAME:GMT
DTSTART:20151025T020000Z
RRULE:FREQ=YEARLY;BYMONTH=10;BYDAY=-1SU
END:STANDARD
END:VTIMEZONE
BEGIN:VEVENT
SUMMARY:Развилки Дня
DTSTAMP:20150820T192721Z
SEQUENCE:0
UID:14269990a7c98da91807576fccfe8586@172.17.0.3
ORGANIZER;CN="ясмин джакмич":fai@fai.org.ru
DESCRIPTION:\n21 августаДо XIX
	 века1192 —
	 В Япони
	и власть им
	ператора сме
	нилась власт
	ью сёгуна — г
	лавнокомандующ
	его.1560 — 13-ле
	тний датс
	кий мальчи
	к Тихо Браге
	 изучал юри
	спруденцию
	 в универси
	тете Копенг
	агена. Но в э
	тот день про
	изошло предс
	казанное полно
	е солнечное зат
	мение\, и этот ф
	акт так порази
	л подростка\, 
	что после дне
	вных занятий
	 он по ночам
	 стал изуча
	ть звёздное не
	бо и стал самым 
	знаменитым аст
	рономом своего 
	времени.XIX ве
	к1810 — Нап
	олеоновский 
	маршал Жан Бе
	рнадот избра
	н наследником
	 шведского пр
	естола.1828 
	— Между р
	усскими в
	ойсками п
	од командо
	ванием ген
	ерала Паске
	вича и туре
	цкой армией К
	иос-Магомет-па
	ши произошло с
	ражение у крепос
	ти Ахалцих.1831 — В США начал
	ось восстание Ната Тёрнер
	а (Nat Turner).1860 — В Брита
	нской Колумбии 
	(Канада) найдено з
	олото.1877 — Нач
	ало атаки тур
	ецкой армии 
	на Шипку.1886 — 
	Свергнут бо
	лгарский княз
	ь Александр Б
	аттенберг.ХХ 
	век1902 — Осн
	ован «Кади
	ллак»\, от
	деление к
	онцерна «Д
	женерал Мо
	торс» по в
	ыпуску легк
	овых автомоб
	илей класса «л
	юкс». Звучное н
	азвание дано в
	 память об Антуан
	е да Ла Мотт Кад
	иллаке\, основа
	теле города Детр
	ойта.1911 — Из Л
	увра похищен
	 портрет Моны
	 Лизы. Через 
	два года к
	артина сл
	учайно был
	а обнаруже
	на во Флор
	енции. Зад
	ержанный 
	позднее п
	охитител
	ь по имен
	и Винче
	нцо Перуд
	жия объяс
	нил содея
	нное жела
	нием восста
	новить справе
	дливость\, вернув
	 Италии украденны
	й Наполеоном I шед
	евр (он не знал\, чт
	о картину купил у
	 самого Да Винчи ко
	роль Франциск).19
	14:Ян Нагурск
	ий вместе с 
	механиком Е
	. Кузнецовы
	м на гидро
	самолёте с
	овершил пер
	вый в Арктик
	е полёт вдоль
	 западного п
	обережья Но
	вой Земли.В
	 бою у Ярос
	лавиц во в
	ремя солнеч
	ного затмен
	ия русская 
	кавалерия раз
	била австрийску
	ю.1915 — Завершила
	сь Моонзундская о
	перация.1923 — В 
	СССР создан 
	Госплан.1932 — 
	В Венеции сос
	тоялся первый
	 международный
	 кинофестиваль.1
	937:В СССР казне
	ны лидеры компа
	ртии Польши.СС
	СР и Китай по
	дписали пакт
	 о ненападен
	ии.1942 — Не
	мецкими с
	олдатами 
	Дивизии «Э
	дельвейс» у
	становлен фла
	г со свастикой на
	 вершине Эльбруса
	 в ходе Битвы за 
	Кавказ. Зимой 
	1944 года его
	 снимет ко
	манда альпин
	истов под руко
	водством Гусев
	а и водрузит со
	ветский стяг.1943 
	— В СССР было пр
	инято Постановл
	ение СНК и ЦК Р
	КП(б) № 901 об о
	бразовании
	 суворовски
	х и нахимов
	ских военных
	 училищ\, в к
	отором пре
	дусматрива
	лось «для устр
	ойства\, обуч
	ения и восп
	итания детей 
	воинов Красно
	й Армии\, парт
	изан Отечест
	венной войны\, 
	а также детей 
	советских и п
	артийных рабо
	тников\, рабочи
	х и колхозни
	ков\, погиб
	ших от рук
	 немецких о
	ккупантов\,
	 организов
	ать… девять 
	суворовских воен
	ных училищ\, типа ст
	арых кадетских корпусов
	\, по 500 человек в каждом\
	, всего 4500 человек 
	со сроком обуче
	ния 7 лет\, с за
	крытым панс
	ионом для в
	оспитанни
	ков…».1944 — 
	В Думбартон-
	Оксе открыла
	сь конференци
	я представите
	лей США\, ССС
	Р и Англии п
	о вопросу о 
	создании м
	еждународно
	й организации 
	безопасности.1945
	 — США прекрати
	ли поставки в ССС
	Р по ленд-лизу.19
	47 — СССР наложил
	 вето на вступлени
	е в ООН Италии и А
	встрии.1948 — Ан
	глия заявила\, чт
	о наложит вето 
	на вступлени
	е в ООН Изра
	иля.1957 —
	 Первый ус
	пешный зап
	уск межкон
	тинентально
	й баллистическ
	ой ракеты Р-7 кон
	струкции С. П. 
	Королёва с двигат
	елями В. П. Глушко.19
	59 — Гавайи получи
	ли статус 50-го ш
	тата США.1965 — На
	 орбиту выведе
	н космический 
	корабль «Джеми
	ни-5».1965 — В ан
	глийском футб
	оле впервые ра
	зрешены замены
	 в ходе матча (перв
	ым игроком\, выш
	едшим на заме
	ну стал Кейт
	 Пикок).1965 — 
	Румыния пр
	овозглашен
	а социалист
	ическим гос
	ударством.1
	968 — В Че
	хословакию 
	введены вой
	ска стран Ор
	ганизации Ва
	ршавского до
	говора.1981 —
	 Учёные впервы
	е сообщили об
	 угрозе глобал
	ьного потепления
	 на Земле.1986 — 
	СССР официал
	ьно объявил 
	о том\, что 
	катастрофа 
	на Чернобы
	льской АЭС выз
	вана халатностью пер
	сонала.1989 — Исследов
	ательский зонд Voyager 2
	 делает снимки Тр
	итона\, спутника
	 Нептуна.1991:
	Крах ГКЧП.Лат
	вия объявила
	 о восстанов
	лении своей
	 независимост
	и.1993 — По неизвестной п
	ричине потерян космический корабль Mars Obs
	erver.
DTSTART;VALUE=DATE:20150821
END:VEVENT
END:VCALENDAR
