BEGIN:VCALENDAR
VERSION:2.0
PRODID:-//IP.Board Calendar 4.0.13.1//EN
METHOD:PUBLISH
CALSCALE:GREGORIAN
X-WR-CALNAME:В этот день в прошлом
BEGIN:VTIMEZONE
TZID:Europe/London
TZURL:http://tzurl.org/zoneinfo/Europe/London
X-LIC-LOCATION:Europe/London
BEGIN:DAYLIGHT
TZOFFSETFROM:+0000
TZOFFSETTO:+0100
TZNAME:BST
DTSTART:20150329T020000Z
RRULE:FREQ=YEARLY;BYMONTH=3;BYDAY=-1SU
END:DAYLIGHT
BEGIN:STANDARD
TZOFFSETFROM:+0100
TZOFFSETTO:+0000
TZNAME:GMT
DTSTART:20151025T020000Z
RRULE:FREQ=YEARLY;BYMONTH=10;BYDAY=-1SU
END:STANDARD
END:VTIMEZONE
BEGIN:VEVENT
SUMMARY:Развилки дня
DTSTAMP:20150507T111109Z
SEQUENCE:0
UID:42a8f3b55fd001c76532e5545a237bdf@172.17.0.3
ORGANIZER;CN="ясмин джакмич":fai@fai.org.ru
DESCRIPTION:\n6 мая До XIX век
	а    1312 — В
	енский собо
	р одобрил намере
	ние папы римско
	го объявить крес
	товый поход.\n 
	   1527 — Нем
	ецкие ланд
	скнехты\, в
	збунтовавш
	иеся вследс
	твие долгой н
	еуплаты жаловани
	я\, взяли штурмом и
	 разграбили Рим. Пап
	е Клименту VII удал
	ось спастись.\n    1626 — Го
	лландский колонист Пет
	ер Минёйт (Peter Minuit
	) приобрёл у 
	индейцев Манхэтте
	н за горсть бижутер
	ии стоимостью 25 дол
	ларов. В 1664 году 
	власть перешл
	а к англичанам\,
	 которые создали и
	з\nпоселений остро
	ва город Нью-Йорк.
	\n    1686 — заключ
	ён «Вечный мир» м
	ежду Россией и Р
	ечью Посполитой
	.\n    1715 — Изд
	ан Артику
	л воински
	й — первый в
	оенно-уголовный
	 и уголовно-процесс
	уальный кодекс России.\n 
	   1757 — Битва под Пра
	гой.\n    1782 - Р
	усский оф
	ицер Павел
	 Бибиков пр
	иговорён к пож
	изненному заключен
	ию за критику князя
	 Потёмкина.XIX век\
	n    1840 — Офиц
	иальная дата в
	ыпуска в обращение
	 первой почтовой марк
	и («Чёрный пенни»).\n 
	   1861 — Арканзас стал 9-
	м штатом\, отделивш
	имся от США.\n    1
	881 — К России пр
	исоединена Ахал-Т
	екинская земля (ны
	не часть Туркмении).\
	n    1889 — Всемирная выс
	тавка в Париже (по 6 
	ноября).\n    1890
	 — Церковь мормо
	нов отказалась от м
	ногожёнства.XX век  
	  1904 — На станц
	ии Кучино\, под
	 Москвой\, отк
	рыт Аэродин
	амический и
	нститут (будущи
	й ЦАГИ)\, основател
	ем которого являет
	ся профессор Н. Е
	. Жуковский.\n 
	   1906 — О
	публикованы 
	«Основные госуда
	рственные законы
	 Российской импер
	ии».\n    1910 —
	 Георг V с
	тановитс
	я королё
	м Соедин
	ённого К
	оролевс
	тва Велик
	обритании
	 и Ирланди
	и и Соединённог
	о Королевства В
	еликобритании и
	 Северной Ирланд
	ии.\n    1914 —
	 В британ
	ском пар
	ламенте 
	палатой 
	лордов о
	тклонён зак
	онопроект о пре
	доставлении же
	нщинам равного 
	права голоса.\
	n    1919 — Провоз
	глашено создан
	ие Крымской со
	ветской республ
	ики.\n    1921 — З
	аключено торговое
	 соглашение между
	 РСФСР и Германие
	й.\n    1937\n  
	      От
	крыто 
	регуляр
	ное возд
	ушное пас
	сажирское
	 сообщение 
	по маршрут
	у Ленингра
	д—Москва.\
	n        В
	 Лейкхорс
	те под Нью-
	Йорком потерпел 
	катастрофу герман
	ский дирижабль «Ги
	нденбург».\n    1940 - В
	 Англию прибыл золо
	той запас Норвегии
	.\n    1941 — И. В. 
	Сталин стано
	вится председ
	ателем Совнар
	кома\, по мнению ана
	литиков\, с прицел
	ом на заграничные
	 поездки.\n    19
	42 — На стади
	оне «Динамо» в о
	саждённом Ленин
	граде прошёл фут
	больный матч.\n    1946 — 
	Первый полёт учебног
	о самолёта Як-18.\n 
	   1953 — Хиру
	рг Джон Г
	иббон из
	 Филадел
	ьфии впер
	вые успеш
	но примени
	л аппарат 
	«искусственно
	е сердце-лёгкие»
	 во время опера
	ции на открыто
	м сердце\n    1
	955 — Великоб
	ритания обр
	атилась в Ме
	ждународный
	 суд для реш
	ения спора 
	с Аргентино
	й и Чили о 
	принадле
	жности Фо
	лклендски
	х островов. Дв
	а других государс
	тва отказались под
	ать встречный иск.
	\n    1968 — В свя
	зи с уличн
	ыми боями в 
	Париже француз
	ские власти закр
	ыли Парижский ун
	иверситет.\n    1
	970 — Подписани
	е в Праге Дого
	вора о дружб
	е\, сотрудничестве
	 и взаимной помощи
	 между СССР и Чехо
	словакией.\n   
	 1974 — Отставка Вил
	ли Брандта с пост
	а федерального 
	канцлера ФРГ.\n  
	  1986 — Было 
	официально объяв
	лено известие об
	 аварии на Черн
	обыльской АЭС.\n 
	   1994 — Корол
	ева Великоб
	ритании Ели
	завета II и
	 президен
	т Франции 
	Франсуа М
	иттеран т
	оржественно
	 открыли туннель между Фран
	цией и Англией под проливом Ла-Манш.  \n
DTSTART;VALUE=DATE:20150505
END:VEVENT
END:VCALENDAR
