BEGIN:VCALENDAR
VERSION:2.0
PRODID:-//IP.Board Calendar 4.0.13.1//EN
METHOD:PUBLISH
CALSCALE:GREGORIAN
X-WR-CALNAME:В этот день в прошлом
BEGIN:VTIMEZONE
TZID:Europe/London
TZURL:http://tzurl.org/zoneinfo/Europe/London
X-LIC-LOCATION:Europe/London
BEGIN:DAYLIGHT
TZOFFSETFROM:+0000
TZOFFSETTO:+0100
TZNAME:BST
DTSTART:20150329T020000Z
RRULE:FREQ=YEARLY;BYMONTH=3;BYDAY=-1SU
END:DAYLIGHT
BEGIN:STANDARD
TZOFFSETFROM:+0100
TZOFFSETTO:+0000
TZNAME:GMT
DTSTART:20151025T020000Z
RRULE:FREQ=YEARLY;BYMONTH=10;BYDAY=-1SU
END:STANDARD
END:VTIMEZONE
BEGIN:VEVENT
SUMMARY:Развилки Дня
DTSTAMP:20150821T075726Z
SEQUENCE:0
UID:8e589eccb394838cabc6935abfc4692e@172.17.0.3
ORGANIZER;CN="ясмин джакмич":fai@fai.org.ru
DESCRIPTION:\n22 августаДо XI
	X века1456 — госп
	одарем Валахии 
	стал Влад III Драк
	ула\, известный 
	по легендам о ва
	мпирах.1485Ген
	рих Тюдор\
	, граф Ричмон
	дский\, пров
	озглашен корол
	ем Англии под 
	именем Генри
	ха VII.Сражен
	ие при Бос
	ворте.15
	31 — Бит
	ва при Об
	ертыне 
	— Польша
	 победила
	 втрое боль
	шее войско М
	олдавии.1663 
	— Царь Алек
	сей Михайлови
	ч издал указ 
	о «ссылке в Си
	бирь на вечное
	 житье с жёнам
	и и детьми по
	ддельщиков 
	монет».1770
	 — Капи
	тан Джейм
	с Кук во 
	время св
	оей пер
	вой круго
	светной э
	кспедиции
	 высадился 
	на восточно
	м побережье
	 Австралии\
	, которое н
	азвал Новым Ю
	жным Уэльсо
	м и объявил
	 владением бри
	танской короны.1
	795 — Во Франц
	ии принята К
	онституция III г
	ода\, впервые ут
	вердившая все
	общее избират
	ельное право.
	XIX век1812
	 — Экспе
	диция шве
	йцарского
	 археолога
	 Иоганна 
	Бурхардта об
	наружила в 180 к
	м от Аммана ру
	ины древнего гор
	ода Петра\, в котор
	ом\, по преданию\
	, Моисей добы
	л воду из с
	калы.1818 
	— Велик
	ое герцо
	гство Ба
	ден при
	няло либ
	еральную ко
	нституцию в
	 ответ на т
	ерриториал
	ьные претенз
	ии Баварии.18
	45 — Закладка
	 крупнейшего
	 храма (вто
	рого по вел
	ичине в Росс
	ии) г. Ель
	ца Липецк
	ой обл. — Во
	знесенского с
	обора.1846 —
	 Нью-Мекс
	ико включ
	ено в сост
	ав США.18
	49 — Ос
	аждающи
	е Венеци
	ю австрий
	цы сбрасыв
	ают с аэростат
	ов зажигател
	ьные снаряды
	\, проводя п
	ервую бомба
	рдировку.185
	1 — В Авс
	тралии об
	наружены 
	золотые мест
	орождения.18
	64 — Подпис
	ана первая 
	Женевская кон
	венция1865 — Уиль
	ям Шепперд пол
	учает патент н
	а жидкое мыло.X
	X век1906 — 
	Кубинские 
	бизнесмены
	 обратились
	 к США с про
	сьбой анн
	ексировать Кубу
	.1909 — В Реймсе нач
	алось первое в ми
	ре авиашоу (с 22 п
	о 29 августа). Для 
	участия в сост
	язаниях были заяв
	лены 38 аэропланов
	\, но взлететь с
	могли только 
	23 машины. Мит
	инг привлё
	к авиаторов
	 и авиаконст
	рукторов со 
	всей Европы
	 и пробудил б
	ольшой инте
	рес к авиац
	ии у широк
	ой обществе
	нности. Полё
	ты в Реймсе со
	вершали аэропланы 
	следующих типов: «Антуане
	тт»\, «Блерио XI»\, «Блерио XI
	I»\, «Блерио XIII»\, «Бреге»\
	, «Кертисс»\, «Анри Фа
	рман»\, REP\, «Вуаз
	ен» и «Райт».191
	0 — подписан 
	Договор о прис
	оединении Кореи
	 к Японии.1911 
	— В Англи
	и принят с
	екретный 
	закон\, п
	ровозгл
	ашающий
	 престу
	плением
	 публика
	цию без раз
	решения любо
	й официально
	й правительст
	венной инфор
	мации.1914 — 
	В России на п
	ериод войны
	 запрещена
	 продажа с
	пиртных напитк
	ов.1932 — Би-Б
	и-Си начала 
	экспериментал
	ьное телевещание
	.1939 — Рекордный
	 заплыв М. Ре
	йзена (маст
	ера спорта).
	 Заплыв б
	ыл осуществл
	ён от Шлиссе
	льбурга до пл. Де
	кабристов\, протяжённ
	ость 69 км\, затраченное вре
	мя 13 ч. 11 м\, темпера
	тура воды + 17°С
	1944 — В учеб
	ных заведе
	ниях Японии от
	менены занятия
	\, дети призван
	ы на фабрики и 
	заводы.1948
	 — В По
	льше об
	ъявлено 
	начало 
	коллект
	ивизации
	.1961 — М
	еждун
	ародн
	ый аст
	рономи
	ческий со
	юз офици
	ально ут
	вердил 
	названия д
	еталей обрат
	ной стороны Лу
	ны\, сфотогра
	фированных АМС
	 «Луна-3».1962 —
	 Отправилась в
	 плавание «Сав
	анна»\, первый в м
	ире сухогруз\, 
	работающий на я
	дерном топливе
	.1966 — В США 
	экспертиза
	 показала\, 
	что доказа
	тельства вины
	 супругов Роз
	енберг\, обвинённы
	х в шпионаже в пол
	ьзу СССР\, были 
	поддельными.19
	68Папа римски
	й Павел VI п
	рибыл в ст
	олицу Колу
	мбии Боготу
	\, начав первый
	 визит главы 
	католическо
	й церкви в Л
	атинскую А
	мерику.1984 — 
	Изготовлен
	 последний авто
	мобиль «Фолькс
	ваген-Рэббит».1
	989Открыты кол
	ьца Нептуна
	.1991 — Трё
	хцветны
	й бело-сине-крас
	ный флаг провозглашён государстве
	нным флагом России. \n
DTSTART;VALUE=DATE:20150822
END:VEVENT
END:VCALENDAR
