BEGIN:VCALENDAR
VERSION:2.0
PRODID:-//IP.Board Calendar 4.0.13.1//EN
METHOD:PUBLISH
CALSCALE:GREGORIAN
X-WR-CALNAME:В этот день в прошлом
BEGIN:VTIMEZONE
TZID:Europe/London
TZURL:http://tzurl.org/zoneinfo/Europe/London
X-LIC-LOCATION:Europe/London
BEGIN:DAYLIGHT
TZOFFSETFROM:+0000
TZOFFSETTO:+0100
TZNAME:BST
DTSTART:20150329T020000Z
RRULE:FREQ=YEARLY;BYMONTH=3;BYDAY=-1SU
END:DAYLIGHT
BEGIN:STANDARD
TZOFFSETFROM:+0100
TZOFFSETTO:+0000
TZNAME:GMT
DTSTART:20151025T020000Z
RRULE:FREQ=YEARLY;BYMONTH=10;BYDAY=-1SU
END:STANDARD
END:VTIMEZONE
BEGIN:VEVENT
SUMMARY:Развилки Дня
DTSTAMP:20150821T080243Z
SEQUENCE:0
UID:321b2cbccbf823727115c5bb25ebe234@172.17.0.3
ORGANIZER;CN="ясмин джакмич":fai@fai.org.ru
DESCRIPTION:\n23 августаДо
	 XX века476 —
	 Западн
	ая Римск
	ая имп
	ерия па
	ла под 
	ударами
	 варваро
	в. После
	дний им
	ператор — 
	Ромул Авгус
	т — был низ
	ложен. Римо
	м овладел варв
	ар Одоакр.130
	5 — В Лонд
	оне был ка
	знён Уиль
	ям Уоллес
	.1382 — Пр
	и обор
	оне М
	осквы
	 от т
	атарского
	 набега х
	ана Тохта
	мыша впер
	вые в Росс
	ии примен
	ена артилл
	ерия.1541 —
	 Француз
	ский мо
	реплав
	атель Ж
	ак Карт
	ье в хо
	де свое
	го трет
	ьего пу
	тешест
	вия в К
	анаду выс
	адился возл
	е Квебека в
	 поисках мес
	та для пост
	оянного п
	оселения.1552
	 — Войск
	о русско
	го царя
	 Ивана Гроз
	ного осадил
	о Казань.16
	14 — Осно
	ван Унив
	ерситет 
	Гронинген
	а.1658 — ру
	сский гар
	низон Кие
	ва отбил 
	нападение
	 гетмана 
	Ивана Вы
	говског
	о.1770 
	— Анг
	лийский
	 капита
	н Джейм
	с Кук о
	бъявил
	 Австр
	алию с
	обствен
	ностью 
	Англии.
	1793 — 
	Рево
	люционно
	е прави
	тельст
	во Фра
	нции о
	бъявило в
	сеобщую во
	инскую пови
	нность.1839 — 
	Англичане 
	захватили Г
	онконг.1866 — 
	Заключён Пр
	ажский мир
	\, заверш
	ивший 
	Австро-пру
	сскую войну. 
	По Пражском
	у договору
	 Венеция пе
	редана Италии.X
	X век1904 — Запа
	тентована автом
	обильная шинная 
	цепь.1906 — Никол
	ай II объявил о п
	родаже 20 милли
	онов акров з
	емли русским к
	рестьянам.19
	08 — Мулай 
	Абд аль-Хафид
	 сверг своего 
	брата\, султана М
	арокко Мулай А
	бд аль-Азиза\
	, и стал н
	овым су
	лтаном.
	1913В 
	Коп
	енг
	аге
	не отк
	рыт памя
	тник Руса
	лочке — ге
	роине сказки
	 Ганса Христ
	иана Андерсен
	а.1915 — Никол
	ай Второй 
	принял на
	 себя коман
	дование все
	ми сухопутн
	ыми и морск
	ими вооружённы
	ми силами\, на
	ходящимся н
	а театре во
	енных дей
	ствий.1921
	 — нач
	ало битв
	ы при Сакар
	ье — перел
	омного сраже
	ния второй г
	реко-турецко
	й войны.1927 — 
	казнь Николы
	 Сакко и Бар
	толомео Ванце
	тти в США.192
	8 — Спущен н
	а воду теплохо
	д «Победа»193
	5 — Постанов
	ление Полит
	бюро ЦК ВКП
	(б) о замене 
	двуглавых орло
	в на башнях Кремля
	 пятиконечными звё
	здами к 7 ноября 19
	35 года.1939 — 
	Заключён Дог
	овор о ненап
	адении межд
	у Германией
	 и Советским
	 Союзом.194
	2 — Масси
	рованная бо
	мбардировка
	 Сталинграда
	. Начало об
	ороны Ст
	алинграда.
	1943В ход
	е Вели
	кой От
	ечеств
	енной в
	ойны Ха
	рьков осв
	обождён от 
	немецких вой
	ск.Победа сов
	етских войск 
	на Курской д
	уге\, ставш
	ая одним из п
	ереломных со
	бытий в ходе
	 Великой О
	течественно
	й войны.1955
	Введён 
	в стро
	й Чер
	еповец
	кий ме
	таллур
	гическ
	ий завод
	.Первый полё
	т первого ко
	нвертоплана с п
	оворотным ротор
	ом — «Белл XV-3»
	. Он имел боль
	шой фюзеляж\,
	 рассчитанный на
	 четверых пассажир
	ов\, неподвижные к
	рылья с размахом 9\,54
	 метра и был оснащён д
	вигателем Пратт-Уитни
	 R-985 мощностью 450 л
	.с. Ротор-пр
	опеллер н
	а конце ко
	нсоли каж
	дого кры
	ла устанав
	ливался в 
	необходи
	мое положе
	ние с помо
	щью электр
	омоторов\
	; вверх — дл
	я вертикал
	ьного полё
	та\, вперёд
	 — для горизон
	тального.1959 —
	 Правительств
	о США объявило
	 о введении в 4
	00 школах ст
	раны в ка
	честве 
	предмет
	а обучения р
	усского язы
	ка.Состоялс
	я первый пря
	мой телемос
	т Европа-СШ
	А.1976 — Ты
	сячи людей
	 погибли в
	 результ
	ате силь
	ного зе
	млетрясе
	ния в Кит
	ае.1977На ле
	тательно
	м аппарате
	 Госсамер 
	Кондор сов
	ершили перв
	ый полет\, 
	основанны
	й только н
	а мускуль
	ной силе 
	человека.
	Премию Кр
	емера за э
	то достиже
	ние получили к
	онструктор П
	ол Битти Макк
	реди и пилот Б
	райан Аллен.
	1979 — Бег
	ство Алекса
	ндра Годунова\, 
	артиста балета
	 Большого теат
	ра из СССР.1989
	 — В 50-ю г
	одовщи
	ну подпи
	сания сове
	тско-герм
	анского па
	кта состо
	ялась ак
	ция Бал
	тийский 
	путь\, к
	огда жите
	ли Литвы\,
	Латвии и Э
	стонии выст
	роили живую ц
	епь длиной поч
	ти в 600 км — ок
	оло двух миллион
	ов человек (сам
	ая большая жи
	вая цепь в ми
	ре).1990Арме
	ния про
	возглаша
	ет незави
	симость о
	т СССР.Зап
	адная и Восточна
	я Германии наз
	начают дату о
	бъединения н
	а 3 октября.1
	991Б. Ельц
	иным ос
	тановле
	ны деятел
	ьность КП
	СС и выпус
	к газеты «
	Правда».По
	следние из
	 находящихся
	 на свободе 
	членов ГКЧП 
	арестованы. 
	Опечатано з
	дание ЦК КП
	СС. Михаил 
	Горбачёв\, в
	ызванный н
	а чрезвыча
	йную сесс
	ию Верховно
	го Совета 
	России\, 
	пытался 
	отстаивать
	 социалисти
	ческий выбор и ко
	ммунистическую перспективу\, но н
	е встретил понимания.
DTSTART;VALUE=DATE:20150823
END:VEVENT
END:VCALENDAR
