BEGIN:VCALENDAR
VERSION:2.0
PRODID:-//IP.Board Calendar 4.0.13.1//EN
METHOD:PUBLISH
CALSCALE:GREGORIAN
X-WR-CALNAME:В этот день в прошлом
BEGIN:VTIMEZONE
TZID:Europe/London
TZURL:http://tzurl.org/zoneinfo/Europe/London
X-LIC-LOCATION:Europe/London
BEGIN:DAYLIGHT
TZOFFSETFROM:+0000
TZOFFSETTO:+0100
TZNAME:BST
DTSTART:20150329T020000Z
RRULE:FREQ=YEARLY;BYMONTH=3;BYDAY=-1SU
END:DAYLIGHT
BEGIN:STANDARD
TZOFFSETFROM:+0100
TZOFFSETTO:+0000
TZNAME:GMT
DTSTART:20151025T020000Z
RRULE:FREQ=YEARLY;BYMONTH=10;BYDAY=-1SU
END:STANDARD
END:VTIMEZONE
BEGIN:VEVENT
SUMMARY:Развилки Дня
DTSTAMP:20150824T090501Z
SEQUENCE:0
UID:13044c1bdf0668cae6309b60d57a307a@172.17.0.3
ORGANIZER;CN="ясмин джакмич":fai@fai.org.ru
DESCRIPTION:\n24 август
	а79 — И
	зверже
	ние Ве
	зувия. 
	Города По
	мпеи\, Ге
	ркулану
	м и Стаб
	иипогреб
	ены под вулка
	ническим пеп
	лом.410 — Взя
	тие Рима гот
	ами короля Ала
	риха.1109 — Битва
	 на собачьем по
	ле1516 — Битв
	а при Мардж Даб
	еке\, в котор
	ой Селим 
	I разгроми
	л армию м
	амлюков.1
	542 — Испа
	нский ко
	нкистадор
	 Франсиско
	 де Орельяна 
	открыл устье А
	мазонки\, назв
	ав реку реко
	й Амазонок\, 
	потому что н
	а его экспе
	дицию напа
	ли индейс
	кие женщин
	ы-воины.155
	3 — Кора
	бль капи
	тана Рич
	арда Ченс
	лора брос
	ил якорь в у
	стье Север
	ной Двины. На
	чало дипот
	ношений с 
	Британией.157
	2 — Варфол
	омеевская 
	ночь\, резн
	я гугенотов 
	во Франции.1660 — Францу
	зские предприниматели П. Рэдис
	сон (Pierre-Esprit Radisson) и М. Гросселье (M?dard Choua
	rt Sieur des Groseilliers) прин
	яли решение об о
	сновании Компа
	нии Гудзонова залив
	а.XVIII век1720 — О
	сновано Сар
	динское коро
	левство.1742
	 — Окончан
	ие боевых д
	ействий на
	 суше в оче
	редной русско
	-шведской вой
	не. Переговор
	ы начались лишь
	 через год\, 
	после успешных
	 действий русског
	о флота\, и зако
	нчились Абоским
	 миром.1770 — 17
	-летний ан
	глийский 
	поэт Том
	ас Чаттер
	тон\, вун
	деркинд
	 создавш
	ий неск
	олько 
	блестящ
	их литер
	атурных 
	мистификац
	ий выдавая 
	их за сред
	невековые за
	писи (некоего
	 Томаса Роули)
	\, отчаявшись 
	добиться при
	знания\, отра
	вился мышьяком\
	, после чего с
	разу его про
	изведения ст
	али популяр
	ными.1789 —
	 Между р
	оссийским и
	 шведским ф
	лотом сост
	оялось пе
	рвое Роченс
	альмское сра
	жение.1791 
	— В Брита
	нии приня
	т Констит
	уционный Ак
	т\, раздели
	вший Кана
	ду на две ча
	сти со свои
	ми губерна
	торами и своим
	и собственными з
	аконами - начал
	о самоуправле
	ния Канады.XIX
	 век1814 — 
	Англича
	не взяли
	 Вашинг
	тон и со
	жгли Белы
	й дом в отм
	естку за сожже
	ние американца
	ми публичных з
	даний в Йорк
	е (ныне Тор
	онто).182
	1 — По Ко
	рдовско
	му догов
	ору Испа
	ния призн
	ала незав
	исимость Ме
	ксики.1853 —
	 Американски
	м поваром ре
	сторана кур
	ортного отеля
	 в Саратога-С
	принс\, шт
	ат Нью-Йор
	к Джорджем
	 Крамом\, м
	етисом\, изо
	бретены ка
	ртофельные чип
	сы. По легенде
	\, один клиент 
	(видимо\, Ванде
	рбильт) в этот
	 день пожал
	овался (по 
	другой ве
	рсии\, од
	ин из по
	сетител
	ей ресто
	рана посто
	янно отсылал ф
	ранцузскую кар
	тошку Крама обрат
	но на кухню\, гов
	оря\, что она 
	слишком кру
	пно порезана)
	\, что его ка
	ртофель-фри
	 был порезан
	 слишком толсто
	 (вернул блюдо
	 обратно и пу
	блично отчит
	ал шеф-повара).
	 В ответ  ра
	зозлившийся К
	рам нарезал кар
	тофель так\, что
	 тот просвечивал
	ся\, обжарил его 
	в масле до хру
	ста и подал кли
	енту. Тот оста
	лся доволен. 
	Блюдо было 
	введено в ме
	ню под назва
	нием «Чипсы
	 Саратога» (
	англ. чипсы — 
	«ломтик\, кусо
	чек»\,Сарат
	ога — горо
	д ресторана
	).1873 — В
	 рез
	уль
	тат
	е з
	ак
	лю
	че
	ни
	я 
	Ге
	нд
	ем
	иан
	ско
	го 
	мир
	ного д
	оговор
	а устан
	овлен ро
	ссийский 
	протектор
	ат над Хив
	инским ханст
	вом.1896 — А
	рест ряд
	а членов п
	етербургског
	о «Союза борьб
	ы за освобожде
	ние рабочего клас
	са» XX век1904 —
	 В России о
	тменены т
	елесные нак
	азания.1906 
	— Презид
	ент США Т
	еодор Руз
	вельт изд
	ал указ\, 
	обязыва
	вший все
	 официа
	льные 
	докум
	енты госуд
	арства п
	убликоват
	ь только 
	после их
	 орфогра
	фической
	 проверк
	и.1917 —
	 США заяв
	или о пред
	оставлении В
	ременному пр
	авительству Р
	оссии займа в 1
	00 млн долларов
	.1919 — В Моск
	ве прошёл Де
	нь сбора книг
	 для РККА. В «
	Правде» пер
	вая полоса 
	вышла под шап
	кой: «Либкнехт ск
	азал: крепкий кул
	ак — хорошее дело\
	, но надо\, чтобы и
	 в голове было яс
	но. У Красной Арм
	ии крепкий кула
	к. Дадим ей книгу\
	, чтобы было 
	ещё яснее в
	 головах кр
	асноармейце
	в».1932 — В 
	Берлине 
	запрещены нац
	истские газет
	ы в связи с п
	ровоцирован
	ием ими бесп
	орядков.193
	8 — Газет
	а «Крисче
	н сэнчури»
	 впервые и
	спользова
	ла термин «
	мыльная опер
	а» по отноше
	нию к мног
	осерийным
	 радио-пос
	тановкам.
	1944Победо
	носно за
	вершилась
	 Жебрияны-
	Вилковская 
	десантная оп
	ерация. Умелые 
	действия 2 деса
	нтных групп общей чис
	ленностью 800 человек выв
	ел из строя порядка 75
	00 (6500 сдалось 
	в плен) н
	емецко
	-румын
	ских солда
	т.День Ос
	вобождения
	 Молдавии 
	от немецко-ру
	мынской оккуп
	ации.1949 — В
	ступил в силу
	 подписанный
	 в апреле до
	говор об обр
	азовании НАТ
	О.1950 — Провед
	ена операци
	я «Волшебный к
	овёр» по пересе
	лению 45 тыся
	ч евреев из Й
	емена в Изра
	иль.1954 — В 
	США зап
	рещена 
	компартия.1
	968 — Фран
	ция прове
	ла первые и
	спытания тер
	моядерного оружи
	я.1978 — Ядерный в
	зрыв «Кратон
	-3» мощностью 19 
	килотонн.1981
	Над Амурско
	й областью гражд
	анский Ан-24 стол
	кнулся с бомбардир
	овщиком Ту-16\, в
	 результат
	е чего погиб
	ли 37 челове
	к. Единств
	енная выжив
	шая — Ларис
	а Савицкая\, 
	выжившая п
	осле паден
	ия с высот
	ы 5 килом
	етров
	.Вынес
	ен пр
	игов
	ор уб
	ийце 
	Джона
	 Ленно
	на Мар
	ку Дэви
	ду Чеп
	мену —
	 пожизненно
	е заключение с п
	равом подачи пр
	ошения о помило
	вании через 20 
	лет.1990 — Пр
	инята дек
	ларация 
	о сувере
	нитете Т
	аджикист
	ана.1991У
	краин
	а прово
	згласила
	 свою не
	зависим
	ость.Мих
	аил Гор
	бачёв о
	бъявил о
	 сложении 
	с себя п
	олномочий г
	енерального
	 секретаря Ц
	К КПСС и призвал
	 ЦК к самороспуску.1995 — Вышла операцио
	нная система Windows 95.
DTSTART;VALUE=DATE:20150824
END:VEVENT
END:VCALENDAR
