BEGIN:VCALENDAR
VERSION:2.0
PRODID:-//IP.Board Calendar 4.0.13.1//EN
METHOD:PUBLISH
CALSCALE:GREGORIAN
X-WR-CALNAME:В этот день в прошлом
BEGIN:VTIMEZONE
TZID:Europe/London
TZURL:http://tzurl.org/zoneinfo/Europe/London
X-LIC-LOCATION:Europe/London
BEGIN:DAYLIGHT
TZOFFSETFROM:+0000
TZOFFSETTO:+0100
TZNAME:BST
DTSTART:20150329T020000Z
RRULE:FREQ=YEARLY;BYMONTH=3;BYDAY=-1SU
END:DAYLIGHT
BEGIN:STANDARD
TZOFFSETFROM:+0100
TZOFFSETTO:+0000
TZNAME:GMT
DTSTART:20151025T020000Z
RRULE:FREQ=YEARLY;BYMONTH=10;BYDAY=-1SU
END:STANDARD
END:VTIMEZONE
BEGIN:VEVENT
SUMMARY:Развилки Дня
DTSTAMP:20150825T094510Z
SEQUENCE:0
UID:237e268870d88b3554871e351f119b52@172.17.0.3
ORGANIZER;CN="ясмин джакмич":fai@fai.org.ru
DESCRIPTION:\n25 августаДо X
	VIII века325 
	— Торж
	ествен
	ное зак
	рытие 
	Никейск
	ого собо
	ра.357 — 
	Римские 
	войска ра
	згромили плем
	ена алеманнов
	 у Страсбурга\, от
	бросив их обрат
	но за Рейн.138
	8 — победа 
	Эберхарда 
	II\, графа Вю
	ртемберг
	а над Шва
	бским союзо
	м в битве 
	при Дефф
	ингене1580 —
	 Испанцы 
	взяли Лисс
	абон\, прис
	оединив По
	ртугалию к 
	Испании.1604
	 — Лжедми
	трий I с войск
	ом польских 
	и украинск
	их наёмни
	ков начал
	 поход н
	а Моск
	ву.1609
	 — 
	Гали
	лео 
	Га
	ли
	ле
	й 
	демо
	нстрируе
	т Большому со
	вету и дожу В
	енеции новое у
	стройство — т
	елескоп.XVIII ве
	к1710 — Ру
	сские войс
	ка вынудили
	 капитулиров
	ать шведский
	 гарнизон в к
	репости Пярну
	.1718 — отправ
	ившиеся в 
	Северную
	 Америку
	 на волн
	е махина
	ций банка
	 Джона Л
	оу кол
	онист
	ами Ф
	ранцу
	зами  о
	снован 
	Новый О
	рлеан.1
	753 — 
	Фран
	цузс
	кий е
	стеств
	оиспыт
	атель 
	Жорж де
	 Бюффон пр
	едставил Ак
	адемии мон
	ументальный 
	труд «Естест
	венная истор
	ия».1758 — У д
	еревни Цорндо
	рф 25-тысячная
	 прусская арми
	я Фридриха II 
	встретилась с
	 40-тысячной 
	русской арми
	ей. Перед ср
	ажением гене
	рал В. В. Фе
	рмор скрылся
	 в лесах\, ос
	тавив русск
	ую армию без
	 командования
	. После напряж
	ённой битвы\, 
	продолжавшейся
	 весь день\, ру
	сская армия 
	осталась на 
	поле боя\, н
	о впослед
	ствии вын
	ужденную 
	после этого
	 снять осаду
	 Кюстрина. 
	Прусская а
	рмия понесл
	а огромные 
	потери\, о
	собенно 
	среди гва
	рдейских 
	частей. П
	оследств
	ия Цорндофского
	 сражения сказались
	 на военной кампани
	и следующего\, 1
	759 года.1784 — По
	лёт первого шотландс
	кого аэронавта Джей
	мса Титлера (James 
	Titler) на са
	модельн
	ом монго
	льфьере. 
	Аэростат ста
	ртовал из городско
	го сада Хериот и п
	однялся на высо
	ту около 150 ме
	тров.1793 — Револ
	юционные францу
	зские войска вз
	яли Марсель.X
	IX век1805Р
	усска
	я арми
	я М. К
	утуз
	ова 
	выст
	упила
	 из Р
	адзи
	вилл
	ова 
	в Ав
	стри
	ю дл
	я сов
	местн
	ых де
	йствий
	 против Н
	аполеона.
	В Богенх
	аузене Н
	аполеон з
	аключил союз
	 с Баварией.
	1819 — В Швей
	царских А
	льпах обна
	ружен источник\,
	 которому дали им
	я Саския и регис
	трационный номе
	р 64. До сих пор 
	вода из этог
	о источника
	 считается с
	амой чистой\, 
	целебной и н
	асыщенной минер
	альными солям
	и в самой что
	 ни на есть
	 верной п
	ропорции.18
	25 — Уруг
	вай пров
	озгласил 
	свою неза
	висимость
	 от Бразилии.
	1830 — В Брю
	сселе нача
	лось восста
	ние против 
	голландцев
	.1835 — В СШ
	А вызвано вс
	еобщее изумл
	ение публика
	цией газеты «Н
	ью-Йорк Сан» о
	 том\, что на 
	Луне обнар
	ужены растения
	. Так началась 
	серия публика
	ций\, ставшая и
	звестная как
	 \"Большое Л
	унное Наду
	вательство
	\"1837 — Прави
	тельство США 
	отказалось принять в сост
	ав Штатов Техас1875 — Мэтть
	ю Уэбб (Matthew Webb) ста
	л первым челов
	еком\, вплавь
	 преодолевш
	им Ла-Манш.
	1887 — Владимир 
	Ульянов (Ленин
	) поступил в К
	азанский унив
	ерситет.XX ве
	к1905 — Во
	семь мат
	росов ру
	сского мяте
	жного броне
	носца «Потё
	мкин» приго
	ворены к сме
	ртной казни1
	906 — Сове
	ршена поп
	ытка гром
	кая покуше
	ния на гла
	ву русско
	го правит
	ельства П. 
	Столыпина 
	— в его доме на
	 Аптекарском о
	строве устрое
	н взрыв\, пострад
	ало более 100 чел
	овек включая доче
	рей Столыпина. 27 ч
	еловек погибли на 
	месте\, 33 — тяж
	ело ранены\,
	 многие по
	том сконч
	ались.191
	2 — В Кита
	е основана 
	партия Гоми
	ньдан («пар
	тия народног
	о государств
	а»).1915Немецк
	ие войск
	а захват
	или Брест
	-Литовск.С
	пикер Госд
	умы России
	 М. Родзян
	ко призвал ца
	ря Николая II 
	отказаться о
	т идеи возгл
	авить русск
	ую армию.1
	916 — Рус
	ские войска фор
	сировали Дунай
	 и вступили на те
	рриторию Болгари
	и. (!!!)1919 — От
	крылся п
	ервый в м
	ире регу
	лярный м
	еждунар
	одный ави
	ационный 
	маршрут Л
	ондон-Париж
	. Первые па
	ссажиры пер
	евозились н
	а местах бы
	вших стрел
	ков и набл
	юдателей. 
	1921 — США
	 подписа
	ли собств
	енный мир
	ный догово
	р с Германи
	ей. отличавш
	ийся от Верс
	альского изъ
	ятием стате
	й о Лиге На
	ций и военном
	 присутствии
	. 1928 — Ал
	бания пр
	овозглаше
	на королев
	ством.1929
	 — Выл
	етевший и
	з Токио 
	дирижабль
	 «Граф Цеп
	пелин» пр
	ибывает в 
	Сан-Франциско
	\, благополуч
	но преодоле
	в расстояние
	 Тихого океа
	на.  1930Эк
	спедици
	я полярнико
	в «Георгий С
	едов» открыла 
	западные бер
	ега Северно
	й Земли.1933
	 — Канад
	а\, США\, С
	ССР\, Ав
	стралия 
	и Аргенти
	на подпис
	али Соглаш
	ение о зерне
	 с целью ув
	еличения и пос
	ледующей стабилизац
	ии мировых цен на этот проду
	кт.1936 — на дорогу Union Paci
	fic с завода ALCO приб
	ыл первый паровоз Chal
	lenger — самый бол
	ьшой паровоз на то 
	время.1937 — Первый
	 полёт самолёта
	 АНТ-51.1938 — 
	Теракт в
	 Джанине
	\, совершённы
	й британц
	ами в отв
	ет на уб
	ийство 
	колониал
	ьного чин
	овника.1
	939 — Велик
	обритания
	 и Польша 
	подписали Ак
	т о военном 
	сотрудничеств
	е.1940 — Англич
	ане совершил
	и первый ав
	ианалёт н
	а Берлин1
	941Совет
	ские 
	и ан
	гли
	йск
	ие 
	вой
	ска
	 ок
	ку
	пи
	ро
	вал
	и И
	ран 
	Посл
	е упорно
	й обороны
	 Днепропе
	тровска н
	емецким вой
	скам удалос
	ь взять горо
	д.1942нацис
	тами унич
	тожено гетт
	о в Меречев
	щине.нацис
	тами унич
	тожено ге
	тто в Кос
	сово.194
	4В Бе
	рлине ка
	знены уча
	стники ант
	ифашистск
	ого подпол
	ья легиона
	 «Идель-Ура
	л»\, в то
	м чис
	ле Га
	йнан 
	Курма
	шев и Мус
	а Джалиль.В
	ойска сою
	зников о
	свободили
	 Париж от 
	немецких 
	войск.195
	0 — На
	 экран
	ах Яп
	онии п
	оявился ф
	ильм Акир
	о Куросава
	 «Расемон»
	 с Тосиро Ми
	фунэ в главн
	ой роли. В с
	ледующем 
	году филь
	м завоевал
	 Главный п
	риз на кинофе
	стивале в В
	енеции и пр
	инёс мирову
	ю славу его
	 создател
	ям.1956 
	— истор
	ик Андерс
	 Франсен о
	бнаружил в акв
	атории Стокг
	ольма затону
	вший в 1628 г
	оду кора
	бль «Ваза
	».1957 — И
	з Горь
	кого в 
	Казань от
	правился пер
	вый советский 
	корабль на под
	водных крыльях 
	«Ракета».1960В 
	Риме начали
	сь XVII Олим
	пийские игр
	ы.СССР осудил догмати
	зм курса китайского л
	идера Мао Цзэдуна (M
	ao Zedong).1968 — 
	Восем
	ь дисс
	идентов
	 провел
	и на Кра
	сной пло
	щади демон
	страцию про
	тив введения
	 советских в
	ойск в Чехо
	словакию.196
	9 — На сове
	щании Лиги а
	рабских гос
	ударств в Каире
	 принят план \"
	священной во
	йны\" арабов про
	тив Израиля.19
	73 — Сделан п
	ервый снимок 
	томографом.1983 —
	 СССР подписал дого
	вор о покупке в СШ
	А зерна на 10 мл
	рд долларов.1
	988 — В сильн
	ом пожаре 
	выгорела ц
	ентральная
	 часть Лисс
	абона.1989 
	— Амер
	икански
	й космическ
	ий зонд «Воя
	джер» перед
	ал снимки п
	ланеты Неп
	тун на Зем
	лю.1990 —
	 Верховный
	 Совет Аб
	хазии п
	ровозгл
	асил не
	зависи
	мость А
	бхазии 
	от Грузи
	и.1991Имущес
	тво КПСС
	 объявлен
	о государс
	твенной собственност
	ью в России.1997 — Учреждён телеканал 
	«Культура».
DTSTART;VALUE=DATE:20150825
END:VEVENT
END:VCALENDAR
