BEGIN:VCALENDAR
VERSION:2.0
PRODID:-//IP.Board Calendar 4.0.13.1//EN
METHOD:PUBLISH
CALSCALE:GREGORIAN
X-WR-CALNAME:В этот день в прошлом
BEGIN:VTIMEZONE
TZID:Europe/London
TZURL:http://tzurl.org/zoneinfo/Europe/London
X-LIC-LOCATION:Europe/London
BEGIN:DAYLIGHT
TZOFFSETFROM:+0000
TZOFFSETTO:+0100
TZNAME:BST
DTSTART:20150329T020000Z
RRULE:FREQ=YEARLY;BYMONTH=3;BYDAY=-1SU
END:DAYLIGHT
BEGIN:STANDARD
TZOFFSETFROM:+0100
TZOFFSETTO:+0000
TZNAME:GMT
DTSTART:20151025T020000Z
RRULE:FREQ=YEARLY;BYMONTH=10;BYDAY=-1SU
END:STANDARD
END:VTIMEZONE
BEGIN:VEVENT
SUMMARY:Развилки Дня
DTSTAMP:20150826T074400Z
SEQUENCE:0
UID:72be72ba729cff3b5787ebcb431642e1@172.17.0.3
ORGANIZER;CN="ясмин джакмич":fai@fai.org.ru
DESCRIPTION:\n26 августаДо XVI
	II века56 до н.
	 э. — Вт
	оржение Ю
	лия Цезар
	я в Брита
	нию.1071 — Б
	итва при М
	анцикерте —
	 победа турок
	-сельджуков н
	ад Византией.13
	46 — Битва пр
	и Креси\, ан
	глийские 
	войска короля
	 Эдуарда III р
	азгромили францу
	зскую армию корол
	я Филиппа VI. Пр
	и этом армия Эд
	уарда III впервы
	е в Европе 
	использует п
	ушки\, мечущие кр
	углые ядра.13
	82 — Тохтамы
	ш захватил Мо
	скву.1498 — 2
	3-летний 
	Микеланд
	жело полу
	чил заказ на
	 создание скул
	ьптурной груп
	пы для собора свя
	того Петра в Рим
	е. «Пьета»\, и
	ли «Оплак
	ивание Хр
	иста».154
	2 — П
	о Нюрнбе
	ргскому 
	договору
	 Лотарин
	гия получила
	 независимост
	ь от Германии
	.1545 — Сын 
	папы римског
	о Павла III 
	Пьетро Фа
	рнезе осн
	овал герцо
	гство Пар
	ма.1641 — Г
	олландская Зап
	адно-Индийская к
	омпания захвати
	ла Луанду\, Ангола
	.XVIII век1723 — 
	В Петерг
	офе пущен 
	комплекс ф
	онтанов.1728 
	— Витус Б
	еринг откр
	ыл пролив межд
	у Азией и Амер
	икой\, получив
	ший название
	 Берингов про
	лив.1735 — русска
	я армия впервые 
	в своей истории
	 вышла к Рейну
	.1768 — Нача
	ло 1-го круго
	светного пл
	авания англ
	ийского мо
	реплавател
	я Джеймса К
	ука.1770 — В
	 «Трудах
	 Вольного
	 экономич
	еского об
	щества» по
	явилась пер
	вая научная
	 статья на
	 тему кар
	тофеля «
	Примечани
	я о картоф
	еле». Вп
	ервые н
	азвание
	 картофель
	 ввёл в рус
	скую речь у
	чёный-агро
	ном Андрей 
	Тимофеевич 
	Болотов\, ко
	торый первым 
	в России приступ
	ил к выращиванию
	 культуры на ого
	роде (а не на 
	клумбах)\, п
	оложив тем
	 самым начало м
	ассовому распр
	остранению на 
	Руси «второго 
	хлеба». В 1840
	 г. Прави
	тельство п
	редприняло
	 меры по вне
	дрению ку
	льтуры вы
	ращивания 
	картофеля\
	, что встрети
	ло сильное сопрот
	ивление крестья
	н («картофельны
	е бунты» в 1842)
	. 1789 — Во 
	Франции пр
	инята Декла
	рация прав ч
	еловека и гра
	жданина\, докуме
	нт\, заложивший
	 основы буржуазного прав
	а в Европе.1791 — Америк
	анец Джон Фитч (John Fi
	tch) запатентова
	л пароход (за
	 20 лет до Роб
	ерта Фултона)\, пр
	одемонстрирован
	ный ещё четырьмя
	 годами ранее.X
	IX век1801 —
	 Филипп Ле
	бон патен
	тует двух
	тактный дви
	гатель внутре
	ннего сгорания
	\, но довести ко
	нструкцию до 
	ума не успева
	ет. 1810 — ср
	ажение русски
	х и турецких во
	йск в районе се
	ла Батин в Болгарии\
	, близ устья реки
	 Янтры.1813 — 
	Сражение у 
	Кацбаха.1
	833 — Чле
	ны экс
	педиц
	ии Джон
	а Росса 
	обнаружены
	 на острове 
	Баффинова Зе
	мля (арктичес
	кая Канада) после
	 того\, как три 
	года прожили
	 среди мест
	ных племён
	.1858 — Отпра
	влена пер
	вая новос
	ть транса
	тлантичес
	ким телегр
	афом\, - пр
	иветств
	енные те
	леграммы
	 королевы
	 Виктории
	 президенту 
	Бьюкенену\
	, вскорос
	ти кабель 
	проржаве
	л и выше
	л из строя1
	866 — прин
	ятие Шами
	лем присяги на
	 верноподданст
	во России.187
	7 — Одерж
	ана побед
	а на Шип
	ке.1883
	 — 
	Силь
	нейш
	ее изве
	ржение вул
	кана Кракатау
	 в Индонезии пок
	рыло пеплом площадь
	 свыше 800 тыс. к
	м? и вызвал
	о цунами\, от
	 которого на ос
	тровах Ява и 
	Суматра погибл
	о около 36 тыс
	. человек.188
	4 — Амер
	иканец О
	ттмар М
	ергент
	алер з
	апатен
	товал лин
	отип.1895 — На
	 Ниагарск
	ом водопад
	е открыта
	 гидроэлек
	тростанция.
	XX век1903 
	— Пал
	еонто
	лог Отто
	 Хаузер об
	наруживает 
	прекрасно со
	хранившийся с
	келет кромань
	онца.1907 — З
	акованный 
	в цепи и б
	рошенный в 
	воду иллюзи
	онист Гарри
	 Гудини всплыл
	 на поверхность 
	через 57 секунд 
	(Аквапарк в 
	Сан-Францис
	ко).1914 — 
	Первая
	 мирова
	я войн
	а: вой
	ска Г
	ерман
	ской и
	мперии р
	азгромили
	 войска Р
	оссийско
	й империи
	 в Битве
	 при Тан
	ненберг
	е.1920 — Дек
	ретом ВЦИК
	 и Совнарко
	ма РСФСР образован
	а Киргизская АССР\; 
	с 1925 года — Казакс
	кая АССР\; с 1936 го
	да — союзная
	 ССР\, ныне неза
	висимый Казах
	стан.1925 — не
	кий Шарль А
	нри заявляет
	\, что с помощ
	ью рентген
	а ему удал
	ось засня
	ть «призн
	аки души» чело
	век (по мнению и
	сследователей 
	паранормальных
	 явлений\, за \"
	душу\" Анри п
	ринял полу
	ченный им
	 первый сн
	имок коро
	нного раз
	ряда\, якоб
	ы доказыва
	ющий существов
	ание так называемого
	 биополя (\"эффект Нарк
	евича\"\, \"Эффект Теслы\"\, \"Эффект Кирл
	иана\") https://ru.wikipedia.org/wiki/Эф
	фект_Кирлиан
	а1928 — Мэй Д
	оногхью пи
	ла имбирное
	 пиво в кафе
	 города Пейсли
	\, Шотландия\, 
	когда обнаруж
	ила в банке 
	с напитком ул
	итку. Она под
	ала гражданс
	кий иск на пр
	оизводителей
	\, который пе
	рерос в од
	но из знаме
	нитнейших д
	ел в истори
	и англо-сак
	сонского Общ
	его права\, из
	вестное как
	 дело «Доно
	гхью проти
	в Стивенс
	она».1939 
	— Юго
	славск
	ое пра
	витель
	ство пре
	доставило 
	автономию 
	Хорватии (см
	. Соглашение Ц
	ветковича — Мач
	ека).1944 — Вто
	рая мировая 
	война: вме
	сте с час
	тями 2-й
	 броне
	танков
	ой дивизии
	 «Свободна
	я Франция» 
	генерал Шарл
	ь де Голль вс
	тупает в Пар
	иж.1946 — ЦК 
	ВКП(б) п
	ринял п
	ечально 
	известное
	 постановл
	ение «О реперт
	уаре драматич
	еских театров
	 и мерах по 
	его улучшен
	ию».1947 —
	 Америк
	анское 
	команд
	ование
	 в Итал
	ии сняло
	 запрет 
	на нере
	гулируе
	мое заклю
	чение бр
	аков аме
	риканских с
	олдат с ита
	льянскими дев
	ушками (это ог
	раничение был
	о введено\, ка
	к ни странн
	о\, не для с
	охранения
	 порядка в о
	тношениях 
	военнослуж
	ащих Армии
	 США с жит
	елями Итал
	ии\, а из-з
	а распро
	странивш
	ейся натур
	ализации 
	итальянок как
	 гражданок СШ
	А путем зак
	лючения бр
	ака с амер
	иканцами)195
	2 — Вперв
	ые вводит
	ся фторир
	ование во
	допровод
	ной воды.
	1957 — 
	ТАСС 
	сообщило
	 об успешн
	ом испыт
	ании меж
	континента
	льной балли
	стической рак
	еты.1972 — В 
	Мюнхене о
	ткрылись 
	XX летние
	 Олимпий
	ские игр
	ы. Спорт
	ивные 
	состязани
	я омрачил т
	еррористиче
	ский акт проти
	в израильских 
	спортсменов.1
	978Папой рим
	ским Иоан
	ном Павлом
	 I избран вен
	ецианский кард
	инал Альбино Люча
	ни. Последний на н
	астоящее (2015) врем
	я папа-итальянец\
	, самый коротки
	й понтификат 
	в XX веке\, о
	кончивш
	ееся пр
	и дово
	льно 
	стра
	нных
	 обст
	оятел
	ьства
	х.Зигм
	унд Йен 
	становится 
	первым герма
	нским космонав
	том на борту кора
	бля «Союз-31».1980 — Джон Бир
	джес заложил бомбу в отеле 
	«Harvey’s Resort»\, Невад
	а\, США.1982
	 — В Арген
	тине снят за
	прет на деяте
	льность поли
	тических пар
	тий.1991 — П
	ятый день 
	после пут
	ча. Начал
	ась внеоч
	ередная се
	ссия парла
	мента СССР.
	 Приостано
	влена деят
	ельность К
	ПСС на все
	й террито
	рии стран
	ы. Аресто
	ван бывши
	й председа
	тель Верхо
	вного Сове
	та СССР А
	натолий Лу
	кьянов. С 
	балкона 
	своей квартиры выб
	росился управляющий делами ЦК 
	КПСС Николай Кручина.
DTSTART;VALUE=DATE:20150826
END:VEVENT
END:VCALENDAR
