BEGIN:VCALENDAR
VERSION:2.0
PRODID:-//IP.Board Calendar 4.0.13.1//EN
METHOD:PUBLISH
CALSCALE:GREGORIAN
X-WR-CALNAME:В этот день в прошлом
BEGIN:VTIMEZONE
TZID:Europe/London
TZURL:http://tzurl.org/zoneinfo/Europe/London
X-LIC-LOCATION:Europe/London
BEGIN:DAYLIGHT
TZOFFSETFROM:+0000
TZOFFSETTO:+0100
TZNAME:BST
DTSTART:20150329T020000Z
RRULE:FREQ=YEARLY;BYMONTH=3;BYDAY=-1SU
END:DAYLIGHT
BEGIN:STANDARD
TZOFFSETFROM:+0100
TZOFFSETTO:+0000
TZNAME:GMT
DTSTART:20151025T020000Z
RRULE:FREQ=YEARLY;BYMONTH=10;BYDAY=-1SU
END:STANDARD
END:VTIMEZONE
BEGIN:VEVENT
SUMMARY:Развилки Дня
DTSTAMP:20150826T194141Z
SEQUENCE:0
UID:e4c60fb12618e4d252861827e0c42209@172.17.0.3
ORGANIZER;CN="ясмин джакмич":fai@fai.org.ru
DESCRIPTION:\n27 августа1
	666 — Принят
	 план реко
	нструкции
	 кафедрал
	ьного собор
	а Святого Пав
	ла\, предлож
	енный архит
	ектором Крист
	офером Реном.
	1760 — Импер
	атрица Елиз
	авета издала у
	каз\, запреща
	ющий взяточнич
	ество госчинов
	ников.1776 — Л
	онг-Айлендс
	кое сражени
	е\, между а
	нглийским
	и войсками
	 генерала Уиль
	яма Хау и аме
	риканскими 
	силами генер
	ала Израэля 
	Патнэма.1783
	 — Первый 
	полёт шар
	льера — аэ
	ростата\, напо
	лненного водор
	одом. Полёт был
	 осуществлён на
	д Парижем.1783 
	— Из Охотск
	а на трёх г
	алиотах к
	 берегам 
	Северной
	 Америки 
	вышла экс
	педиция куп
	ца-предприн
	имателя и зем
	лепроходца Гр
	игория Шелехов
	а.1813 — Дрезденска
	я битва\, побед
	а Наполеона 
	над союзной 
	армией.1855
	 — В Ло
	ндоне про
	демонстрир
	ована походн
	ая кухня кон
	струкции Алек
	сандра Сойера\,
	 на которой пищ
	у для батальона пр
	иготовили\, использ
	уя 21 кг дров вмес
	то обычных 800 
	кг.1857 — Писател
	ь Фёдор Достоевс
	кий получил звание прапорщ
	ика.1859 — \"Полковник\" Эдвин Дрейк (
	Edwin Laurentine Drake) близ ам
	ериканског
	о города Тай
	тасвилла (шт.
	 Пенсильван
	ия) пробури
	л первую н
	ефтяную с
	кважину. 
	Эта дата 
	считается 
	началом раз
	вития амери
	канской неф
	тяной промы
	шленности.1
	875 — Леко
	к де Буабодр
	ан открывае
	т предсказ
	анный Менде
	леевым элеме
	нт галлий.18
	78 — Российс
	ким Департа
	ментом полиц
	ии был издан
	 секретный 
	циркуляр\,
	 в которо
	м указыв
	алось: «По
	литические
	 преступники
	 составляют 
	совершенно о
	собую категор
	ию\, а поэтому и
	 должны быть 
	содержимы о
	тдельно от 
	прочих закл
	ючённых».18
	79 — Русск
	ая револю
	ционная ор
	ганизация «
	Земля и вол
	я» прекрати
	ла своё сущ
	ествование\, р
	асколовшись н
	а «Народную 
	волю» и «Чёр
	ный Передел».18
	98 — Основан 
	Киевский пол
	итехнически
	й институт.190
	0 — В Англии 
	начали движе
	ние первые ме
	ждугородние 
	автобусы.1912 
	— Эдгар Ра
	йс Берроуз оп
	убликовал в 
	журнале пер
	вый рассказ
	 о приключе
	ниях Тарза
	на.1918 — 
	Белогв
	ардейс
	кое обла
	стное пра
	вительств
	о Урала в
	осстановило 
	частную собс
	твенность на 
	землю и сред
	ства произво
	дства.1919 — С
	овнарком п
	ринял декрет о
	 национализации в
	сей кино- и фотоп
	ромышленности Ро
	ссии. С 1979 года 
	эта дата от
	мечалась как Де
	нь советского к
	ино\, ныне — ка
	к День российс
	кого кино.192
	9 — в СССР в
	ведена «неп
	рерывка»: б
	ыла ликвидир
	ована семиднев
	ная неделя\, вм
	есто неё введена
	 пятидневка\, од
	ин из дней кот
	орой был вых
	одным.1939 
	— Первый 
	полёт реа
	ктивного 
	самолёта
	 с турбор
	еактивны
	м двигат
	елем. Полёт со
	вершён немецк
	им экспериме
	нтальным само
	лётом Хейнкель «H
	e 178» немецкого
	 авиаконстр
	уктора Эрнс
	та Хейнкеля.
	1940 — Первый полёт п
	ервого итальянского реактивног
	о самолёта «Caproni Campini N.1
	»..1946 — В США
	 испытано ав
	томатически 
	катапультирую
	щееся кресло п
	илота.1955 — Вышло
	 в свет первое изда
	ние Книги рекордо
	в Гиннесса на 198
	 страницах.19
	59 — В СССР
	 принято пос
	тановление 
	о награждении выпус
	кников школ медалями.
	1962 — Космическая мисс
	ия Mariner 2 отправил
	ась на иссле
	дование Вене
	ры.1966 — Постан
	овлением ЦК 
	КПСС организ
	ован Институт
	 военной истории.
	1977 — На Черноб
	ыльской АЭС п
	ущен первый 
	блок1978 — В Ира
	не отменён за
	прет на деят
	ельность пол
	итических парт
	ий.1979 — гибель 
	лорда Маунтбетт
	ена от взрыва бомбы
	 ИРА в Слайго-Бэй
	\, графство Сла
	йго\, Ирландия.1982
	 — Приземлени
	е космического корабля Со
	юз Т-5.1985 — Начало пол
	ёта Дискавери STS-51I
	.1991 — Провоз
	глашение нез
	ависимости Молдавии.2000
	 — Пожар на Останкинской телебашне в 
	Москве.
DTSTART;VALUE=DATE:20150827
END:VEVENT
END:VCALENDAR
