BEGIN:VCALENDAR
VERSION:2.0
PRODID:-//IP.Board Calendar 4.0.13.1//EN
METHOD:PUBLISH
CALSCALE:GREGORIAN
X-WR-CALNAME:В этот день в прошлом
BEGIN:VTIMEZONE
TZID:Europe/London
TZURL:http://tzurl.org/zoneinfo/Europe/London
X-LIC-LOCATION:Europe/London
BEGIN:DAYLIGHT
TZOFFSETFROM:+0000
TZOFFSETTO:+0100
TZNAME:BST
DTSTART:20150329T020000Z
RRULE:FREQ=YEARLY;BYMONTH=3;BYDAY=-1SU
END:DAYLIGHT
BEGIN:STANDARD
TZOFFSETFROM:+0100
TZOFFSETTO:+0000
TZNAME:GMT
DTSTART:20151025T020000Z
RRULE:FREQ=YEARLY;BYMONTH=10;BYDAY=-1SU
END:STANDARD
END:VTIMEZONE
BEGIN:VEVENT
SUMMARY:Развилки Дня
DTSTAMP:20150827T083125Z
SEQUENCE:0
UID:75869ae67ca3a8b1d71edcad215b8622@172.17.0.3
ORGANIZER;CN="ясмин джакмич":fai@fai.org.ru
DESCRIPTION:\n28 августа\n До 
	XIX века1565 — О
	снован С
	ан-Агости
	н (Флорида)
	\, первое п
	остоянно
	е поселе
	ние европ
	ейцев в С
	еверной Ам
	ерике.1609 — А
	нглийский 
	мореплават
	ель Г. Гудз
	он открыл з
	алив Делавэр.173
	9 — Поражени
	е турецкой а
	рмии в битве 
	под Ставучан
	ами.1789 — Уильям Г
	ершель открыва
	ет Энцелад\, 
	спутник Сат
	урна.XIX век
	1851 — 
	Отк
	рыто 
	сквозно
	е железн
	одорожно
	е движение
	 между Са
	нкт-Петерб
	ургом и Москвой.18
	54 — Выходит первый номер леге
	ндарного журнала Scientific 
	American.1883Извер
	жение вулкан
	а Кракатау.В 
	Британской и
	мперии запре
	щено рабство.XX в
	ек1901 — Откры
	тие трамвайн
	ого движения
	 в Твери.190
	4 — В аме
	риканско
	м городе 
	Ньюпорт 
	автоводи
	тель впервые 
	приговорён к
	 тюремному з
	аключению за
	 превышение
	 скорости.1
	908 — Состоял
	ся первый п
	олёт перво
	го россий
	ского д
	ирижабл
	я «Учебн
	ый».1910Н
	ачал
	ся ав
	топр
	обег 
	Санкт-Пе
	тербург
	 — Неапол
	ь — Санкт-П
	етербург на
	 автомобиля
	х «Руссо-Бал
	т»\, построен
	ных на рижс
	ком Русск
	о-Балтийск
	ом вагонн
	ом заводе
	. Вместе с
	о спортс
	менами-
	автомо
	билиста
	ми ехал 
	знамен
	итый фо
	тограф
	 В. К. Бу
	лла.Черно
	гория пр
	овозгласи
	ла полную н
	езависимост
	ь от Турции
	\, теперь это нез
	ависимое корол
	евство во главе
	 с монархом Ник
	олаем I.1914 —
	 Совершил свой
	 первый полёт пер
	вый цеппелин с крес
	тообразным хвостом\, «LZ
	-27». Выполнив около 5
	0 полётов\, он разби
	лся в1916 году 
	во время в
	ынужденной
	 посадки.1920 
	— Проведе
	на Всеросс
	ийская ста
	тистическая
	 перепись.193
	3 — Англий
	ская полиция
	 впервые испо
	льзовала рад
	ио для поимк
	и преступника
	. По «Би-Би-Си
	» были передан
	ы приметы пре
	ступника\, по
	дозреваемого
	 в убийстве.1
	936Основана
	 автомобильн
	ая компания «Тойота». О
	тцом-основателем стал К
	иичиро Тойода (Kiichir?
	 Toyoda).В Итали
	и открыт Н
	ациональный
	 автодром. Г
	оночная трасс
	а\, расположен
	ная рядом с ко
	ролевским пар
	ком «Монца»\
	, уже давно с
	тала легенда
	рной. Она не
	сколько раз 
	перестраивал
	ась\, постоян
	но (за исклю
	чением одног
	о года) является
	 местом проведен
	ия Гран-при Итал
	ии в гонках «Фо
	рмулы-1».1941 —
	 Принят Ук
	аз Прези
	диума В
	ерховно
	го Сове
	та СССР\
	, полож
	ивший
	 начало
	 депортац
	ии немцев П
	оволжья на с
	пецпоселени
	е в Сибирь и
	 Казахста
	н.1963Март
	ин Люте
	р Кинг с
	о ступен
	ей Мемориала
	 Линкольна п
	роизносит з
	наменитую р
	ечь «У меня
	 есть мечта
	».1976 — В Массачусетсе впервые
	 синтезирован искусственный ген.
DTSTART;VALUE=DATE:20150828
END:VEVENT
END:VCALENDAR
