BEGIN:VCALENDAR
VERSION:2.0
PRODID:-//IP.Board Calendar 4.0.13.1//EN
METHOD:PUBLISH
CALSCALE:GREGORIAN
X-WR-CALNAME:В этот день в прошлом
BEGIN:VTIMEZONE
TZID:Europe/London
TZURL:http://tzurl.org/zoneinfo/Europe/London
X-LIC-LOCATION:Europe/London
BEGIN:DAYLIGHT
TZOFFSETFROM:+0000
TZOFFSETTO:+0100
TZNAME:BST
DTSTART:20150329T020000Z
RRULE:FREQ=YEARLY;BYMONTH=3;BYDAY=-1SU
END:DAYLIGHT
BEGIN:STANDARD
TZOFFSETFROM:+0100
TZOFFSETTO:+0000
TZNAME:GMT
DTSTART:20151025T020000Z
RRULE:FREQ=YEARLY;BYMONTH=10;BYDAY=-1SU
END:STANDARD
END:VTIMEZONE
BEGIN:VEVENT
SUMMARY:Развилки Дня
DTSTAMP:20150829T090917Z
SEQUENCE:0
UID:a223fbf5cc32ec32d423c6c30aa8c563@172.17.0.3
ORGANIZER;CN="ясмин джакмич":fai@fai.org.ru
DESCRIPTION:\n29 августаXVII в
	ек1698 — Пёт
	р Великий пре
	дписал подданным б
	рить бороды и носить е
	вропейскую одежду.XVII
	I век1703 — По ука
	зу Петра I\,
	 на берег
	у Онежско
	го озера 
	начато ст
	роительст
	во железод
	елательног
	о завода\, кот
	орый впослед
	ствии дал начало
	 городу Петроз
	аводску.1756 —
	 Король Прус
	сии Фридрих II
	 с шестидес
	ятитысячной а
	рмией вторгся в Саксо
	нию\, положив начало Се
	милетней войне 1756—1
	763 гг.1758 — В Нью-
	Джерси созд
	ана первая и
	ндейская ре
	зервация.178
	2 — Британ
	ский линейный ко
	рабль «Ройал Джор
	дж» затонул на ре
	йде Портсмута. Из 12
	00 человек на бо
	рту погибло более
	 восьмисот.1793 — В
	 Санто-Доминго о
	тменено рабство.XI
	X век1827 — Сост
	оялась Ошак
	анская битв
	а.1831 — Майкл 
	Фарадей от
	крыл явлени
	е электром
	агнитной ин
	дукции.1842
	 — Нанки
	нским дог
	овором меж
	ду Великобр
	итанией и К
	итаем окон
	чилась Пер
	вая Опиумна
	я война. По д
	оговору Кит
	ай уступил Вел
	икобритании Гон
	конг и открыл для
	 её судов пять п
	ортов\, а также в
	ыплатил 23 милл
	иона долларов военных ко
	нтрибуций.1883 — В Оттаве
	 Томас Ахерн (Thomas Aher
	n) продемонстриров
	ал первую электр
	оплиту.1897 — В Б
	азеле\, на I Всемирн
	ом сионистском конг
	рессе\, проходившем с
	 29 по 31 августа\, 
	по инициат
	иве Теодора 
	Герцля\, бы
	ла создана
	 Всемирная
	 сионистская
	 организация\,
	 принявшая зв
	езду Давида 
	официальной эмбл
	емой.1898 — В Огайо 
	основана компания
	 «Гудиер»XX век1904 —
	 III Олимпийские игр
	ы открылись в Сен
	т-Луисе\, штат М
	иссури.1912 — В
	 Москве открыт
	а панорама Фр
	анца Рубо «Бороди
	нская битва».1926 
	— В Непале отм
	енено рабство.
	1929От Москвы 
	до Мытищ 
	пущена п
	ервая эл
	ектричка
	.Немецки
	й дирижабль 
	«Граф Цеппе
	лин» заверш
	ил первое кру
	госветное пут
	ешествие.1932
	 — Через Сурам
	ский перевал (Г
	рузия) прошёл 
	первый электропое
	зд.1938 — В СССР 
	введено зао
	чное обучен
	ие в ВУЗах.
	1945 — Комм
	унистиче
	ское прав
	ительство
	 Вьетнама 
	призвало 
	создать в каж
	дом населённ
	ом пункте ком
	итеты по выяв
	лению предате
	лей.1949Испытан
	ие первой ат
	омной бомбы 
	в Семипалати
	нске (СССР).
	Югославия
	 обратилас
	ь к США за
	 финансо
	вой помощью
	 для ликвидац
	ии последствий сов
	етской экономическ
	ой блокады.1957 — В
	 этот день в 19
	57 году бы
	ли сформ
	ированы пят
	ь отдельных
	 батальонов
	 специально
	го назначени
	я (Спецназ)\, под
	чинявшихся ком
	андующим военн
	ых округов и г
	рупп войск.197
	5 — В земном н
	ебе появляетс
	я сверхновая зв
	езда в созвездии 
	Лебедя.1982 — Уч
	ёные из Дармштадт
	а\, Западная Гер
	мания\, сообщи
	ли об откры
	тии 109-го эле
	мента пери
	одической 
	системы Ме
	нделеева —
	 мейтнерий.1
	991Верховн
	ый Совет
	 Азерба
	йджана 
	принял
	 декла
	рацию 
	«О во
	сстан
	овлен
	ии госу
	дарстве
	нной нез
	ависимо
	сти Азер
	байджанск
	ой Республ
	ики».Выступая
	 по «Радио Рос
	сия» президен
	т РСФСР Борис Е
	льцин заявил\, 
	что «идея Сою
	за себя не и
	счерпала» и
	 что «нас 
	не должно
	 пугать 
	объявле
	ние рядо
	м республ
	ик своей
	 независимо
	сти».Закрыт 
	Семипалатинск
	ий ядерный пол
	игон в Казахс
	тане.1997 — В Мич
	игане из-за неэкономичности закрыт
	а старейшая в США АЭС.
DTSTART;VALUE=DATE:20150829
END:VEVENT
END:VCALENDAR
