BEGIN:VCALENDAR
VERSION:2.0
PRODID:-//IP.Board Calendar 4.0.13.1//EN
METHOD:PUBLISH
CALSCALE:GREGORIAN
X-WR-CALNAME:В этот день в прошлом
BEGIN:VTIMEZONE
TZID:Europe/London
TZURL:http://tzurl.org/zoneinfo/Europe/London
X-LIC-LOCATION:Europe/London
BEGIN:DAYLIGHT
TZOFFSETFROM:+0000
TZOFFSETTO:+0100
TZNAME:BST
DTSTART:20150329T020000Z
RRULE:FREQ=YEARLY;BYMONTH=3;BYDAY=-1SU
END:DAYLIGHT
BEGIN:STANDARD
TZOFFSETFROM:+0100
TZOFFSETTO:+0000
TZNAME:GMT
DTSTART:20151025T020000Z
RRULE:FREQ=YEARLY;BYMONTH=10;BYDAY=-1SU
END:STANDARD
END:VTIMEZONE
BEGIN:VEVENT
SUMMARY:Развилки Дня
DTSTAMP:20150830T211754Z
SEQUENCE:0
UID:96250a94f83891e6961f2cfaf4dec34b@172.17.0.3
ORGANIZER;CN="ясмин джакмич":fai@fai.org.ru
DESCRIPTION:\n30 августаДо XIX
	 века1700 — Росс
	ия вступила в 
	Северную вой
	ну на стороне
	 Северного сою
	за.1703 — Произо
	шло первое нав
	однение в ист
	ории Петербург
	а.1757 — В сра
	жении при
	 Гросс-Еге
	рсдорфе р
	усская ар
	мия под к
	омандова
	нием гене
	рал-фельдмарш
	ала С. Ф. Апракс
	ина нанесла пора
	жение прусским 
	войскам.XIX век181
	3 — Сражение под 
	Кульмом.Поворотны
	й момент в компании 
	1813 года1842 — меж
	ду Северным 
	и Балтийским
	 морями\, в п
	роливе Ска
	геррак нас
	какивает н
	а подводны
	е камни и 
	терпит кр
	ушение ид
	ущий под А
	ндреевски
	м флагом «
	Ингерманл
	анд» — 74-
	пушечный л
	инейный ко
	рабль Воен
	но-Морского Фл
	ота Российско
	й империи. В 
	результате кат
	астрофы погибли
	 340 подданных 
	Российской Империи.1860 
	— Запущен первый британский т
	рамвай (Birkenhead Street).1873 —
	 Открыта Зем
	ля Франца-Ио
	сифа.1877 —
	 Францу
	зский 
	изобре
	татель
	-самоу
	чка Эмиль
	 Рено запате
	нтовал прак
	синоскоп — прарод
	итель мультипликации.XX век1901 —
	 Хьюберт Сесил Бут (Hubert 
	Cecil Booth) запатент
	овал элект
	рический п
	ылесос.190
	6 — Заве
	ршилось 
	плавание
	 норвежск
	ого исследов
	ателя Руаля А
	мундсена чере
	з Северо-Западн
	ый морской проход.
	1914 — Первая мир
	овая война: битв
	а при Танненбер
	ге.1918Покушен
	ие Фанни Кап
	лан на Ленина.
	В Петроград
	е поэт Леони
	д Каннегисе
	р убил Моис
	ея Урицкого
	1928 — Джава
	харлал Не
	ру потребова
	л независимости 
	Индии. Создана Ли
	га независимости
	 Индии.1935 — VII
	 конгрес
	с Коминте
	рна в Мос
	кве приня
	л тактику 
	«единого фр
	онта» — объеди
	нения с социал-
	демократами в 
	борьбе с фашиз
	мом.1940В СССР ис
	пытывается п
	ервый советс
	кий паровоз б
	ез топки.194
	3 — Крас
	ной арми
	ей  освобожд
	ён Таганрог.
	 Завершено 
	освобождени
	е Ростовской обл
	асти.1944 — Вст
	упление Сове
	тской армии в
	 Бухарест.194
	6 — Военно
	й коллегие
	й Верховного
	 Суда СССР вы
	несен приговор
	 по делу атаман
	а Семёнова\, 
	Родзаевског
	о и других лиц
	\, арестованных
	 на территория
	х русской общ
	ины вдоль КВЖ
	Д в Китае195
	4 — Франция
	 отвергла Пар
	ижский догов
	ор о Европей
	ском оборонном с
	оюзе\, что приве
	ло к распаду эт
	ого объединения.1
	957 — В СССР для
	 иностранцев 
	открыты пять г
	ородов.1963 — 
	Чтобы умень
	шить риск с
	лучайной яд
	ерной войны\, 
	между Москво
	й и Вашингто
	ном установ
	лена «горяч
	ая линия»198
	0 — В Пол
	ьше рабочим
	 предоставл
	ено право о
	бъединения 
	в независим
	ые профсоюз
	ы.1990 — Пр
	инимаетс
	я деклараци
	я о государс
	твенном сув
	еренитете Ре
	спублики Тат
	арстан.1991О
	бъявляет
	ся о деполи
	тизации КГБ 
	СССР.Азербай
	джан провозгл
	асил свою независи
	мость.1995 — фон Течнер и Ив
	арсёй создали компанию 
	Opera Software\, которая
	 продолжил
	а разработку б
	раузера. Этот день 
	разработчики счит
	ают «днём рождени
	я» Opera.1999 — В
	 ходе ре
	ференд
	ума пода
	вляющее
	 большин
	ство нас
	еления Восточного 
	Тимора проголосовало за незави
	симость от Индонезии.
DTSTART;VALUE=DATE:20150830
END:VEVENT
END:VCALENDAR
