BEGIN:VCALENDAR
VERSION:2.0
PRODID:-//IP.Board Calendar 4.0.13.1//EN
METHOD:PUBLISH
CALSCALE:GREGORIAN
X-WR-CALNAME:В этот день в прошлом
BEGIN:VTIMEZONE
TZID:Europe/London
TZURL:http://tzurl.org/zoneinfo/Europe/London
X-LIC-LOCATION:Europe/London
BEGIN:DAYLIGHT
TZOFFSETFROM:+0000
TZOFFSETTO:+0100
TZNAME:BST
DTSTART:20150329T020000Z
RRULE:FREQ=YEARLY;BYMONTH=3;BYDAY=-1SU
END:DAYLIGHT
BEGIN:STANDARD
TZOFFSETFROM:+0100
TZOFFSETTO:+0000
TZNAME:GMT
DTSTART:20151025T020000Z
RRULE:FREQ=YEARLY;BYMONTH=10;BYDAY=-1SU
END:STANDARD
END:VTIMEZONE
BEGIN:VEVENT
SUMMARY:Развилки Дня
DTSTAMP:20150830T213129Z
SEQUENCE:0
UID:766b06caa6c48072c710e750ecbb5828@172.17.0.3
ORGANIZER;CN="ясмин джакмич":fai@fai.org.ru
DESCRIPTION:\n31 августаДо XI
	X века1302 — 
	Франция и Си
	цилия догов
	орились заве
	ршить религио
	зную войну ме
	жду собой.14
	92 — заклю
	чен первы
	й мирный дого
	вор между Моск
	овским княжеств
	ом и Османской и
	мперией.1674 — 
	в Род-Айленде (С
	ША) запрещена
	 продажа спирт
	ных напитков 
	индейцам.179
	8 — в Сан
	кт-Петербу
	рге и Нико
	лаеве учр
	еждены уч
	илища кор
	абельной а
	рхитектуры (н
	ыне Высшее вое
	нно-морское ин
	женерное учил
	ище имени Ф. Э
	. Дзержинс
	кого\, Сан
	кт-Петер
	бург и Нац
	иональный 
	университет кора
	блестроения имени а
	дмирала Макарова\,
	 Николаев).XIX ве
	к1806 — Алек
	сандр I п
	ровозгласил
	 бескорыстие
	 основным прин
	ципом внешней п
	олитики России.18
	27 — Император 
	Николай I издал
	 рескрипт о то
	м\, что крепо
	стные крест
	ьяне и дворо
	вые люди не
	 должны обучат
	ься в заведени
	ях выше прихо
	дских и уезд
	ных училищ.
	1892 — Паве
	л Михайлов
	ич Третьяк
	ов предложи
	л Московск
	ой городск
	ой думе передат
	ь в дар городу соз
	данную им художес
	твенную галерею.X
	X век1907Англия\,
	 Россия и Ф
	ранция сфо
	рмировали 
	военно-пол
	итический союз
	 (Антанта) созданный 
	в противовес «Тройст
	венному союзу» (A-Ent
	ente).Россия и А
	нглия в Пет
	ербурге под
	писали догов
	ор о разграничен
	ии сфер влияния в И
	ране\, Афганистан
	е и Тибете.1914 
	— указом Николая
	 II Санкт-Петербу
	рг переименова
	н в Петроград.
	1920Из ворот за
	вода «Красно
	е Сормово» вышел
	 первый выпущен
	ный в СССР танк
	 типа М («Русск
	ий Рено»)\, п
	олучивший соб
	ственное имя 
	«Борец за ре
	волюцию товар
	ищ Ленин».192
	2 — в «Пра
	вде» опубл
	иковано сообщение
	 о высылке ряда интеллектуалов з
	а границу (рейсы «Oberb?rgermeister Haken» 2
	9—30 сентября и «Prussia» 16—17 
	ноября\, б.160 человек
	 + др. рейсы и поезда)
	. Среди высланных: Ни
	колай Бердяев\, С. Л.
	 Франк\, И. А. Ильин
	\, С. Е. Трубецкой\, Б
	. П. Вышеславцев\, А
	. А. Кизеветтер\, М. А.
	 Ильин (Осоргин)\, П.
	 А. Сорокин\, Ф. А. 
	Степун\, А. В. Фл
	оровский\, Сер
	гей Булгаков
	.1925 — приняти
	е декрета о вв
	едении всеобщег
	о начального обу
	чения в СССР.19
	26 — в Пагмане
	\, летней рез
	иденции эмир
	а Афганистан
	а Амануллы-х
	ана\, подпис
	ан договор
	 между СССР и 
	Афганистаном
	 «о нейтралите
	те и взаимном
	 ненападении
	».1928 — в Берли
	не прошла п
	ремьера мюзик
	ла «Трёхгрошовая 
	опера».1935 — рекорд Ст
	аханова — за смену (5 
	часов 45 минут) он добыл 10
	2 тонны угля\, превы
	сив норму в 14 р
	аз.1939Заверш
	ается сове
	тско-япон
	ский воор
	ужённый ко
	нфликт в р
	айоне рек
	и Халхин-
	Гол.Инсцен
	ированное 
	нападение н
	а немецкую 
	радиостанци
	ю в Глейвице\,
	 послужившее
	 предлогом д
	ля нападения
	 вермахта на По
	льшу\, следстви
	ем чего стало
	 начало Второй м
	ировой войны.19
	44 — Великая О
	течественная
	 война: Войска 2
	-го Украинског
	о фронта вошл
	и в столицу Р
	умынии\, город
	 Бухарест. Рум
	ыния окончат
	ельно выходи
	т из блока С
	тран Оси1
	947 — пе
	рвый п
	олёт 
	сельско
	хозяйственно
	го самолёта С
	ХА — прототи
	па многоцелев
	ого самолёта А
	н-2.1955Делег
	ация со
	ветских
	 работн
	иков се
	льского
	 хозяйст
	ва подве
	ргается нападен
	ию украинских национали
	стов в Виннипеге.Уильям
	 Кобб (William Cobb) в Ч
	икаго проде
	монстрировал
	 первый в мир
	е автомобил
	ь с солнечными 
	батареями.1957
	 — Малайзи
	я провозгла
	сила незави
	симость.196
	6Первый п
	олёт сов
	ершил анг
	лийский ис
	требитель 
	вертикальн
	ого взлёта 
	и посадки «
	Харриер».В 
	Нью-Йорке на
	чался первый
	 шахматный ту
	рнир между к
	омпьютерами.
	 За три года
	 до этого 
	состоялс
	я матч межд
	у советски
	ми и амери
	канскими э
	лектронными шахм
	атистами\, в котор
	ом победила сове
	тская сторона. В 19
	74 году уже про
	шёл первый ч
	емпионат ми
	ра\, в котором 
	победу также
	 одержала сов
	етская прогр
	амма «Каисса».19
	69 — власть в Б
	разилии захват
	ила военная хунта.
	1974 — Греция за
	явила о решени
	и выйти из НА
	ТО.1975 — Ме
	ждународн
	ый валютны
	й фонд при
	нял решен
	ие полнос
	тью отказать
	ся от расчёт
	ов золотом 
	при международ
	ных валютных ра
	счётах.1976Дева
	львация мек
	сиканского 
	песо.1977 —
	 первый п
	олёт реак
	тивного транспо
	ртного самолёта 
	укороченного взл
	ёта и посадки «Ан-
	72».1980 — в Поль
	ше образова
	н профсоюз 
	«Солидарно
	сть».1986:Ко
	раблекрушен
	ие пассажирско
	го парохода «Ад
	мирал Нахимов». П
	огибло 423 челов
	ека. Одно из
	 самых рез
	онансных\
	, мрачных и н
	еоднозначны
	х кораблекру
	шений в отеч
	ественной ис
	тории.1990 —
	 Восточна
	я и Западн
	ая Герман
	ия подписали 
	договор об об
	ъединении юр
	идических и 
	политически
	х систем.1991 — 
	о своей неза
	висимости об
	ъявила Респу
	блика Кыргыз
	стан.1993В Мо
	скве открылс
	я первый рос
	сийский авиа
	ционно-космич
	еский салон.1
	994Завершён
	 вывод ро
	ссийских 
	войск из 
	Германи
	и.Ирланд
	ская республ
	иканская арм
	ия объявила о
	 прекращении 
	вооруженной 
	борьбы.1997Т
	рагическая гиб
	ель в автокатас
	трофе в Париже 
	принцессы Уэл
	ьской\, Дианы
	.1998 — Госду
	ма России
	 отвергла
	 кандидатур
	у Виктора Ч
	ерномырдина\, предло
	женную Борисом Ельциным на пост премьер-
	министра.
DTSTART;VALUE=DATE:20150831
END:VEVENT
END:VCALENDAR
