BEGIN:VCALENDAR
VERSION:2.0
PRODID:-//IP.Board Calendar 4.0.13.1//EN
METHOD:PUBLISH
CALSCALE:GREGORIAN
X-WR-CALNAME:В этот день в прошлом
BEGIN:VTIMEZONE
TZID:Europe/London
TZURL:http://tzurl.org/zoneinfo/Europe/London
X-LIC-LOCATION:Europe/London
BEGIN:DAYLIGHT
TZOFFSETFROM:+0000
TZOFFSETTO:+0100
TZNAME:BST
DTSTART:20150329T020000Z
RRULE:FREQ=YEARLY;BYMONTH=3;BYDAY=-1SU
END:DAYLIGHT
BEGIN:STANDARD
TZOFFSETFROM:+0100
TZOFFSETTO:+0000
TZNAME:GMT
DTSTART:20151025T020000Z
RRULE:FREQ=YEARLY;BYMONTH=10;BYDAY=-1SU
END:STANDARD
END:VTIMEZONE
BEGIN:VEVENT
SUMMARY:Развилки Дня
DTSTAMP:20150507T113251Z
SEQUENCE:0
UID:a5acd884f33f1b9f303fe0637d572b3e@172.17.0.3
ORGANIZER;CN="ясмин джакмич":fai@fai.org.ru
DESCRIPTION:\n7 мая1104 — К
	рестоносцы поте
	рпели поражение 
	в битве при Харр
	ане.\n1253 — И
	з Констан
	тинополя
	 к монгол
	ам отпра
	вилось ф
	ранцузское
	 посольство с мон
	ахом-францисканц
	ем Виллемом Рубр
	уком во главе.\n16
	63 — В центре
	 Лондона открылс
	я Королевский теа
	тр. Ныне это старе
	йший театр Англии
	.\n1744 — Указ Елизавет
	ы Петровны об отме
	не в России смерт
	ной казни.\n1785 
	— Француз 
	Жан Пьер Ф
	рансуа Бла
	ншар вместе
	 с американ
	цем Джоном Джеффр
	исом впервые перес
	ёк Ла-Манш на возд
	ушном шаре.\n182
	4 — В Вене 
	состоялос
	ь первое и
	сполнение
	 Девятой с
	имфонии Л
	юдвига Ван Бет
	ховена. Посвящё
	нная королю Пру
	ссии Фридриху Вильгел
	ьму III\, она была вст
	речена публикой овацией.
	\n1826 — начало работ по
	 составлению (182
	6—1830) перво
	го Полного с
	обрания законов
	 Российской импери
	и под руководством
	 М. М. Сперанского.\n18
	32 — Греция стала
	 независимым ко
	ролевством.\n1861 — Ш
	тат Теннесси при
	нял решение об о
	тделении от США.
	\n1875 — Подписан
	ие русско-я
	понского до
	говора об о
	бмене терр
	иториями\, 
	по котором
	у Курильские
	 острова уступали
	сь Россией Японии
	 в обмен на остро
	в Сахалин.\n188
	7 — Америк
	анец Тома
	с Стивенс 
	завершил первое
	 кругосветное путе
	шествие на велосипед
	е\, проехав 13500 миль и пр
	обыв в пути более трёх ле
	т.\n1890 — В России пересмо
	трены законы 1882 и 18
	85 гг. о работ
	е малолет
	них и подрос
	тков: для мал
	олетних допус
	калась девяти
	часовая работа\
	, а также работ
	а в праздники
	 с\nразрешения
	 инспекции\;
	 допущена н
	очная рабо
	та подростк
	ов\; фабрика
	нты также п
	олучили прав
	о увольнять рабоч
	его при неявке на 
	работу более шест
	и дней в месяц\n
	1895 — В Пете
	рбурге р
	усский 
	физик и э
	лектроте
	хник Алек
	сандр Попов пр
	одемонстрирова
	л изобретение\, 
	ставшее прототипом
	 радио.\n1915    Ге
	рманская под
	водная лодка
	 «U-20» атаковал
	а английский пас
	сажирский корабль 
	«Лузитания»\; пог
	ибло 1198 пассажи
	ров.1918 — Вос
	ставшие п
	ротив бо
	льшевико
	в донские 
	казаки и
	 прибывш
	ий отряд 
	полковн
	ика Дроз
	довского 
	освобожд
	ают от бо
	льшевиков
	 Новочерка
	сск. Оконча
	ние похода 
	Первой Отдел
	ьной бригады 
	Русских\nдоб
	ровольцев из Румы
	нии на Дон\, изве
	стного как «Дроз
	довский поход».\
	n1920    Подписан 
	договор о мире
	 между РСФСР и
	 независимой Гр
	узией.\n    В Ки
	ев вступили 
	украинские 
	и польские 
	войска.1940
	 — Моск
	овскому го
	сударственном
	у университету 
	присвоено имя Михаила Л
	омоносова.\n1941 — Оркестр Гл
	енна Миллера (Glenn Mil
	ler) записал одну из самых популя
	рных своих мелодий «Chattanooga Choo Choo
	».1945 — 7 мая в 2:41 ноч
	и в Реймсе\, был по
	дписан акт о ка
	питуляции Герман
	ии\n1946 — В Ток
	ио основана 
	компания «Т
	окио цусин ког
	ё» («Токийская ко
	мпания телесвяз
	и»)\, впоследств
	ии «Сони».\n19
	51 — Междун
	ародный о
	лимпийский ко
	митет пригласил СССР 
	принять участие в Олимпий
	ских играх 1952 года.\n19
	54\n    США\, Фра
	нция и Англия 
	ответили отк
	азом на пред
	ложение ССС
	Р войти в с
	остав НАТО
	.\n    Кап
	итуляцией
	 французск
	ого гарниз
	она заверш
	илось сраж
	ение при Дьенбь
	енфу\, решающе
	е сражение П
	ервой Индок
	итайской во
	йны.1956 — 
	Министр
	 здравоох
	ранения Вел
	икобритании от
	казался начать к
	ампанию по борьбе
	 с курением\, заявив\,
	 что он лично не у
	беждён в его вред
	е.1984 — На ули
	це схвачен
	 Андрей Са
	харов и до
	ставлен в Горько
	вскую областную
	 клиническую больн
	ицу им. Семашко.\n
	1985 — Постано
	вление ЦК КПСС о 
	мерах по преод
	олению пьянств
	а и алкоголизм
	а.\n1988 — Нача
	ло учред
	ительного
	 собрания
	 «Демократ
	ического со
	юза»\, перв
	ой оппозици
	онной КПСС полити
	ческой партии. Ли
	дер — Валерия Но
	водворская.\n1992
	\n    Вышел 
	указ Ельц
	ина — пер
	вого прези
	дента РФ —
	 о создании
	 Вооружённ
	ых Сил Рос
	сийской Федерац
	ии. Отмечается как Д
	ень Российских Воор
	ужённых Сил.1997\n
	    Компания Intel официа
	льно представила ми
	кропроцессор Pentium
	 II.\n    На Канн
	ском кинофестивале п
	рошла премьера фильма Люк
	а Бессона (Luc Besson) «П
	ятый элемент».1999 
	— Впервые с рас
	кола христианс
	кой церкви в 1054
	 году Папа римский посетил православну
	ю страну (Румынию).\n
DTSTART;VALUE=DATE:20150506
END:VEVENT
END:VCALENDAR
