BEGIN:VCALENDAR
VERSION:2.0
PRODID:-//IP.Board Calendar 4.0.13.1//EN
METHOD:PUBLISH
CALSCALE:GREGORIAN
X-WR-CALNAME:В этот день в прошлом
BEGIN:VTIMEZONE
TZID:Europe/London
TZURL:http://tzurl.org/zoneinfo/Europe/London
X-LIC-LOCATION:Europe/London
BEGIN:DAYLIGHT
TZOFFSETFROM:+0000
TZOFFSETTO:+0100
TZNAME:BST
DTSTART:20150329T020000Z
RRULE:FREQ=YEARLY;BYMONTH=3;BYDAY=-1SU
END:DAYLIGHT
BEGIN:STANDARD
TZOFFSETFROM:+0100
TZOFFSETTO:+0000
TZNAME:GMT
DTSTART:20151025T020000Z
RRULE:FREQ=YEARLY;BYMONTH=10;BYDAY=-1SU
END:STANDARD
END:VTIMEZONE
BEGIN:VEVENT
SUMMARY:Развилки Дня
DTSTAMP:20150831T100852Z
SEQUENCE:0
UID:6594529cf8bc5ff269157cc19fc9224e@172.17.0.3
ORGANIZER;CN="ясмин джакмич":fai@fai.org.ru
DESCRIPTION:\n1 сентябряДо XIX
	 века5509 год до н
	. э. — Конст
	антинопольс
	кая эра от «
	сотворения мир
	а».1271 — Папой 
	Римским избран
	 Тебальдо Виск
	онти\, взявши
	й имя Григор
	ия X.1482 — 
	Войска Кры
	мского хана 
	Менгли Гире
	я захватили
	 и разрушили 
	Киев.1492 — С
	 этого го
	да пост
	ановлением
	 Московского 
	Собора начало го
	да в Русском ц
	арствеперенесено с 
	1 марта на 1 сентяб
	ря.1581 — Ермак со
	брал отряд из 8
	40 человек д
	ля завоев
	ания Сиби
	ри.1612 — 
	Первый
	 день 
	Москов
	ской би
	твы меж
	ду войс
	ками Вт
	орого на
	родного
	 ополче
	ния и польс
	ко-литовс
	кой армие
	й велико
	го гетм
	ана литов
	ского Ходк
	евича.1712 — 
	Миссионер Ф
	рансуа Ксавье
	 д’Антреколь\,
	 находясь в Ки
	тае\, отпра
	вил во Фр
	анцию письм
	о\, раскрыв
	ающее се
	крет изг
	отовления
	 китайско
	го фарфор
	а. 1714 — 
	В Петерб
	урге зар
	аботала с
	озданная
	 по распо
	ряжению Пе
	тра I пер
	вая в Ро
	ссии го
	сударс
	твенная 
	публичная би
	блиотека\, нын
	е — Библиоте
	ка Российской 
	академии наук.
	XIX век1804 —
	 Немецкий а
	строном Кар
	л Хардинг от
	крыл третий 
	астероид Юнон
	у.1827 — В Росс
	ии введён за
	прет принимат
	ь крестьян в
	 высшие и с
	редние уч
	ебные за
	ведения.
	1858 — Пе
	рвый т
	рансатл
	антически
	й телеграф
	ный кабел
	ь окончательн
	о вышел из стр
	оя после ме
	нее чем м
	есячной э
	ксплуатац
	ии.1864Про
	изведё
	н перв
	ый пул
	ьманов
	ский с
	пальны
	й вагон.Ас
	троном Р
	ичард Ка
	ррингтон 
	обнаружи
	вает сол
	нечные п
	ротуберанц
	ы.1870 — Фр
	анко-пру
	сская вой
	на: Фран
	цузская ар
	мия разгромл
	ена в сражении 
	под Седаном\,
	 император На
	полеон III вз
	ят в плен.
	1887 — Э
	миль Берл
	инер полу
	чает пате
	нт за изо
	бретение гр
	аммофонной 
	пластинки.1
	897 — В Б
	остоне отк
	рылось метро.1
	900 — Открыти
	е Павелецког
	о вокзала в Мос
	кве.XX век1902 
	— во Фран
	ции на эк
	раны вышел
	 первый в 
	мире нау
	чно-фантаст
	ический фил
	ьм «Путешест
	вие на Луну» 
	режиссёра Ж
	оржа Мельеса.1
	919 — Открыла
	сь первая 
	в мире Го
	сударст
	венная к
	иношкола
	\, ныне 
	известна
	я как Все
	российский 
	государстве
	нный инстит
	ут кинемато
	графии им. 
	А. С. Ге
	расимов
	а.1920 —
	 Франци
	я провоз
	гласила с
	оздание 
	государс
	тва Ливан с
	о столицей в Бей
	руте.1923 — Вели
	кое землетрясен
	ие Канто\, (маг
	нитуда 8\,3)\,
	 Землетря
	сение стал
	о причиной
	 гибели н
	ескольких
	 сотен тыся
	ч человек 
	и причинил
	о значител
	ьный матер
	иальный ущ
	ерб. По ма
	сштабу р
	азрушени
	й и коли
	честву п
	острадав
	ших это зе
	млетрясение являе
	тся самым разрушите
	льным за всю историю Япо
	нии (300 000 зданий в Токио б
	ыло разрушено\, 174 
	тысячи\, ещё 542 
	тысячи числят
	ся пропавшими 
	без вести\, с
	выше милли
	она остались
	 без крова. О
	бщее число
	 пострада
	вших составило 
	около 4 миллио
	нов\, Материаль
	ный ущерб оценив
	ается в 4\,5 милл
	иарда долларо
	в\, что составля
	ло на тот мом
	ент два годо
	вых бюджета
	 страны и в п
	ять раз пр
	евышало р
	асходы Я
	понии в 
	Русско-я
	понской
	 войне.
	 После
	 бедст
	вия японск
	ое правит
	ельство 
	обсуждал
	о проект
	 переезда с
	толицы в Сеу
	л).1928 — Ал
	бания пр
	овозглашена 
	королевство
	м.1932 — Нача
	лась Перуа
	но-колумби
	йская вой
	на1939Нач
	алась 
	Вторая 
	мировая
	 война.Н
	ачалась
	 оборона В
	естерплатте
	.Опубликова
	на первая на
	учная стать
	я о чёрных дыра
	х.1951 — В Лонд
	оне открылс
	я первый в м
	ире суперм
	аркет.1953 — В 
	Москве на Л
	енинских го
	рах открыто
	 высотное зд
	ание МГУ.1964В
	первые на телеэ
	кране появилас
	ь передача «Спо
	койной ночи\, м
	алыши!».1969 — В
	оенный перев
	орот в Ливии
	 (Революция аль
	-Фатех)\, кот
	орый привё
	л к власти
	 Муаммара
	 Каддафи.1971
	 — Ката
	р провозг
	ласил себя
	 независи
	мым госуд
	арством.19
	73 — тер
	рорист 
	подорвал в
	зрывное уст
	ройство в М
	авзолее Лени
	на. Саркофаг не 
	пострадал\, 
	террорист 
	и двое посет
	ителей погибли.19
	83 — близ Саха
	лина сбит южн
	окорейский Боин
	г 747.1985 — Американ
	ско-французска
	я экспедиция н
	а глубине окол
	о 4 000 м обна
	ружила облом
	ки затонувше
	го после столкно
	вения с айсберг
	ом в 1912 год
	у лайнера «Т
	итаник».1991
	 — Прово
	зглашён с
	уверените
	т Узбеки
	стана.199
	7 — Об
	наружи
	ваются не
	известные
	 ранее су
	батомные
	 частицы 
	— «экзоти
	ческие мез
	оны».2000 
	— Виц
	е-прези
	дент С
	ША Эл Г
	ор и пр
	емьер-
	минист
	р Росс
	ии Мих
	аил Ка
	сьянов 
	подписа
	ли Согла
	шение м
	ежду Пр
	авитель
	ством Рос
	сийской 
	Федераци
	и и Правите
	льством Со
	единенных 
	Штатов Америк
	и об утилизаци
	и плутония\, 
	заявленного
	 как плутоний\
	, не являющийся
	 более необход
	имым для целей 
	обороны\, обраще
	нию с ним и сотрудни
	честву в этой области
	 (подписано 29 августа 200
	0 года в Москве и 1 сентября 2000 года в Ваш
	ингтоне).
DTSTART;VALUE=DATE:20150901
END:VEVENT
END:VCALENDAR
