BEGIN:VCALENDAR
VERSION:2.0
PRODID:-//IP.Board Calendar 4.0.13.1//EN
METHOD:PUBLISH
CALSCALE:GREGORIAN
X-WR-CALNAME:В этот день в прошлом
BEGIN:VTIMEZONE
TZID:Europe/London
TZURL:http://tzurl.org/zoneinfo/Europe/London
X-LIC-LOCATION:Europe/London
BEGIN:DAYLIGHT
TZOFFSETFROM:+0000
TZOFFSETTO:+0100
TZNAME:BST
DTSTART:20150329T020000Z
RRULE:FREQ=YEARLY;BYMONTH=3;BYDAY=-1SU
END:DAYLIGHT
BEGIN:STANDARD
TZOFFSETFROM:+0100
TZOFFSETTO:+0000
TZNAME:GMT
DTSTART:20151025T020000Z
RRULE:FREQ=YEARLY;BYMONTH=10;BYDAY=-1SU
END:STANDARD
END:VTIMEZONE
BEGIN:VEVENT
SUMMARY:Развилки Дня
DTSTAMP:20150902T073547Z
SEQUENCE:0
UID:2d6184e7a8c5cb813bf0c014f9d846b8@172.17.0.3
ORGANIZER;CN="ясмин джакмич":fai@fai.org.ru
DESCRIPTION:\n2 сентябряДо XVI
	II века31 до
	 н. э. 
	— Сра
	жение 
	при А
	кциу
	ме911
	 — 
	Князем 
	Олегом
	 подпи
	сан ми
	рный д
	огово
	р меж
	ду Ви
	занти
	ей и 
	Киевско
	й Русью.1642
	 — Англий
	ский револ
	юционный п
	арламент за
	претил теат
	ры.XVIII век
	1727 
	— Рус
	ская э
	кспеди
	ция Ви
	туса Бе
	ринга 
	отправ
	илась и
	з Охот
	ска на К
	амчатку.
	1752 — В
	еликоб
	ритания 
	и её коло
	нии прожи
	ли последни
	й день по 
	юлианском
	у календарю. Н
	а следующи
	й день вст
	упил в си
	лу григ
	орианск
	ий кален
	дарь.176
	2 — К
	урлян
	дия об
	язалас
	ь пропу
	скать р
	усские 
	войска 
	и согла
	силась
	 не преп
	ятствоват
	ь строите
	льству на
	 своей т
	ерритор
	ии прав
	ославно
	го храма
	.1792 — 
	Во Ф
	ранци
	и нача
	лись «
	сентя
	брьские 
	убийства»
	 — расправ
	а революци
	онной толпы на
	д заключёнными т
	юрем.1794 — Нач
	ало строите
	льства Одес
	сы.XIX век1807 
	— Начало
	 бомбард
	ировки Ко
	пенгаген
	а англий
	ским фло
	том.1834 — А
	мериканс
	кий полко
	вник Сэмюэл 
	Кольт запатенто
	вал револьвер.18
	85 — Бойня в Р
	ок-Спрингсе
	.XX век1918Т
	роцк
	ий н
	азна
	чен в
	ерхо
	вным 
	главн
	окома
	ндующи
	м Красн
	ой армией.
	В Сибири б
	елогвардейц
	ами схвачен ге
	нерал Александ
	р Таубе\, один
	 из первых царск
	их генералов\,
	 перешедший 
	на сторону 
	Советской вл
	асти.1922 — На
	 заводах Ген
	ри Форда появ
	илось предупре
	ждение\, что лю
	бого\, от ког
	о будет нест
	и запахом п
	ива\, вина и
	ли более крепки
	х напитков\, жд
	ёт немедленно
	е увольнение 
	с работы.194
	3 — частями
	 РККА осво
	бождён от
	 немецкой
	 армии го
	род Лиси
	чанск.19
	45Цер
	емо
	ние
	й к
	апи
	туля
	ции 
	Япон
	ии н
	а бор
	ту а
	мер
	ика
	нск
	ого
	 ли
	нко
	ра 
	«Мис
	сури
	» за
	кончи
	ласьВт
	орая миро
	вая война.
	Провозгла
	шена Демо
	кратическ
	ая Республика 
	Вьетнам.1958 —
	 Впервые вышло 
	в эфир телеви
	дение Китая.196
	2СССР объяв
	ил о том\, что о
	н будет тре
	нировать и
	 обучать 
	кубинских о
	фицеров.1965
	На совме
	стном за
	седании П
	резидиум
	а АН ССС
	Р\, колле
	гии Ми
	нистер
	ства с
	ельско
	го хозя
	йства 
	и През
	идиум
	а ВАС
	ХНИЛ п
	од пре
	дседа
	тельст
	вом през
	идента А
	Н СССР Мс
	тислава 
	Келдыша нане
	сён сокрушит
	ельный удар
	 по Т. Лыс
	енко и е
	го прис
	пешника
	м.1967 — 
	Отста
	вной 
	англий
	ский оф
	ицер Пад
	ди Бейтс 
	провозгла
	сил созда
	ние на мо
	рской пла
	тформе у б
	ерегов А
	нглии не
	зависимо
	го Княжес
	тва Силандия\
	, которое стал
	о предоставл
	ять гражданств
	о всем желающи
	м.1969 — один
	 из «дней
	 рожден
	ия Инте
	рнета». 
	В лабор
	атории 
	Калифор
	нийского
	 универси
	тета сос
	тоялась перв
	ая успешна
	я передача
	 данных ме
	жду сосе
	дними ко
	мпьютер
	ами.1971 —
	 Объедин
	ённая Ар
	абская Р
	еспубли
	ка расп
	алась на
	 Египет
	 и Сирию
	.1990 — про
	возглашено
	 создание 
	Приднестро
	вской Респ
	ублики в со
	ставе СССР
	.1991Нагор
	но-Кара
	бахская 
	Республ
	ика объ
	явила по
	лную нез
	ависимос
	ть от Аз
	ербайджана 1993Рос
	сия и США подписали соглаше
	ние о строительстве МКС.
DTSTART;VALUE=DATE:20150902
END:VEVENT
END:VCALENDAR
