BEGIN:VCALENDAR
VERSION:2.0
PRODID:-//IP.Board Calendar 4.0.13.1//EN
METHOD:PUBLISH
CALSCALE:GREGORIAN
X-WR-CALNAME:В этот день в прошлом
BEGIN:VTIMEZONE
TZID:Europe/London
TZURL:http://tzurl.org/zoneinfo/Europe/London
X-LIC-LOCATION:Europe/London
BEGIN:DAYLIGHT
TZOFFSETFROM:+0000
TZOFFSETTO:+0100
TZNAME:BST
DTSTART:20150329T020000Z
RRULE:FREQ=YEARLY;BYMONTH=3;BYDAY=-1SU
END:DAYLIGHT
BEGIN:STANDARD
TZOFFSETFROM:+0100
TZOFFSETTO:+0000
TZNAME:GMT
DTSTART:20151025T020000Z
RRULE:FREQ=YEARLY;BYMONTH=10;BYDAY=-1SU
END:STANDARD
END:VTIMEZONE
BEGIN:VEVENT
SUMMARY:Развилки Дня
DTSTAMP:20150903T074255Z
SEQUENCE:0
UID:9af5ddf0465bbdb690e686b73c6af536@172.17.0.3
ORGANIZER;CN="ясмин джакмич":fai@fai.org.ru
DESCRIPTION:\n3 сентября\n 36
	 до н. э. 
	— битва
	 при На
	влохе (
	Сицилия
	)\, где ф
	лот Окт
	авиана п
	од руково
	дством Аг
	риппы разб
	ил флотСекст
	а Помпея\, ч
	то положило
	 конец гра
	жданской в
	ойне между
	 Помпеем и 
	Октавиано
	м.32 — в 
	Мексике на
	писаны пер
	вые докум
	енты на ст
	елах эпох
	и поздних
	 Ольмеков.30
	1 — Осно
	вано Са
	н-Марин
	о — сам
	ое стар
	ое государс
	тво Европы
	.863 — Виз
	антия п
	обедила а
	рабов в б
	итве Лала
	каон.1189 —
	 Ричард Львин
	ое Сердце ко
	ронован на 
	английский
	 престол как
	 Ричард I.1
	260 — Маме
	люки разб
	или монго
	лов в битв
	е у Аин-Халут 
	в Палестине\,
	 нанеся первое
	 поражениеМон
	гольской империи.
	1539 — Римский п
	апа Павел I
	II признал
	 Орден иез
	уитов.1609
	 — Англий
	ский море
	плаватель
	 Генри Хад
	сон открыл 
	Нью-Йоркскую г
	авань.1650 — 
	Английская 
	революция: 
	Битва при 
	Данбаре.
	1690 — 
	Патриа
	рхом М
	осковским
	 и всея Рус
	и избран А
	дриан — м
	итрополит К
	азанский и С
	вияжский.1
	741 — в х
	оде войны 
	со шведами р
	усская армия з
	ахватила Вильманс
	транд (Финляндия)
	1752 — \"День\, кот
	орого не было
	\" в истори
	и Велико
	британии и
	 колоний. В 
	связи с п
	ереходом на 
	григорианский к
	алендарь после
	 2 сентября наст
	упило сразу 1
	4-е.1783 — 
	Подп
	исан
	 Версаль
	ский мирн
	ый догов
	ор. Вел
	икобри
	тания пр
	изнала н
	езависи
	мость США.17
	91 — во Ф
	ранции 
	объявлен
	а первая 
	в её истори
	и Конститу
	ция.1803 —
	 Джон 
	Дальто
	н делае
	т первую за
	пись со ст
	андартными
	 обозначени
	ями химиче
	ских элемен
	тов.1804 — 
	Русские в
	ойска во гл
	аве с Цици
	ановым остав
	или осаду Эри
	ванской крепост
	и.1812В Англии 
	появилась
	 первая в мир
	е банка ко
	нсервов\,
	 изготов
	ленная п
	ромышленн
	ым путём.185
	9 — Шамиль
	 отправлен 
	из Дагестан
	а в Санкт-П
	етербург.
	1864 — Взры
	в смел с л
	ица земли
	 стокголь
	мскую лабор
	аторию Альфр
	еда Нобеля\, г
	де он вместе 
	с отцом провод
	ил свои опыты
	 с нитроглице
	рином. Погибли
	 5 помощников\,
	 в том числе м
	ладший брат А
	льфреда — Эми
	ль. Отца от горя 
	разбил удар. Но
	 Альфред свои о
	пыты не прек
	ратил\, и через
	 три года по
	лучил патен
	т на изгото
	вление дин
	амита.1866 — в
	 Женеве на
	чался I кон
	гресс Пер
	вого интер
	национала.
	1875 — В Мос
	кве в торж
	ественной 
	обстановк
	е при огромн
	ом скоплени
	и народа\, 
	в присут
	ствии и
	мперат
	ора Але
	ксандра II п
	рошла тор
	жественна
	я закладка
	 здания Ис
	торическог
	о музея.1914
	Российс
	кие вой
	ска взяли Л
	ьвов.Кардин
	ал Джиакомо 
	делла Кьеза 
	избран Папой Бенедикт
	ом XV.Американка Мэри Фелпс Дж
	екобс (англ. Mary Phelps Ja
	cobs) изобрела
	 бюстгальт
	ер. «Опытны
	й» образец 
	она смастер
	ила с помо
	щью служанки и
	з носовых платк
	ов и запатентовал
	а своё изобретение
	 в 1915 году. Все 
	женщины в э
	то время носи
	ли корсеты\,
	 и поначалу 
	«бесспинн
	ый лифчик» у
	спеха не име
	л. Но пред
	приимчив
	ый муж изоб
	ретательн
	ицы\, служ
	ивший на ш
	вейной фаб
	рике нижнег
	о белья\, изгот
	авливавшей ко
	рсеты\, предлож
	ил своим хозяев
	ам новинку\, и те 
	оказались провидц
	ами\, приобретя у М
	эри патент за 15 
	тыс. долларо
	в. (Интерес
	но\, что
	 Мэри
	 — пр
	ямой 
	потомок
	 замечател
	ьного инж
	енера и из
	обретател
	я парохода
	 Роберта Фулт
	она.)1918 — ко
	мендантом
	 Кремля расст
	реляна Фанни
	 Каплан\, обвин
	ённая в покушении н
	а Ленина.1929 — Индустриал
	ьный индекс Dow Jones з
	акрыт на 381.17\, м
	аксимальном ур
	овне перед об
	валом 24 октяб
	ря того же года.
	1932 — начало
	сь строител
	ьство канал
	а имени Моск
	вы.1933 — 
	альпин
	ист Евг
	ений Абалако
	в достигает выс
	очайшей вершины
	 СССР — пика Комму
	низма (7495 м).19
	39 — Вел
	икобрита
	ния\, Фр
	анция\, 
	Индия\,
	 Авст
	ралия и
	 Новая 
	Зеланд
	ия объя
	вили вой
	ну Германии
	. Сентябрьск
	ая кампания
	 в Польше с
	тановится 
	Второй мир
	овой. 194
	0 — ан
	глийск
	ое правит
	ельство 
	объявило
	 государс
	твенную ко
	мпенсацию в
	ладельцам дом
	ов\, разрушенных
	 немецкой авиа
	цией — 2 тыс. 
	фунтов за каждый
	 дом1942 — наци
	стами уничт
	ожено гетто
	 в Кожан-Горо
	дке.1945 — Д
	ень побед
	ы СССР н
	ад милита
	ристской Яп
	онией (неско
	лько лет от
	мечался как гос
	ударственный праз
	дник\, но традици
	я не прижилась).1
	947 — После 
	перерыва\
	, вызван
	ного войно
	й\, возоб
	новилос
	ь строит
	ельство 
	Ленингра
	дского ме
	трополитена.
	1953 — Никита
	 Хрущёв избр
	ан первым с
	екретарём 
	ЦК КПСС.19
	71 — СС
	СР\, Ве
	ликобр
	итания
	\, США 
	и Фра
	нция под
	писали чет
	ырёхсторо
	ннее соглаше
	ние о статусеЗ
	ападного Берл
	ина. В нём было з
	афиксировано\
	, что город не являе
	тся частью ФРГ.19
	76 — Беспилотный ап
	парат Viking-2 соверш
	ает посадку на Ма
	рсе.1993 — в Масс
	андре Б. Ельц
	ин и Л. Кр
	авчук п
	одписали пр
	отокол об
	 урегулир
	овании спо
	ра вокруг 
	Черноморск
	ого флота.19
	96 — США наносят ракет
	ный удар по Ираку (операция «Удар в 
	пустыне»).
DTSTART;VALUE=DATE:20150903
END:VEVENT
END:VCALENDAR
