BEGIN:VCALENDAR
VERSION:2.0
PRODID:-//IP.Board Calendar 4.0.13.1//EN
METHOD:PUBLISH
CALSCALE:GREGORIAN
X-WR-CALNAME:В этот день в прошлом
BEGIN:VTIMEZONE
TZID:Europe/London
TZURL:http://tzurl.org/zoneinfo/Europe/London
X-LIC-LOCATION:Europe/London
BEGIN:DAYLIGHT
TZOFFSETFROM:+0000
TZOFFSETTO:+0100
TZNAME:BST
DTSTART:20150329T020000Z
RRULE:FREQ=YEARLY;BYMONTH=3;BYDAY=-1SU
END:DAYLIGHT
BEGIN:STANDARD
TZOFFSETFROM:+0100
TZOFFSETTO:+0000
TZNAME:GMT
DTSTART:20151025T020000Z
RRULE:FREQ=YEARLY;BYMONTH=10;BYDAY=-1SU
END:STANDARD
END:VTIMEZONE
BEGIN:VEVENT
SUMMARY:Развилки Дня
DTSTAMP:20150908T085737Z
SEQUENCE:0
UID:2534dc14b2b03e09ba71ef25810ae06c@172.17.0.3
ORGANIZER;CN="ясмин джакмич":fai@fai.org.ru
DESCRIPTION:\n8 сентябряДо
	 XIX века129
	6 — в
	о Фло
	ренции
	 состоял
	ась торжест
	венная цере
	мония закла
	дки собора 
	Девы Марии 
	с цветком.
	1380 — разгро
	м русским
	и войска
	ми монг
	оло-тат
	ар в К
	уликовс
	кой битв
	е.1395 —
	 в Москв
	у из Вла
	димира п
	еренесена
	 Владимир
	ская икона Бо
	жией Матери
	.1429 — шту
	рм Парижа
	 войсками
	 Жанны Д’
	Арк.1504 — Ми
	келанджело
	 завершил р
	аботу над 
	своей ску
	льптурой
	 «Давид».
	1514 — в 
	Битве
	 под О
	ршей 
	армия
	 Моск
	овского кн
	яжества б
	ыла разбит
	а войсками
	 Великого 
	княжества Ли
	товского.1522
	 — завер
	шено перв
	ое кругосв
	етное путеш
	ествие\, на
	чатое под
	 руководс
	твом Ферна
	на Магелла
	на. Из пяти
	 кораблей
	 Магелла
	на назад ве
	рнулся лишь од
	ин — «Виктория»
	 под командой бас
	ка Элькано\, а из 
	265 человек\, о
	тправлявшихся в п
	лавание\, благоп
	олучно вернулис
	ь на родину тол
	ько 18.1566 —
	 в ход
	е че
	твёрт
	ой Осман
	о-Габсбур
	гской во
	йны зако
	нчилась 
	героическа
	я Сигетварс
	кая битва.1
	636 — осн
	ован Гарва
	рдский унив
	ерситет\, с
	тарейший 
	из униве
	рситетов 
	Нового Свет
	а.1664Нидер
	ландска
	я колони
	я Новый 
	Амстерда
	м сдана а
	нгличанам
	 и поздне
	е переи
	менован
	а в Нью-Й
	орк.Лид
	ер русс
	ких старов
	еров протоп
	оп Аввакум 
	сослан царё
	м в Пустоозе
	рский монасты
	рь.1727 — в ссы
	лку отправле
	н генералиссим
	ус А. Меншиков\,
	 любимец Петра
	 I.1768 — Екатерина
	 II поручила английскому докт
	ору Томасу Димсдейлу (Thoma
	s J. Dimsdale) начать де
	лать в России 
	прививки от 
	оспы.1790 — С
	ражение у 
	мыса Тендр
	а.1791 — в 
	парижском Л
	увре художники 
	впервые выстави
	ли на обозрение
	 свои картины
	.XIX век1863
	 — в Сан
	кт-Петерб
	урге откр
	ылось движ
	ение конок
	 по Невскому
	 проспекту.18
	82 — в Рос
	сии введен
	ы временные
	 правила о ко
	нтроле мини
	стерства вн
	утренних д
	ел за газе
	тами и ж
	урналами.
	1900 — Галвес
	тонский ура
	ган уничто
	жил город Га
	лвестон в Теха
	се.XX век1914 — 
	совершив п
	ервый воздушн
	ый таран\, по
	д Львовом 
	гибнет штаб
	с-капитан Пёт
	р Нестеров.19
	26 — Германи
	я допущена в
	 Лигу Наций.1
	930 — сотруд
	ник компании
	 3M Ричард Д
	рю изобрет
	ает клейкую
	 ленту — ск
	отч.1934 — н
	ачав 6 
	сентяб
	ря восх
	ождение
	 на высшую 
	точку За
	алайског
	о хребта 
	— Пик Лени
	на (горная си
	стемаПамир)\
	, альпинисты
	 Виталий Абал
	аков\, Чернуха и
	 Лукин достигл
	и вершины и у
	становили 
	на ней бюст
	 Ленина.19
	41 — н
	емецкие во
	йска окру
	жили город
	 Ленинград. Н
	ачалась Блока
	да Ленинграда
	.1943Король В
	иктор Эмма
	нуил III объ
	явил о кап
	итуляции 
	Италии пе
	ред войска
	ми Союзни
	ков.1944 — пе
	рвое боев
	ое примен
	ение нем
	ецкого о
	ружия возм
	ездия Фау-
	2. Ракеты 
	запускал
	ись с гол
	ландскогопоб
	ережья. Целью 
	налётов были 
	Париж (утром) 
	и Лондон (в
	ечером).194
	5 — америка
	нские войск
	а высадили
	сь на юге К
	орейского 
	полуостро
	ва.1951 — 
	в Сан-Фр
	анциско 
	заключён
	 мирный 
	договор
	 между Яп
	онией и со
	юзниками\
	, соглас
	но кото
	рому Яп
	ония отказа
	лась от всех
	 прав на Южн
	ый Сахали
	н и Куриль
	ские остро
	ва.1952 — выш
	ло первое и
	здание пов
	ести Эрне
	ста Хеминг
	уэя «Стари
	к и море».19
	62 — на 
	Венециа
	нском к
	инофест
	ивале п
	риза «З
	олотой 
	лев святог
	о Марка» удо
	стоен фильм
	 Андрея Тар
	ковского «Ивано
	во детство».1965 
	— КГБ\, получ
	ивший информац
	ию о том\, кто с
	крывается 
	под именем
	 Абрама Тер
	ца\, аресто
	вал писат
	еля и лите
	ратуроведа 
	Андрея Синяв
	ского. Толчок
	 к дессиден
	тскому движению.1
	966 — выпущен пилотн
	ый выпуск культовог
	о сериала Star Trek.1
	967 — вступил
	а в строй 
	Братская 
	ГЭС.1974 
	— Уот
	ергейт
	ский с
	кандал
	: през
	идент
	 США Д
	жераль
	д Форд по
	миловал б
	ывшего пр
	езидента Р
	ичарда Никсо
	на за все пр
	еступления\, к
	 которым пос
	ледний имел 
	отношения в
	 период пре
	зидентства
	.1978 — демон
	страции п
	ротив шаха
	 в Тегеране
	 привели к бес
	порядкам. Войска
	 открыли огонь по де
	монстрантам: 122 челове
	ка погибло\, около 
	2000 получили ран
	ения.1982 — на воо
	ружение сов
	етских вой
	ск принят ЗПР
	К 2К22 «Тунг
	уска».19
	91 — 
	Макед
	ония п
	олучил
	а незав
	исимость
	.1993 — Б
	елору
	ссия и Росси
	я договорились о сохранении единого 
	денежного пространства.
DTSTART;VALUE=DATE:20150908
END:VEVENT
END:VCALENDAR
