BEGIN:VCALENDAR
VERSION:2.0
PRODID:-//IP.Board Calendar 4.0.13.1//EN
METHOD:PUBLISH
CALSCALE:GREGORIAN
X-WR-CALNAME:В этот день в прошлом
BEGIN:VTIMEZONE
TZID:Europe/London
TZURL:http://tzurl.org/zoneinfo/Europe/London
X-LIC-LOCATION:Europe/London
BEGIN:DAYLIGHT
TZOFFSETFROM:+0000
TZOFFSETTO:+0100
TZNAME:BST
DTSTART:20150329T020000Z
RRULE:FREQ=YEARLY;BYMONTH=3;BYDAY=-1SU
END:DAYLIGHT
BEGIN:STANDARD
TZOFFSETFROM:+0100
TZOFFSETTO:+0000
TZNAME:GMT
DTSTART:20151025T020000Z
RRULE:FREQ=YEARLY;BYMONTH=10;BYDAY=-1SU
END:STANDARD
END:VTIMEZONE
BEGIN:VEVENT
SUMMARY:Развилки Дня
DTSTAMP:20150909T105014Z
SEQUENCE:0
UID:82183aefd1a4746c73390f21bddb02cb@172.17.0.3
ORGANIZER;CN="ясмин джакмич":fai@fai.org.ru
DESCRIPTION:\n9 сентябряДо н
	ашей эры479 год до н.
	 э. — Битва п
	ри ПлатеяхДо 
	XIX века337
	 — Три с
	ына импе
	ратора Ко
	нстантин
	а поделил
	и между соб
	ой Римскую
	 империю.1
	513 — Битв
	а при Фло
	ддене — по
	ражение и ги
	бель корол
	я Шотланди
	и Якова IV от ан
	глийских вой
	ск.1570 — Тур
	ки захвати
	ли Никосию
	 (Кипр).1585
	 — Пап
	а римский 
	Сикст V лиш
	ил Генриха
	 Наваррского
	 права на ф
	ранцузскую 
	корону.17
	76 — Ут
	вержде
	но нов
	ое названи
	е Объединённ
	ых Колоний 
	Америки — 
	Соединённые 
	Штаты Америк
	и.XIX век180
	1 — Баку
	 и Бакин
	ская обла
	сть включены
	 в состав Рос
	сийской империи.1
	850 — Калифорн
	ия стала 31-
	м америк
	анским шт
	атом.1886
	 — В с
	толиц
	е Шве
	йцарии
	 Берне
	 подпи
	сана К
	онвенци
	я об ох
	ране л
	итера
	турных 
	и худо
	жеств
	енных 
	произв
	едений — 
	первое меж
	дународное
	 соглашение 
	в области а
	вторского п
	рава.1892 
	— Ам
	ериканск
	ий астроном 
	Э. Барнард 
	открыл пяты
	й спутник Ю
	питера — А
	мальтею.XX в
	ек1905 — В
	 России 
	издан ук
	аз о восс
	тановлении
	 автономии
	 университ
	етов и их
	 праве в
	ыбирать 
	ректоров
	.1907 — В
	 Петербу
	рге созда
	но Императ
	орское Русс
	кое военно-
	историческ
	ое общество
	.1913 — Рус
	ский в
	оенны
	й лётч
	ик Пё
	тр Нестеро
	в впервые
	 выполнил 
	фигуру с
	ложного
	 пилотажа
	 «мёртвая петля
	».1926 — Основана
	 американская
	 телекомпания
	 Эн-би-си (NB
	C).1932 — Исп
	анское п
	равительс
	тво предо
	ставило а
	втономию 
	Каталонии.1944
	Сентябрьс
	кое народн
	ое вооружё
	нное восстание в
	 Болгарии. 1945 — Окон
	чание Японо-китайс
	кой войны (1937—194
	5).1956 — Элвис
	 Пресли вп
	ервые появи
	лся на наци
	ональном теле
	видении.1969
	 — В Ка
	наде вс
	тупил в 
	действ
	ие Язы
	ковой 
	Акт\, п
	рово
	зглаш
	авший
	 английск
	ий и франц
	узский язы
	ки официал
	ьными на в
	сей территори
	и страны.1991
	Таджикист
	ан провозгл
	асил свою неза
	висимость.1998
	 — при пер
	вой попыт
	ке вывес
	ти в кос
	мос 12 
	косми
	чески
	х апп
	арато
	в сис
	темы 
	связ
	и Гло
	балст
	ар про
	изошёл от
	каз систем
	ы управлени
	я ракеты-но
	сителя сред
	него класса «
	Зенит-2». Ракета
	 вместе с пол
	езной нагруз
	кой упала в пред
	горьях Алтая199
	9В результате
	 теракта в 
	Москве в но
	чь на 9 сентяб
	ря был част
	ично разрушен
	 многоквартирный
	 жилой дом № 19 
	по улице Гурь
	янова. Погибл
	и 100 челове
	к.По ини
	циативе
	 Муаммара
	 Каддафи н
	а встрече 
	глав афри
	канских г
	осударств 
	в Сирте (Ливи
	я) была создана 
	Организация 
	Африканского Е
	динства (ОАЕ)\,
	 объединяющая 5
	3 государства 
	Африки. Эта о
	рганизация 
	9 июля 2002 года была официа
	льно преобразована в Африканский союз.
DTSTART;VALUE=DATE:20150909
END:VEVENT
END:VCALENDAR
