BEGIN:VCALENDAR
VERSION:2.0
PRODID:-//IP.Board Calendar 4.0.13.1//EN
METHOD:PUBLISH
CALSCALE:GREGORIAN
X-WR-CALNAME:В этот день в прошлом
BEGIN:VTIMEZONE
TZID:Europe/London
TZURL:http://tzurl.org/zoneinfo/Europe/London
X-LIC-LOCATION:Europe/London
BEGIN:DAYLIGHT
TZOFFSETFROM:+0000
TZOFFSETTO:+0100
TZNAME:BST
DTSTART:20150329T020000Z
RRULE:FREQ=YEARLY;BYMONTH=3;BYDAY=-1SU
END:DAYLIGHT
BEGIN:STANDARD
TZOFFSETFROM:+0100
TZOFFSETTO:+0000
TZNAME:GMT
DTSTART:20151025T020000Z
RRULE:FREQ=YEARLY;BYMONTH=10;BYDAY=-1SU
END:STANDARD
END:VTIMEZONE
BEGIN:VEVENT
SUMMARY:Развилки Дня
DTSTAMP:20150909T105443Z
SEQUENCE:0
UID:5cf85d5051040ea6b01680398d123549@172.17.0.3
ORGANIZER;CN="ясмин джакмич":fai@fai.org.ru
DESCRIPTION:\n7 сентябряДо
	 XIX века1191
	 — П
	обед
	а кре
	стонос
	цев под к
	омандовани
	ем Ричарда 
	I над войск
	ом Саладин
	а в битве п
	ри Арсуфе.
	1630 — По
	селен
	ие Тр
	имонтейн 
	переимен
	овано в Б
	остон и 
	провозглаше
	но столицей 
	Массачусетса.
	1763 — Англий
	ский король Г
	еорг III выпус
	тил воззван
	ие с призыв
	ом заселя
	ть Канаду
	.1776 — Пе
	рвая а
	така п
	одводн
	ой лод
	ки: Ам
	ерикан
	ская п
	одводна
	я лодка 
	«Черепа
	ха» пыта
	лась уст
	ановитьчасов
	ую бомбу на б
	ританский фл
	агман «Орёл» в
	 гавани Нью-
	Йорка.1792 
	— Запорож
	цы причалил
	и свои струг
	и к берегу 
	Таманского пол
	уострова. В пер
	вые два года на
	 Кубань перес
	елилось 25 тыс
	яч казаков во г
	лаве с войсковым
	 атаманом Захари
	ем Чепегой. Они 
	создали 40 станиц
	\, а своему главно
	му поселению дал
	и имя Екатерино
	дар.XIX век1810 
	— Между 
	русской 
	армией п
	од коман
	дованием
	 генерал
	а Н. М.
	 Каменс
	кого и тур
	ецким войс
	ком сераск
	ера Кушакчи 
	произошло с
	ражение при Б
	атине.1812 —
	 Бородинское 
	сражение\, са
	мое кровопро
	литное из од
	нодневных ср
	ажений.1813 —
	 Впервые вы
	ражение «Дя
	дя Сэм» свя
	зано с прави
	тельством США. 
	В период второй ан
	гло-американской в
	ойны\, начавшейся 
	в 1812 году\, по
	ставщиком м
	яса для амер
	иканской армии
	 был некий Сэмюэл Уилсон. Н
	а бочках с мясом было написан
	о US (United States). Сторож-и
	рландец считал\,
	 что эта надпись обозначает 
	поставщика и читал её как «U
	ncle Sam Wilson»\, то есть «дя
	дюшка Сэм Уилс
	он». 15 сентя
	бря 1961 го
	да Конгр
	есс США в
	ынес по
	становл
	ение счи
	тать дядю
	шку Сэма Уилс
	она прарод
	ителем на
	ционально
	го символа
	 Америки 
	Дяди Сэма.1
	822 — Бра
	зилия пр
	овозглас
	ила неза
	висимост
	ь от Пор
	тугалии.18
	56 — в Успен
	ском соборе
	 Кремля кор
	онован на ц
	арство Алекс
	андр II.1859 —
	 генерало
	м А. И. Б
	арятинс
	ким был взя
	т аул Гуниб и пл
	енен вождь кав
	казских горце
	в имам Шамиль.
	XX век1918 — На
	 базе Пе
	трогра
	дского 
	телегр
	афного 
	агентс
	тва и Б
	юро печ
	ати при 
	Совнарком
	е РСФСР со
	здано Российское
	 телеграфное аген
	тство (РОСТА). По
	сле создания в 1925 
	года ТАСС оно стал
	о агентством РСФСР
	\, а в 1935 году б
	ыло упразднено.
	1928 — Учреждё
	н орден Труд
	ового Красног
	о Знамени.1939
	 — В Герм
	ании введе
	на смертная к
	азнь за «уг
	розу оборо
	нной мощи
	 германск
	ого народа».1
	945 — в Бер
	лине сос
	тоялся Па
	рад Победы
	 союзных 
	войск.194
	7В Мос
	кве о
	ткрыт
	 памя
	тник 
	Юрию 
	Долго
	рукому.В
	 Москве од
	новременно 
	заложены во
	семь стали
	нских высот
	ок в честь 8
	00-летия М
	осквы.В
	 московс
	ком метроп
	олитене впе
	рвые в СССР 
	применены 
	интервальн
	ые часы на 
	станциях
	.1977 — П
	резид
	ент С
	ША Дж
	имми К
	артер
	 и военн
	ый руков
	одитель
	 Панамы
	 Омар То
	ррихос подп
	исали два со
	глашения\, 
	согласно кото
	рым Панамский 
	канал в 2000 г
	оду будет пе
	редан Панаме
	.1992 — В газет
	е «Коммерсант» впервые использован терм
	ин «новые русские».
DTSTART;VALUE=DATE:20150907
END:VEVENT
END:VCALENDAR
