BEGIN:VCALENDAR
VERSION:2.0
PRODID:-//IP.Board Calendar 4.0.13.1//EN
METHOD:PUBLISH
CALSCALE:GREGORIAN
X-WR-CALNAME:В этот день в прошлом
BEGIN:VTIMEZONE
TZID:Europe/London
TZURL:http://tzurl.org/zoneinfo/Europe/London
X-LIC-LOCATION:Europe/London
BEGIN:DAYLIGHT
TZOFFSETFROM:+0000
TZOFFSETTO:+0100
TZNAME:BST
DTSTART:20150329T020000Z
RRULE:FREQ=YEARLY;BYMONTH=3;BYDAY=-1SU
END:DAYLIGHT
BEGIN:STANDARD
TZOFFSETFROM:+0100
TZOFFSETTO:+0000
TZNAME:GMT
DTSTART:20151025T020000Z
RRULE:FREQ=YEARLY;BYMONTH=10;BYDAY=-1SU
END:STANDARD
END:VTIMEZONE
BEGIN:VEVENT
SUMMARY:Развилки Дня
DTSTAMP:20150909T110141Z
SEQUENCE:0
UID:472c718e700a8800b3295e4a7db50df5@172.17.0.3
ORGANIZER;CN="ясмин джакмич":fai@fai.org.ru
DESCRIPTION:\n4 сентябряДо
	 XIX века476 
	— Глава
	 варвар
	ов Одоа
	кр сверг
	 римского и
	мператора Ав
	густула\, полож
	ив конец Запа
	дной Римской 
	империи.1479 —
	 После 4 лет
	 борьбы п
	одписан
	 Алкасов
	ашский д
	оговор\
	, закон
	чивший
	 Войну за
	 Кастильск
	ое наслед
	ство.Исп
	ания по
	лучила К
	анарские о
	строва.16
	11 — Р
	усск
	ий па
	триа
	рх Герм
	оген расп
	ространил
	 грамоту с
	 анафемой
	 Лжедмит
	рия и Мар
	ины Мнишек
	.1669 — Пр
	едводи
	тель к
	азаков
	 Степан
	 Разин п
	рибыл в 
	Астрахань
	 с повинной ру
	сскому правит
	ельству за раз
	бои против перс
	ов и туркмен.17
	42 — В ходе
	 русско-шв
	едской во
	йны\, окружён
	ная шведская 
	армия капитул
	ировала в рай
	оне Гельсинг
	форса.1781 — 4
	4 испанских пос
	еленца основали
	 город Лос-Андже
	лес\, Калифорн
	ия\, США.1791 — Людо
	вик XVI подписал
	 первую конст
	итуцию Франц
	ии.XIX век1802 
	— Немец
	кий фило
	лог Гео
	рг Грот
	ефенд пред
	ъявил первы
	й в мире у
	дачный п
	еревод в
	авилонск
	ой клинопи
	си.1810 — к
	нязь Абха
	зии Георги
	й Шаваршидзе
	 принял прися
	гу на верно
	сть русск
	ому царю
	1821 — 
	Алек
	сандр
	 I об
	ъяви
	л зо
	ной
	 вл
	иян
	ия 
	Рос
	сии
	 час
	ть А
	мерик
	и от Аляс
	ки до Оре
	гона и зак
	рыл воды А
	ляски для 
	иностранных
	 кораблей.1
	841 — Нем
	ецкий п
	оэт Авг
	уст Генр
	их Гоффман
	н фон Фаллер
	слебен предст
	авил написанную
	 им песню «Дойчла
	нд\, Дойчланд\, 
	юбер аллес»\,
	 ставшую ги
	мном Германи
	и (слова были 
	наложены на авст
	рийский имперс
	кий гимн Гайд
	на).1842 — Спус
	тя 284 года 
	возобно
	вилось 
	строите
	льство 
	Кёльнского с
	обора.1870 
	— Во Фр
	анции б
	ыл свергнут 
	император На
	полеон III и 
	провозгла
	шена Третья
	 республика.
	1882 — В Нь
	ю-Йорке 
	Томас Эди
	сон включ
	ил первое
	 в мире комм
	ерческое эл
	ектрическое осве
	щение (всего насч
	итывалось 85 п
	латных клиентов
	).1884 — В Росс
	ии отменена
	 автономия
	 университе
	тов.1885 — В
	 Нью-Йорке 
	открылось п
	ервое в Со
	единённы
	х Штатах 
	кафе само
	обслуживания.1
	888 — Джордж 
	Истмен зар
	егистриров
	ал торговую
	 марку «Kodak
	» и получил 
	патент на ф
	отокамеруисп
	ользующую кат
	ушки плёнки.XX
	 век1913 — П
	оследнее
	 великое г
	еографичес
	кое открыт
	ие. Экспед
	иция на л
	едокола
	х «Тайм
	ыр» и «
	Вайгач
	» под руко
	водством Б
	ориса Андре
	евича Вильки
	цкого открыл
	а Землю Николая I
	I и остров Цесаре
	вича Алексея (ны
	неСеверная Земля
	).1914 — Британия
	\, Россия и Фр
	анция пообеща
	ли друг другу
	 не заключать
	 сепаратный 
	мир с Герман
	ией1937Лига
	 Наций одобр
	ила проект со
	здания еврейс
	кого и арабск
	ого государст
	в.1938 — В газ
	ете «Красна
	я Звезда» вп
	ервые употребле
	на фраза «Если
	 меня убьют\, с
	читайте меня
	 коммунистом»
	.1939Оборона П
	арашютной в
	ышки в Като
	вице (Польша)
	.Япония заяв
	ила о невме
	шательстве в е
	вропейскую войну1
	940 — Американск
	ая система тра
	нсляции «Columbi
	a» продемонстриров
	ала цветное телеи
	зображение на ста
	нции W2XAB.1941 
	— На в
	ойну 
	против 
	СССР нап
	равился п
	ервый ба
	тальон Ле
	гиона фран
	цузских до
	бровольце
	в1942нацист
	ами унич
	тожено г
	етто в Лу
	нинце.г
	азете «К
	расноар
	мейская прав
	да» начата 
	публикация «Ва
	силия Теркина» А.
	 Твардовского.19
	43Постановлением
	 ГКО № 4043\, на воо
	ружение Красной
	 армии был приня
	т ИС-85(ИС-1) с
	 пушкой 
	Д-5Т.Сос
	тоялась
	 встреча
	 Сталин
	а с трем
	я иерарха
	ми Русско
	й правосл
	авной церкви.
	 Встреча об
	означила п
	оворот в це
	рковной п
	олитике С
	ССР.1944Фи
	нляндия пр
	екратила боевые дейс
	твия против СССР (С
	оветско-финская вой
	на (1941-1944)).Англ
	ийское п
	равитель
	ство пос
	тановило о
	тправлять 
	в СССР все
	х военноп
	ленных ру
	сского п
	роисхож
	дения19
	45 — 
	Указо
	м През
	идиум
	а Верховн
	ого Совета 
	СССР расформ
	ирован Государ
	ственный Комите
	т Обороны.1946ЦК
	 ВКП(б) выст
	упил с кри
	тикой фи
	льма «Бол
	ьшая жизн
	ь».Исклю
	чение М. М. 
	Зощенко и А. 
	А. Ахматовой 
	из Союза сов
	етских писателе
	й.1959 — В США в продаже 
	появляется новинка — 
	колготки.1962The Beatles 
	начали работу 
	в студии над своим первым 
	синглом. Первыми песнями стали «How 
	Do You Do It?» и «Love Me Do».Н
	ачало 
	Карибско
	го кризиса
	: президен
	т Джон Ке
	ннеди пре
	дупредил Ф
	иделя Кастро
	\, что США все
	ми средствами
	 парируют кубин
	скую военную акц
	ию в зоне своих 
	интересов\; в
	 тот же день
	 Москва з
	аявила\, 
	что неп
	осредс
	твенная инт
	ервенция США 
	против Кубы пр
	иведёт к глобаль
	ному конфликту.
	1964 — NASA вы
	водит в косм
	ос свою перв
	ую орбитальн
	ую геофизиче
	скую обсерватор
	ию.1975 — В телеэфир
	 вышел первый вып
	уск игры «Что? 
	Где? Когда?».1980 
	— Подписана
	 в печать «Ма
	лая земля» 
	Леонида Бреж
	нева.1985Ос
	танки «Т
	итаника»
	 на Атлан
	тическо
	м морском гр
	унте фотогра
	фируются с п
	омощью дист
	анционного у
	правления.19
	87 — В Мос
	кве завер
	шился пр
	оходивши
	й со 2 се
	нтября
	 суд над М
	атиасом Ру
	стом. Пил
	от — наруш
	итель границ
	ы — был приго
	ворён к 4 годам и
	справительных 
	работ. Через 
	год он был освоб
	ождён.1991Сверд
	ловск вновь
	 стал Екате
	ринбургом.
	1997 — В Москв
	е началось гра
	ндиозное четыр
	ёхдневное праздновани
	е 850-летия Москвы.1998 — Основана компани
	я «Google».
DTSTART;VALUE=DATE:20150904
END:VEVENT
END:VCALENDAR
