BEGIN:VCALENDAR
VERSION:2.0
PRODID:-//IP.Board Calendar 4.0.13.1//EN
METHOD:PUBLISH
CALSCALE:GREGORIAN
X-WR-CALNAME:В этот день в прошлом
BEGIN:VTIMEZONE
TZID:Europe/London
TZURL:http://tzurl.org/zoneinfo/Europe/London
X-LIC-LOCATION:Europe/London
BEGIN:DAYLIGHT
TZOFFSETFROM:+0000
TZOFFSETTO:+0100
TZNAME:BST
DTSTART:20150329T020000Z
RRULE:FREQ=YEARLY;BYMONTH=3;BYDAY=-1SU
END:DAYLIGHT
BEGIN:STANDARD
TZOFFSETFROM:+0100
TZOFFSETTO:+0000
TZNAME:GMT
DTSTART:20151025T020000Z
RRULE:FREQ=YEARLY;BYMONTH=10;BYDAY=-1SU
END:STANDARD
END:VTIMEZONE
BEGIN:VEVENT
SUMMARY:Развилки Дня
DTSTAMP:20150913T090929Z
SEQUENCE:0
UID:e48143e21b7b9c64c5ff380a5eba543a@172.17.0.3
ORGANIZER;CN="ясмин джакмич":fai@fai.org.ru
DESCRIPTION:\n13 сентября1
	501 — Микеланджел
	о начал работать н
	ад Давидом .1644 — А
	бердинская битва
	.1645 — Битва при Фи
	липхоу.1648 — За
	вершилась Битв
	а под Пилявцам
	и.1741 — В Росс
	ийской импери
	и издан указ об о
	граничении рабо
	чего дня на фабр
	иках 15 часами.174
	5 — Издан пер
	вый географич
	еский «Атлас Ро
	ссийский».1812
	 — Военный Со
	вет в деревне 
	Фили\, созван
	ный Михаилом
	 Кутузовым\, реш
	ил для сохране
	ния армии оста
	вить Москву б
	ез боя.1862 
	— капрал Барто
	н Митчелл обнар
	ужил потерянный 
	Специальный при
	каз 191.1902 — В
	 Великобр
	итании в
	первые в 
	качестве
	 доказате
	льства вин
	ы обвиняе
	мого были исп
	ользованы ег
	о отпечатки п
	альцев с места п
	реступления.19
	21 — Завершил
	ась Битва при 
	Сакарье.1922 —
	 установлен темпе
	ратурный рекорд на
	 Земле в тени. Он с
	оставил 57.7 в гра
	дусах по Цельс
	ию на террито
	рии Эль-Азизии
	1940 — Вторая мир
	овая война: В
	торжение итал
	ьянских войск в Е
	гипет.1948 — вто
	ржение индийско
	й армии в Хайдараб
	ад.1965В Москве ар
	естованы писат
	ели А. Синявски
	й и Ю. Даниэль\
	, обвинённые в антис
	оветской пропаганде.В 
	США вышел сингл «Yeste
	rday» группы «Би
	тлз».1968 — Алб
	ания вышла из 
	Организации В
	аршавского дог
	овора.1991 — През
	идент США Дж. Б
	уш отказал И
	зраилю в выд
	елении 10 ми
	ллиардов долл
	аров для стро
	ительства дом
	ов для эмигра
	нтов из СССР.1
	993 — Подпис
	ано соглаш
	ение между
	 Ясиром Арафа
	том и Ицхако
	м Рабином о п
	ризнании Пал
	естинской автоном
	ии1999 — Взрыв жилого дома в Москве
	 на Каширском шоссе.
DTSTART;VALUE=DATE:20150913
END:VEVENT
END:VCALENDAR
