BEGIN:VCALENDAR
VERSION:2.0
PRODID:-//IP.Board Calendar 4.0.13.1//EN
METHOD:PUBLISH
CALSCALE:GREGORIAN
X-WR-CALNAME:В этот день в прошлом
BEGIN:VTIMEZONE
TZID:Europe/London
TZURL:http://tzurl.org/zoneinfo/Europe/London
X-LIC-LOCATION:Europe/London
BEGIN:DAYLIGHT
TZOFFSETFROM:+0000
TZOFFSETTO:+0100
TZNAME:BST
DTSTART:20150329T020000Z
RRULE:FREQ=YEARLY;BYMONTH=3;BYDAY=-1SU
END:DAYLIGHT
BEGIN:STANDARD
TZOFFSETFROM:+0100
TZOFFSETTO:+0000
TZNAME:GMT
DTSTART:20151025T020000Z
RRULE:FREQ=YEARLY;BYMONTH=10;BYDAY=-1SU
END:STANDARD
END:VTIMEZONE
BEGIN:VEVENT
SUMMARY:Развилки Дня
DTSTAMP:20150913T091426Z
SEQUENCE:0
UID:f6c4f1a7de9aa56ff7ebd8b2fcf7df23@172.17.0.3
ORGANIZER;CN="ясмин джакмич":fai@fai.org.ru
DESCRIPTION:\n14 сентяб
	ря786 — Прави
	телем Абасси
	дского халифа
	та становится Г
	арун Аль-Рашид.10
	52 — Освящён Софий
	ский собор в Новгор
	оде.1141 — Битва п
	ри Винчестере.15
	22 — по догово
	ру\, подписанн
	ому в Москве\, Реч
	ь Посполитая при
	знала Смоленск за М
	осквой[1].1698 — Спу
	стя шесть дней
	 после того\, 
	как царь Пёт
	р I собствен
	норучно обре
	зал бороды с
	воим вельмо
	жам\, состоял
	ся большой
	 обед у боя
	рина Алекс
	ея Семёнови
	ча Шеина по
	 случаю ст
	арорусског
	о Нового года.
	 Некоторые из
	 недогадливых
	 гостей явили
	сь с бородами\,
	 но теперь в о
	брезании бород
	 упражнялся цар
	ский шут. Кто п
	осле этого не 
	хотел бриться\, д
	олжен был плати
	ть пошлину за 
	право на бороду.
	1811 — В Прусси
	и отменена феод
	альная система.181
	2 — Войска Напо
	леона вошли в 
	Москву\, нача
	ло пожаров.18
	29 — Заключён 
	Адрианопольс
	кий мирный дог
	овор между Россие
	й и Турцией.1842 
	— произошёл 
	большой пожар в 
	Перми\, в котор
	ом погибла вс
	я центральная ч
	асть города.185
	7 — Английск
	ие войска начали
	 штурм Дели\, зах
	ваченного во в
	ремя восстания
	 сипаев.1867 — Выш
	ел в свет первый том
	 «Капитала» Карла Маркса.188
	6 — Джордж Андерсон (Geor
	ge Anderson) запатентова
	л ленту для пи
	шущей машинк
	и.1896 — В с
	толице 
	России на
	чало дейст
	вовать Са
	нкт-Петер
	бургское 
	телеграфное
	 агентство\,
	 созданное
	 по инициат
	иве минист
	ерства фин
	ансов\, мини
	стерства вн
	утренних де
	л и министе
	рства инос
	транных дел.
	 Оно имело 
	своим «назн
	ачением сообщ
	ать внутри И
	мперии и за гр
	аницей полити
	ческие\, фина
	нсовые\, эко
	номические\,
	 торговые и 
	другие имеющ
	ие общественн
	ый интерес св
	едения…».1911
	 —  в Киев
	е эсером Д. 
	Г. Богровы
	м смертель
	но ранен Пёт
	р Аркадьеви
	ч Столыпин\, 
	российский 
	государствен
	ный деятель\, минис
	тр внутренних дел\, п
	ремьер-министр Рос
	сии (с 1906 года).1
	917 — Офици
	ально-юри
	дическое 
	свержение
	 монархии в 
	России: Врем
	енное правител
	ьство объявило Рос
	сию республикой.19
	27 — В Ницце из-за
	 того\, что ее 
	шарф намот
	ался на ко
	лесо автомоби
	ля\, погибла 
	американск
	ая танцовщиц
	а Айседора Д
	ункан.1937 
	— Заверш
	ение Нионско
	й конференции 
	по поводу слож
	ившейся ситуац
	ии в Испании193
	9 — В США в воздух по
	днялся первый вер
	толёт И. И. Сикорск
	ого — VS-300.1942 — ка
	надский эскадре
	нный миноносец «Otta
	wa» был торпедирован
	 подводной лодкой 
	U-91 в Северной А
	тлантике.194
	7 — В Петро
	дворце под
	 Ленинградо
	м вновь отк
	рыт фонтан 
	«Самсон»\,
	 восстано
	вленый после 
	немецкой окку
	пации в ходе В
	еликой Отече
	ственной войны
	.1954 — На Тоц
	ком полигон
	е (Оренбург
	ская облас
	ть) проведе
	ны войсковые у
	чения в услов
	иях реального
	 ядерного взрыв
	а с участием до 45
	 тысяч военнос
	лужащих всех ви
	дов и родов войск
	.1959 — космичес
	кий аппарат Луна
	-2 впервые в ми
	ре достиг по
	верхности Луны
	.1960 — Основана 
	Организация стран
	-экспортёров нефти (
	ОПЕК). В неё вошли Ир
	ак\, Иран\, Кувейт\
	, Саудовская А
	равия и Венес
	уэла.1973 — Керч
	и и Новороссий
	ску присвоено 
	звание город-г
	ерой.1984 — Пе
	рвый в мире
	 перелёт че
	рез Атлант
	ический ок
	еан на воз
	душном ша
	ре выполн
	ен вышедшим в
	 отставку американским в
	оенным лётчиком Джо Киттинджером (Joseph Kitt
	inger).
DTSTART;VALUE=DATE:20150914
END:VEVENT
END:VCALENDAR
