BEGIN:VCALENDAR
VERSION:2.0
PRODID:-//IP.Board Calendar 4.0.13.1//EN
METHOD:PUBLISH
CALSCALE:GREGORIAN
X-WR-CALNAME:В этот день в прошлом
BEGIN:VTIMEZONE
TZID:Europe/London
TZURL:http://tzurl.org/zoneinfo/Europe/London
X-LIC-LOCATION:Europe/London
BEGIN:DAYLIGHT
TZOFFSETFROM:+0000
TZOFFSETTO:+0100
TZNAME:BST
DTSTART:20150329T020000Z
RRULE:FREQ=YEARLY;BYMONTH=3;BYDAY=-1SU
END:DAYLIGHT
BEGIN:STANDARD
TZOFFSETFROM:+0100
TZOFFSETTO:+0000
TZNAME:GMT
DTSTART:20151025T020000Z
RRULE:FREQ=YEARLY;BYMONTH=10;BYDAY=-1SU
END:STANDARD
END:VTIMEZONE
BEGIN:VEVENT
SUMMARY:Развилки Дня
DTSTAMP:20150913T091839Z
SEQUENCE:0
UID:0b5be32af8395ee6039020de5fa59e76@172.17.0.3
ORGANIZER;CN="ясмин джакмич":fai@fai.org.ru
DESCRIPTION:\n12 сентябряДо XVI
	I века490 до н.
	 э. — греческ
	ий воин Фидипп
	ид пробежал от 
	города Мараф
	он до Афин\, п
	ринёс весть о
	 победе греков над
	 персами — «Ликуйт
	е! Мы победили» и у
	мер. Когда в 189
	6 году в Афина
	х проходили п
	ервые совреме
	нные Олимпийск
	ие игры\, в его ч
	есть был устро
	ен забег межд
	у Марафоном и А
	финами. С тех
	 пор марафо
	н стал клас
	сической дис
	танцией\, и 
	соревнован
	ия по мараф
	онскому бегу с
	тали одним из
	 самых популяр
	ных видов лёгко
	й атлетики.1185
	 — убийств
	о толпой Ан
	дроника I Комн
	ина. Династия 
	Комнинов пере
	стала править
	 Византией.12
	13 — битва 
	при Мюре межд
	у войсками ф
	ранцузских 
	крестоносцев
	 и армией аль
	бигойцев.1485
	 — Тверские б
	ояре присягают
	 на верность вел
	икому князю Ив
	ану III. Тверско
	е княжество 
	входит в сост
	ав Московского
	 государства.150
	4 — Христофор
	 Колумб в ходе 
	четвёртого\, посл
	еднего\, плавания о
	тправился из Амер
	ики в Испанию.XVI
	I век1624 — Пе
	рвая субмарин
	а Корнелиуса В
	ан Дреббила п
	рошла испытан
	ия в Лондоне.1698
	 — в Российс
	ком царстве о
	снован город 
	Таганрог.1699
	 — Впервые 
	русское су
	дно под трёхцветн
	ым флагом прибыло за г
	раницу (в Константиноп
	оль).XVIII век1715 — П
	ётр I издал ук
	аз\, запреща
	вший жителям
	 столицы подб
	ивать сапоги 
	и башмаки ск
	обами и гво
	здями. Это 
	было сдел
	ано с целью
	 сбережени
	я деревянног
	о покрытия сан
	кт-петербургск
	их улиц. В указ
	е говорилось: «А
	 ежели у кого с 
	таким подбоем я
	вятся сапоги ил
	и башмаки\, и те 
	жестоко будут 
	штрафованы\, а
	 купеческие люд
	и\, которые таки
	е скобы и гвозди 
	держать будут\, со
	сланы будут на к
	аторгу\; а имен
	ие их взято б
	удет».1789 —
	 Французск
	ий революци
	онер Жан Поль 
	Марат выпустил
	 первый номер га
	зеты «Друг народ
	а».1799 — Шейх Д
	ербента (Азербайджа
	н) Али-хан принят 
	в русское подданс
	тво.XIX век1817 — В
	 присутствии 
	императора Ал
	ександра I в 
	Митаве (нын
	е Елгава) т
	оржествен
	но объявлен
	о об освобо
	ждении крес
	тьян в Курлян
	дии. Это постан
	овление было ут
	верждено государ
	ем 6 сентября.1858 — В 
	Новой Шотландии 
	(Канада) открыто 
	золото.XX век1918 
	— Симбирск от
	бит Красной Ар
	мией у каппел
	евцев.1933 — Лео
	 Силард предложи
	л идею цепной яд
	ерной реакции.
	1934 — Латвия\,
	 Литва и Эс
	тония образ
	овали полити
	ческий союз.
	 Подписанны
	й в Женеве дого
	вор вошёл в и
	сторию под им
	енем Балтийско
	й Антанты.1940 — На
	йдены наскальн
	ые рисунки в пе
	щере Ласко\, Фр
	анция.1942 —
	 потоплени
	е британск
	ого лайнера «Л
	акония»\, обус
	ловившее изда
	ние приказа «
	Тритон Нуль»
	.1943 — Отто Ско
	рцени освобо
	дил из заключ
	ения Бенито Му
	ссолини.1958И
	спытана первая интег
	ральная схема\, созданная 
	инженером фирмы «Texas Instr
	uments» Джеком Килб
	и. Независимо о
	т него в то же
	 время этой 
	проблемой 
	занимался Р
	оберт Нойс\, 
	который пер
	вым сумел созд
	ать промышленны
	й образец. Ему 
	же достались 
	слава и деньги.195
	9 — запуск со
	ветской межпл
	анетной станци
	и «Луна-2».1974 — Ни
	зложен императ
	ор Эфиопии Хайл
	е Селассие I.1
	989 — В Москве
	 первую демо
	нстрацию пр
	овело общес
	тво «Память».
	1990 — Подпи
	сание дог
	овора об о
	бъединени
	и Германии
	. Договор 
	об оконч
	ательном
	 урегулир
	овании в от
	ношении Герма
	нии был подписа
	н министрами инос
	транных дел СССР\, 
	США\, Великобрит
	ании\, Франции\
	, ГДР и ФРГ. 
	Договор п
	рекратил 
	действие п
	рав и ответ
	ственности 
	четырёх стр
	ан в отношении Берлина и Герман
	ии и связанных с ними соглашений.
DTSTART;VALUE=DATE:20150912
END:VEVENT
END:VCALENDAR
