BEGIN:VCALENDAR
VERSION:2.0
PRODID:-//IP.Board Calendar 4.0.13.1//EN
METHOD:PUBLISH
CALSCALE:GREGORIAN
X-WR-CALNAME:В этот день в прошлом
BEGIN:VTIMEZONE
TZID:Europe/London
TZURL:http://tzurl.org/zoneinfo/Europe/London
X-LIC-LOCATION:Europe/London
BEGIN:DAYLIGHT
TZOFFSETFROM:+0000
TZOFFSETTO:+0100
TZNAME:BST
DTSTART:20150329T020000Z
RRULE:FREQ=YEARLY;BYMONTH=3;BYDAY=-1SU
END:DAYLIGHT
BEGIN:STANDARD
TZOFFSETFROM:+0100
TZOFFSETTO:+0000
TZNAME:GMT
DTSTART:20151025T020000Z
RRULE:FREQ=YEARLY;BYMONTH=10;BYDAY=-1SU
END:STANDARD
END:VTIMEZONE
BEGIN:VEVENT
SUMMARY:Развилки Дня
DTSTAMP:20150508T141652Z
SEQUENCE:0
UID:3598aac17613f2c9e883d6c2d26038f3@172.17.0.3
ORGANIZER;CN="ясмин джакмич":fai@fai.org.ru
DESCRIPTION:\n 1541 — Исп
	анский кон
	кистадор и путе
	шественник Эрна
	ндо де Сото откр
	ыл реку Миссисип
	и\n1713 — Столица Ро
	ссии перенесена и
	з Москвы в город С
	анкт-Петербург.\n1
	791 — В России 
	впервые испо
	лнен гимн «Гро
	м победы\, разда
	вайся!» композитора
	 О. Козловского на с
	лова Г. Державина
	.\n1794 — По обвин
	ению в корр
	упции казнён
	 французский учёны
	й\, отец современн
	ой химии Антуан 
	Лавуазье.\n183
	8 — В Анг
	лии опу
	бликов
	ана «На
	родная
	 хартия» — 
	программа по
	литических т
	ребований ан
	глийского про
	летариата.\n1842 
	— Версальск
	ая железнодор
	ожная катастрофа
	 (Франция)\, в результа
	те которой погибло 
	не менее 55 человек.\
	n1864 — Началась 
	Битва при Сп
	отсильвейни\, од
	но из ключевых сра
	жений в ходе гражданско
	й войны в США.\n1886 — Впе
	рвые производится 
	Coca-cola — напиток\, со
	зданный докторо
	м Джоном Пембертоном.
	\n1895 — Китай перед
	ал Тайвань Япо
	нии.\n1898 — З
	авершило
	сь одиночное кру
	госветное плава
	ние Джошуа Слокама
	 на шлюпе «Спрэй».\n
	1902 — Извержение 
	вулкана Мон-Пеле (Марти
	ника)\, приведшее к гибе
	ли около 20 000 челове
	к.\n1903 — дири
	жабль «Лебо
	ди»\, счит
	ающийся 
	некоторыми
	 исследовате
	лями едва ли
	 не первым полноце
	нным дирижаблем\, соверш
	ил свой первый полёт на 3
	7 км.\n1905 — в Росси
	и\, в Москве
	\, основана
	 Владими
	ром Андр
	еевичем 
	Грингмут
	ом нацио
	нал-патр
	иотическая\,
	 черносотенна
	я организация 
	«Русская Монар
	хическая Парти
	я».\n1921 — Русск
	ие эмигранты 
	открыли в Кон
	стантинополе
	 тараканьи бе
	га. 1922 — В 
	петрогра
	дской газ
	ете «Вече
	рний телег
	раф» опублик
	ована глава 
	«Грэй» из ро
	мана Алекса
	ндра Грина «
	Алые паруса»\
	, который будет в
	ыпущен отдельн
	ым изданием в с
	ледующем году.
	\n1923 — Вели
	кобритан
	ия предъя
	вила совет
	ской России ряд 
	ультимативных 
	требований («Ульт
	иматум Керзона»).
	\n1926 — Америка
	нцы Ричард 
	Бэрд и Фло
	йд Беннетт
	 на самолё
	те «Жозефи
	на Форд» с
	овершили 
	первый ав
	иаперелёт
	 над Северн
	ым полюсом
	. Впоследстви
	и эта информаци
	я подверглась со
	мнению и была оп
	ровергнута.\n192
	9 — Впервые в С
	ССР проведено о
	прыскивание лес
	ов и полей ядох
	имикатами.\n194
	5 — В приг
	ороде Бе
	рлина Кар
	лсхорсте 
	подписан 
	акт о безоговороч
	ной капитуляции Г
	ермании во Второ
	й мировой войне.\
	n1949\n    Приня
	тие парламент
	ским советом в
	 Бонне «Основн
	ого закона» (К
	онституция Ф
	РГ).\n    Открыт
	 монумент Воин
	-освободитель 
	в берлинском 
	Трептов-парке
	.1950 — Обложку но
	вого номера фран
	цузского журнала
	 для женщин «Elle» укра
	сила фотография 1
	5-летней Бриджит Б
	ардо.\n1953 — Первый ф
	ранцузский конве
	ртоплан Сюд-Уэст 
	SO 1310 «Фарфаде» выпо
	лнил свой первы
	й полёт как вер
	толёт.\n1960 — Ус
	тановлены диплом
	атические отноше
	ния между Кубой 
	и СССР.\n1962 —
	 В столице Вел
	икобритании п
	рекратили ход
	ить последние 
	троллейбусы.\n
	1965 — Указы П
	резидиума
	 Верховного
	 Совета СССР о
	б утверждени
	и Положения 
	о почётном 
	звании «Гор
	од-Герой»\,
	 о присвоени
	и Брестской
	 крепости почё
	тного звания 
	«Крепость-Гер
	ой»\; о вручен
	ии ордена\nЛе
	нина и медал
	и «Золотая Зв
	езда» городам
	-героям Волго
	граду\, Севас
	тополю и Оде
	ссе\, медали «Золо
	тая Звезда» горо
	дам-героям Ленинг
	раду и Киеву.\n196
	7    Капитаны
	 «Куин Мэри»
	 и «Куин Эли
	забет» одни
	х из самых 
	популярных 
	и грандиозн
	ых лайнеров 
	за всю истори
	ю пассажирског
	о флота\, получ
	или приказы 
	о выводе с
	удов из эк
	сплуатаци
	и.\n    О
	ткрыти
	е мемориаль
	ного архите
	ктурного ан
	самбля «Мог
	ила Неизвест
	ного Солдата»
	.1984 — Национ
	альный Ол
	импийский к
	омитет СССР
	 принял решен
	ие о бойкот
	е летних Ол
	импийских и
	гр в Лос-Ан
	джелесе. Р
	ешение о
	босновывал
	ось угрозами 
	насилия по отн
	ошению к сове
	тским спортсм
	енам\, хотя на\
	nсамом деле 
	было чисто пол
	итическим решением в о
	твет на бойкот Олимпиады
	 в Москве в 1980 году.\
	n1988 — в СССР
	 объявлен
	о о созд
	ании пе
	рвой легаль
	ной оппозиционной политической п
	артии Демократический Союз. \n
DTSTART;VALUE=DATE:20150507
END:VEVENT
END:VCALENDAR
