BEGIN:VCALENDAR
VERSION:2.0
PRODID:-//IP.Board Calendar 4.0.13.1//EN
METHOD:PUBLISH
CALSCALE:GREGORIAN
X-WR-CALNAME:В этот день в прошлом
BEGIN:VTIMEZONE
TZID:Europe/London
TZURL:http://tzurl.org/zoneinfo/Europe/London
X-LIC-LOCATION:Europe/London
BEGIN:DAYLIGHT
TZOFFSETFROM:+0000
TZOFFSETTO:+0100
TZNAME:BST
DTSTART:20150329T020000Z
RRULE:FREQ=YEARLY;BYMONTH=3;BYDAY=-1SU
END:DAYLIGHT
BEGIN:STANDARD
TZOFFSETFROM:+0100
TZOFFSETTO:+0000
TZNAME:GMT
DTSTART:20151025T020000Z
RRULE:FREQ=YEARLY;BYMONTH=10;BYDAY=-1SU
END:STANDARD
END:VTIMEZONE
BEGIN:VEVENT
SUMMARY:Развилки Дня
DTSTAMP:20150913T092338Z
SEQUENCE:0
UID:bd133de85001898a8d0b3e159bd49755@172.17.0.3
ORGANIZER;CN="ясмин джакмич":fai@fai.org.ru
DESCRIPTION:\n11 сентября (оче
	нь воинственный д
	ень)До XIX века81
	3 — Император ф
	ранков Карл I Ве
	ликий коронуе
	т своего сына\
	, Людовика I Бла
	гочестивого\,
	 своим соправите
	лем и преемнико
	м.1297 — Битва 
	на Стерлинг
	ском мосту1
	609 — Английс
	кий мореплав
	атель Генри 
	Гудзон открыл ос
	тров Манхэттен.1
	683 — Венская Битва
	 (Австрия — Османы)16
	97 — Битва при Зен
	те.1709 — Битва при
	 Мальплаке.1777
	 — Сражение п
	ри Брендивайн
	е.1794 — Наци
	ональный к
	онвент изда
	ёт декрет\, 
	фиксирующий 
	единообразный мак
	симум цен для всей Фран
	ции на время до 1 октябр
	я 1794 года в 14 ливро
	в за квинтал\; д
	екрет был издан т
	акже под давлен
	ием парижской б
	еднотыXIX век18
	54 — В ходе
	 обороны С
	евастопол
	я было зато
	плено восемь 
	устаревших п
	арусных кора
	блей: фрегаты «
	Сизополь»\, «Фл
	ора»\, линейные
	 корабли «Гаврии
	л»\, «Уриил»\, «Тр
	и Святителя»\,
	 «Силистрия»\
	, «Селафаил»\
	, «Варна». 
	Огонь бе
	реговых 
	батарей 
	и затопле
	нные кор
	абли сде
	лали Сева
	стопольску
	ю бухту недос
	тупной для ан
	гло-французс
	кого флота.(Корабл
	и и суда\, затопленные в
	 Севастопольской бухте
	 в 1854—1855 гг.)1882 — В
	 Москве открыт перв
	ый в России частный
	 театр (Ф.Корша).X
	X век1918 — Де
	кретом Совнарк
	ома в России в
	ведена Метрич
	еская система ме
	р и весов.1927 —
	 Землетрясе
	ние на Южном
	 берегу Крым
	а\, приведшее
	 к множестве
	нным разруш
	ениям от Сев
	астополя до 
	Феодосии\; 
	именно это з
	емлетрясение
	 попало в сюж
	ет романа «Д
	венадцать стуль
	ев».1942 — нацис
	тами уничтожен
	о гетто в Стол
	ине.1944 — Вт
	орая миров
	ая война:
	 америка
	нские по
	дразделен
	ия первым
	и из войс
	к стран анти
	гитлеровско
	й коалиции в
	ступают на т
	ерриторию Ге
	рмании.1952 — Со
	стоялась пре
	мьера Шестой 
	симфонии С. П
	рокофьева.1
	957 — През
	идиум Вер
	ховного С
	овета ССС
	Р постано
	вил прекра
	тить присвоени
	е городам и зав
	одам имён парти
	йных деятелей п
	ри их жизни.1973
	 — военный 
	переворот в
	 Чили\, про
	финансиров
	анный ЦРУ. П
	резидент ст
	раны Альенде
	 совершил са
	моубийство\
	, приход к влас
	ти генерала П
	иночета. Прек
	ращение проек
	та Киберсин.
	1986 — В Польше
	 объявлено о
	б освобожден
	ии всех политз
	аключённых.19
	90 — Презид
	ент США Джо
	рдж Буш-ста
	рший в сво
	ём телеви
	зионном в
	ыступлени
	и перед на
	цией по по
	воду Кув
	ейтского 
	кризиса в
	первые по
	сле окончани
	я холодной во
	йны использу
	ет термин «Н
	овый мировой
	 порядок».19
	97 — На ре
	ференду
	ме больш
	инство жит
	елей Шотл
	андии одоб
	рило идею созд
	ания шотландског
	о парламента\, н
	езависимого от 
	Лондона.XXI век
	2001 — террористическа
	я атака на Всемирный торговый центр и 
	Пентагон.
DTSTART;VALUE=DATE:20150911
END:VEVENT
END:VCALENDAR
