BEGIN:VCALENDAR
VERSION:2.0
PRODID:-//IP.Board Calendar 4.0.13.1//EN
METHOD:PUBLISH
CALSCALE:GREGORIAN
X-WR-CALNAME:В этот день в прошлом
BEGIN:VTIMEZONE
TZID:Europe/London
TZURL:http://tzurl.org/zoneinfo/Europe/London
X-LIC-LOCATION:Europe/London
BEGIN:DAYLIGHT
TZOFFSETFROM:+0000
TZOFFSETTO:+0100
TZNAME:BST
DTSTART:20150329T020000Z
RRULE:FREQ=YEARLY;BYMONTH=3;BYDAY=-1SU
END:DAYLIGHT
BEGIN:STANDARD
TZOFFSETFROM:+0100
TZOFFSETTO:+0000
TZNAME:GMT
DTSTART:20151025T020000Z
RRULE:FREQ=YEARLY;BYMONTH=10;BYDAY=-1SU
END:STANDARD
END:VTIMEZONE
BEGIN:VEVENT
SUMMARY:Развилки Дня
DTSTAMP:20150913T093334Z
SEQUENCE:0
UID:21a23f1d3209b9cc0e3209819648909b@172.17.0.3
ORGANIZER;CN="ясмин джакмич":fai@fai.org.ru
DESCRIPTION:\n10 сентября 587
	 г. до н. э. — 
	По приказу в
	авилонского цар
	я Навуходоносор
	а II сожжён храм
	 и дворец Иер
	усалима.117
	2 — Правители 
	Египта Айюбид
	ы признали дух
	овную власть Аб
	басидов.1229 — 
	в полночь хри
	стианские вой
	ска Хайме I высади
	лись на Майорке\, 
	начав завоевание 
	острова.1419 — убит 
	Жан Бесстрашный\, г
	ерцог Бургундии.1
	509 — в Стамбуле
	 в 10 часов утр
	а произошло 
	землетрясени
	е известное как Малы
	й Судный день\, в ход
	е которого погибло
	 до 10 000 человек
	\, нанесшее сер
	ьёзнейший уро
	н столице Осма
	нской империи.1
	547 — эпизод Ан
	гло-шотландс
	ких войн: про
	изошла Бит
	ва при Пинк
	и\, закончи
	вшаяся побе
	дой англичан
	 и способств
	овавшая раз
	рыву Шотланд
	ии и Франции\, 
	а также утв
	ерждению пр
	отестантизм
	а в Шотланди
	и.1588 — Анг
	лийский
	 морепла
	ватель Тома
	с Кавендиш за
	вершил третью 
	успешную круго
	светную экспеди
	цию.1622 — в рам
	ках гонени
	й на христи
	ан в Японии
	 произошло 
	так называ
	емое Великое 
	мученичество в Н
	агасаки в ходе кот
	орого было казнено 5
	2 человека\, в том 
	числе женщины\, де
	ти\, а также ино
	странные миссио
	неры.1693 — Петро
	м I заложено пер
	вое судно — 24-
	пушечный корабл
	ь «Св. Павел». В
	 августе Пётр п
	рибыл в Архан
	гельск\, где о
	н впервые у
	видел море 
	и первый г
	олландски
	й военный 
	корабль. То
	гда Архангел
	ьск был единст
	венным морским
	 портом России\
	, связывавшим 
	её с Западом.
	 По указани
	ю царя на 
	остров Со
	ломбала н
	а Северно
	й Двине 
	завезли 
	строительны
	е материалы 
	и начали со
	оружение суд
	остроительной
	 верфи.1721 — 
	подписан Ништ
	адтский мир\, з
	авершивший Ве
	ликую Северную
	 войну.1725 — Екат
	ерина I учреди
	ла орден Свято
	го Александра
	 Невского.175
	6 учреждён
	 первый рус
	ский театр
	. Императри
	ца Елизав
	ета Петро
	вна издала
	 Указ об у
	чреждении
	 «русского для
	 представления
	 трагедий и комедий
	 театра» в Петербурге
	 (30 августа по старому 
	стилю).1812 — в ходе а
	нгло-американской
	 войны 1812—1815 г
	одов произ
	ошло сражени
	е на озере Э
	ри между аме
	риканской и б
	ританской эск
	адрами\, закон
	чившееся побе
	дой США.1835 —
	 Открыта пе
	рвая железн
	ая дорога в Гер
	мании между Ню
	рнбергом и Фю
	ртом протяжён
	ностью 10 км.
	1839 — Сост
	оялась т
	оржественная
	 закладка Храм
	а Христа Спас
	ителя (царствование
	 Николая I) в память 
	об Отечественной во
	йне 1812 года.1855 —
	 Крымская во
	йна: Только 
	через два
	 дня спустя
	 после уход
	а последн
	их русски
	х солдат 
	неприяте
	ль — французы
	\, англичане и
	 сардинцы — 
	решился вступит
	ь в Севастополь.18
	75 — Русскими в
	ойсками взят К
	оканд.1882 — 
	В Дрезден
	е (Герма
	ния) со
	стояла
	сь пер
	вая ме
	ждуна
	родная ко
	нференция
	 антисемито
	в — Конгрес
	с охраны нее
	врейских инт
	ересов.1885 —
	 Россия и 
	Англия заклю
	чили соглашен
	ие об установ
	лении русско
	-афганской гр
	аницы.1894 — 
	В Лондоне 
	впервые 
	оштрафова
	н водитель з
	а вождение 
	автомобиля
	 в пьяном виде
	 — таксист Джо
	рдж Смит. Не спр
	авившись с управ
	лением\, он въехал
	 точно в двери дом
	а. Штраф составил
	 1 фунт стерлинго
	в.1895 — Открыт к
	анал Су-Сент-Мари 
	между озёрами Вер
	хнее и Гурон (Вел
	икие озёра).1903
	 — В Санкт-
	Петербурге
	 в крайне 
	правой га
	зете «Зна
	мя» (редак
	тор-издат
	ель депут
	ат Госуда
	рственной
	 думы Паве
	л Крушеван)
	 начала пуб
	ликоваться 
	«Программа 
	завоевания 
	мира еврея
	ми». Так в 
	газете бы
	ли назва
	ны «Прото
	колы сионски
	х мудрецов» —
	 одна из самых 
	мерзких фальшивок в
	 истории\, к тому же
	 основанная на пла
	гиате. В 1864 году
	 во Франции 
	Морисом Жол
	и был написан
	 памфлет «Ди
	алог в аду 
	между Мон
	тескьё и 
	Макиавелли»\,
	 направленный 
	против милитар
	истского режима 
	Наполеона III. П
	амфлет и лё
	г в основу 
	«Протоколов»\,
	 которые потом
	 использовали
	сь антисемита
	ми во всём мир
	е. 1908 — Рус
	ским правител
	ьством основан
	а Финская Акаде
	мия наук и худо
	жеств.1912 — С
	 задержкой н
	а день эксп
	едиция Георгия 
	Седова на Север
	ный полюс вышла 
	из Архангельска 
	в море.1918Журнал
	ист и историк
	 Ч. Репингтон п
	ервым назвал вс
	е еще текущую в
	ойну Первой миров
	ой.Войска 5-й арм
	ии\, которой ком
	андовал П. А. 
	Славен\, осво
	бодили Казань.
	 Это была первая
	 победа Красно
	й Армии на Вос
	точном фронте.194
	0 — В СССР ут
	верждено пол
	ожение о пас
	портах.1941Гр
	уппа амер
	иканских с
	енаторов об
	винила Чарл
	и Чаплина в 
	попытке втяг
	ивания США в 
	войну и анг
	лийской пр
	опаганде в
	 связи с п
	оказом его ф
	ильма «Вели
	кий диктато
	р».Окончание 
	Смоленского 
	сражения.1942Ож
	есточённые бо
	и западнее и юг
	о-западнее Ста
	линграда\, а 
	также в рай
	оне Моздок 
	и уличные бо
	и в Новоросси
	йске.нациста
	ми уничтожен
	о гетто в Дав
	ид-Городке1
	943Начало Н
	оворосси
	йской опер
	ации войск
	 Северо-Ка
	вказского
	 фронта и 
	Черноморског
	о флота. Руко
	водил всеми 
	наземными во
	йсками команду
	ющий 18-й арм
	ией генера
	л-лейтена
	нт К. Н. 
	Леселидз
	е\, десант
	ной опер
	ацией — ко
	мандующий Ч
	ерноморским
	 флотом вице-
	адмирал Л. 
	А. Владими
	рский\, а н
	ачальнико
	м высадки б
	ыл команди
	р Новороссийс
	кой военно-мор
	ской базы конт
	р-адмирал Г. Н
	. Холостяков
	.1944 — На те
	рритории 
	северо-во
	сточной ч
	асти Румы
	нии советски
	е войска овла
	дели городом 
	и железнодор
	ожной станцие
	й Вама\, а такж
	е с боями заня
	ли населённые п
	ункты Русская-Молд
	авика\, Ватра-Молдавик
	а\, Круча\, Хольда\, Б
	роштэни\, Дьердьо-Бэ
	каш.1960На Белом море 
	с подводной лодки 
	Б-67 проекта ПВ-6
	11 выполнен 
	первый в СССР 
	успешный приц
	ельный пуск бал
	листической рак
	еты Р-21 из-под воды
	 по боевому полю
	.На конференции
	 в Багдаде (10—1
	4 сентября) созд
	ана Организаци
	я стран-экспорт
	ёров нефти (ОПЕК).19
	61Торжественный пу
	ск Волжской ГЭС имени XXII с
	ъезда КПСС. Строилась ГЭС с
	 1951 по 1962 гг. на Вол
	ге выше Волго
	града.1977 — Ту
	нисский имми
	грант Хамида 
	Джандуби\, ос
	уждённый ка
	к убийца\, ст
	ал последни
	м казнённым
	 на гильотине 
	преступником
	 во Франции. Чер
	ез четыре года ги
	льотина\, как ор
	удие смертной 
	казни\, будет 
	запрещена.19
	81 — Знамен
	итая картин
	а «Герника»
	 Пабло Пикассо
	 вернулась в 
	Испанию и п
	омещена в ма
	дридском музее 
	Прадо. В завещании 
	великого художника\
	, скончавшегося в 1
	973 году\, было у
	казано\, что
	 возвращен
	ие возможн
	о лишь при ус
	ловии падения
	 фашизма и восстано
	вления демократии в стран
	е.1993 — На телеканале «F
	ox Television» сост
	оялась 
	премьера пер
	вого эпизода
	 американско
	го фантастическо
	го телесериала 19
	90-х годов «Сек
	ретные мате
	риалы».1996 
	— ООН утверж
	дает Договор о
	 всеобъемлющем
	 запрещении яд
	ерных испытани
	й.1998 — Спустя
	 5 минут пос
	ле старта з
	апущенная с к
	осмодрома Бай
	конур ракета-
	носитель «Зен
	ит-2» упала вм
	есте с 12 аме
	риканскими спут
	никами связи «Глобалстар» в безлюдно
	м месте в Хакасии. \n
DTSTART;VALUE=DATE:20150910
END:VEVENT
END:VCALENDAR
