BEGIN:VCALENDAR
VERSION:2.0
PRODID:-//IP.Board Calendar 4.0.13.1//EN
METHOD:PUBLISH
CALSCALE:GREGORIAN
X-WR-CALNAME:В этот день в прошлом
BEGIN:VTIMEZONE
TZID:Europe/London
TZURL:http://tzurl.org/zoneinfo/Europe/London
X-LIC-LOCATION:Europe/London
BEGIN:DAYLIGHT
TZOFFSETFROM:+0000
TZOFFSETTO:+0100
TZNAME:BST
DTSTART:20150329T020000Z
RRULE:FREQ=YEARLY;BYMONTH=3;BYDAY=-1SU
END:DAYLIGHT
BEGIN:STANDARD
TZOFFSETFROM:+0100
TZOFFSETTO:+0000
TZNAME:GMT
DTSTART:20151025T020000Z
RRULE:FREQ=YEARLY;BYMONTH=10;BYDAY=-1SU
END:STANDARD
END:VTIMEZONE
BEGIN:VEVENT
SUMMARY:Развилки Дня
DTSTAMP:20150916T161818Z
SEQUENCE:0
UID:5f5fb7966e2e6e283b8317ff1972d36c@172.17.0.3
ORGANIZER;CN="ясмин джакмич":fai@fai.org.ru
DESCRIPTION:\n16 сентябряД
	о XIX векаВ сов
	ременную ас
	трономическую э
	поху в этот день
	 Солнце входит 
	в созвездие Д
	евы.1492 — во вре
	мя первой экс
	педиции Колу
	мба открыто 
	Саргассово м
	оре.1658 — ге
	тман Войс
	ка Запоро
	жского Ива
	н Выговски
	й заключил 
	с Речью По
	сполитой Гадя
	чский трактат 
	о вхождении ка
	заков в польско
	е подданство.177
	3 — в Новую 
	Шотландию (
	Канада) приб
	ыл корабль «
	Гектор» с шо
	тландскими п
	оселенцами на
	 борту\, после че
	го началась волна
	 эмиграции из Шо
	тландии в Канад
	у.XIX век1810 — 
	Мексика пров
	озгласила не
	зависимость 
	от Испании и 
	начала войн
	у.1821 — Рос
	сийская импе
	рия подтверд
	ила свои иск
	лючительные 
	права на Аляс
	ку.1828 — уч
	астники р
	усской э
	кспедици
	и в Бразил
	ии под руко
	водством акад
	емика Григория
	 Лангсдорфа при
	были в город Па
	ра (Белен)\, от
	куда весной 
	следующего г
	ода сумели м
	орем добраться
	 до Рио-де-Жанейро.
	 Лангсдорф был русс
	ким консулом в Рио
	-де-Жанейро\, в 18
	21 году он ор
	ганизовал
	 большую э
	кспедицию 
	во внутренн
	ие районы 
	Бразилии. П
	оследний м
	аршрут оказ
	ался самым тр
	удным и драм
	атичным: почт
	и все участн
	ики тяжело за
	болели\, нек
	оторые поги
	бли. Сам ака
	демик верну
	лся в Европ
	у соверше
	нно больны
	м и неспос
	обным к ра
	боте ввид
	у психиче
	ского рас
	стройства.
	 Огромный 
	собранный в
	о время экспедиц
	ии материал долги
	е годы считали утерян
	ным\, почти 100 лет о
	 ней не вспомин
	али\, и лишь 
	к середин
	е прошлого ве
	ка было возд
	ано должное участникам
	 забытой экспедиции.1857 — 
	Джейн Пирпонт (Jane Pier
	pont) из Бостона получила авторски
	е права на песню «One Horse Open Sleigh»\
	, более известную как «
	Jingle Bells». Эта ро
	ждественск
	ая песенка б
	ыла написана
	 для представл
	ения в воскр
	есной школе и 
	ныне без неё 
	не обходитс
	я ни один ро
	ждественск
	ий праздник.
	1859 — англи
	йский исследоват
	ель Давид Ливингс
	тон открыл озеро Ньяса (Афри
	ка).XX век1908 — Уильямом Дюраном (William C
	rapo \"Billy\" Durant) учреждена компания «G
	eneral Motors».1914 — Го
	сударствен
	ной Думой Ро
	ссийской Импе
	рии был принят 
	закон о запрет
	е продажи вод
	ки на время в
	ойны.1915 — з
	акончилас
	ь русская 
	полярная 
	экспедиция 
	Бориса Вильк
	ицкого\, откр
	ывшая архип
	елаг Северна
	я Земля\, пе
	рвое сквоз
	ное плавание по
	 Северный Морс
	кой путь из Вл
	адивостока в Арх
	ангельск\,1918 
	— учреждён
	 Орден Крас
	ного Знаме
	ни.1931 — о
	снован Гос
	ударственный 
	Академический
	 Центральный те
	атр кукол им. С.
	 В. Образцова.
	1943 — освобожде
	ние города Лозов
	ая (Украина) от н
	ацистских захв
	атчиков.1959Кур
	ьез: В семье н
	егров Флеми
	нг из штата 
	Миссисипи 
	родился во
	сьмой ребёно
	к\, которого
	 назвали Ник
	ита Хрущёв.
	Президент Ф
	ранции де Г
	олль обрат
	ился по радио
	 к населению
	 Алжира с пр
	едложением п
	ровести рефере
	ндум\, на котор
	ом алжирцы долж
	ны решить\, отд
	еляются ли он
	и от Франции и
	ли остаются 
	в её составе.
	 Референдум
	 должен быт
	ь проведён 
	в течение четы
	рёх лет после
	 полного пре
	кращения восс
	тания в Алжире.
	1963 — Образова
	но государств
	о Малайзия (из
	 Малайи\, Сингапу
	ра\, Британского
	 Северного Бор
	нео и Саравака
	).1975 — Папуа — 
	Новая Гвине
	я объявила н
	езависимость
	 от Австралии.
	1976 — Много
	кратный ре
	кордсмен и чем
	пион мира по 
	подводному пла
	ванию Шаварш Кара
	петян спас с 10-
	метровой глуби
	ны 20 человек\,
	 когда переп
	олненный трол
	лейбус упал с 
	моста в Ерев
	анское водохр
	анилище.1982 —
	 резня в лагер
	ях палестинских 
	беженцев Сабра и 
	Шатила в Бейруте
	\, во время кот
	орой за 2 дня о
	т рук ливанских 
	христиан-фалангистов 
	погибли\, по разным св
	едениям\, от 700 до 
	3500 ливанцев 
	и палестинс
	ких беженце
	в. Министр 
	обороны Из
	раиля Ариэл
	ь Шарон был обв
	инён в попустит
	ельстве убийст
	вам в Ливане и 
	снят с поста.
	1987 — подписан
	 Монреальский 
	протокол о защи
	те озонового сло
	я Земли.1996 — 
	в США арест
	ован хакер Кев
	ин Митник\, нар
	ушивший компью
	терную сеть Пе
	нтагона.1999Взры
	в жилого дома в В
	олгодонске (Ростовс
	кая область). Погибли 19 человек\, боле
	е 200 были ранены.
DTSTART;VALUE=DATE:20150916
END:VEVENT
END:VCALENDAR
