BEGIN:VCALENDAR
VERSION:2.0
PRODID:-//IP.Board Calendar 4.0.13.1//EN
METHOD:PUBLISH
CALSCALE:GREGORIAN
X-WR-CALNAME:В этот день в прошлом
BEGIN:VTIMEZONE
TZID:Europe/London
TZURL:http://tzurl.org/zoneinfo/Europe/London
X-LIC-LOCATION:Europe/London
BEGIN:DAYLIGHT
TZOFFSETFROM:+0000
TZOFFSETTO:+0100
TZNAME:BST
DTSTART:20150329T020000Z
RRULE:FREQ=YEARLY;BYMONTH=3;BYDAY=-1SU
END:DAYLIGHT
BEGIN:STANDARD
TZOFFSETFROM:+0100
TZOFFSETTO:+0000
TZNAME:GMT
DTSTART:20151025T020000Z
RRULE:FREQ=YEARLY;BYMONTH=10;BYDAY=-1SU
END:STANDARD
END:VTIMEZONE
BEGIN:VEVENT
SUMMARY:Развилки дня
DTSTAMP:20150916T162427Z
SEQUENCE:0
UID:92d7dccaa7991b5c246d391ea3a8274b@172.17.0.3
ORGANIZER;CN="ясмин джакмич":fai@fai.org.ru
DESCRIPTION:\n17 сентября
	 14 — Тибери
	й Клавдий Неро
	н принимает ти
	тул император
	а и имя Тибер
	ий Цезарь Ав
	густ.335 — П
	о приказу
	 римского
	 императо
	ра Константин
	а в Иерусалим
	е для паломн
	иков открыта гр
	обница Христа.
	1156 — Создано 
	Австрийское 
	герцогство.1394 — 
	Евреи изгоняются
	 из Франции прика
	зом короля Карла 
	VI.1598 — Дело по 
	обвинению Джор
	дано Бруно в ер
	еси передано 
	из Венеции в Рим.1598
	 — Голландские 
	моряки открывают 
	Маврикий.XVII век1665 — 
	Начало вспышка буб
	онной чумы в Лондо
	не.XVIII век1787 
	— На Констит
	уционной Ко
	нвенции в Фи
	ладельфии п
	ринята Конст
	итуция США.1
	789 — Английски
	й астроном Уил
	ьям Гершель от
	крыл спутник 
	Сатурна Мимас.
	1793 — Во Фран
	ции принят «з
	акон о подозри
	тельных»\, об
	ъявлявший в
	рагами народа в
	сех\, кто не полу
	чил свидетель
	ства о благона
	дёжности.XIX ве
	к1809 — закл
	ючен Фридр
	ихсгамский мир
	ный договор\, заверш
	ивший Русско-шведску
	ю (Финскую) войну 180
	8—1809 годов\, г
	лавным ит
	огом котор
	ой было вх
	ождение Ф
	инляндии в со
	став Россий
	ской импери
	и на правах а
	втономного 
	княжества.1
	859 — Разо
	врившийс
	я коммерс
	ант и сан
	-францис
	коский г
	ородской
	 сумасше
	дший Джо
	шуа Абрах
	ам Нортон
	 провозгла
	сил себя и
	мператоро
	м Соединён
	ных Штатов
	 и присвои
	л себе ти
	тул Его Имп
	ераторское
	 Величество имп
	ератор Соединё
	нных Штатов Нортон 
	I и Протектор Мекси
	ки.1862 — Сражение 
	при Энтитеме.1871 —
	 В Альпах открыт 1
	3-километровый 
	туннель Мон-Се
	ни.XX век1900 — П
	ровозглашено
	 создание Авс
	тралийского 
	Союза.1910 —
	 В Лондоне н
	а конгресс
	е психиатр
	ов врачи вы
	сказали пр
	едположение
	\, что если ко
	личество луна
	тиков будет увели
	чиваться такими же
	 темпами\, как пре
	жде\, то через 40 л
	ет число безум
	ных людей стан
	ет больше разу
	мных.1920 — При ву
	зах России соз
	даны рабочие фа
	культеты (рабфа
	ки).1922 — В Бе
	рлине состоялс
	я первый в мир
	е публичный по
	каз звукового
	 фильма.1922 — 
	В Москве со
	стоялся первы
	й в России рад
	иоконцерт. На
	чало вещания
	 «Радио Моск
	ва».1935 — 
	Состоялся пер
	вый полёт немец
	кого пикирующег
	о бомбардировщик
	а Юнкерс Ju.87 «Шту
	ка»1939 — Нач
	ался второй
	 Польский похо
	д РККА. День во
	ссоединения З
	ападной Белор
	уссии и БССР.1
	941 — В СССР вве
	дено обязате
	льное обучен
	ие военному дел
	у всех граждан
	.1949 — Пожаро
	м уничтожен
	 «Нороник»\, с
	амый большой
	 пассажирски
	й пароход на Ве
	ликих озёрах\,
	 на стоянке на то
	ронтском причале в 
	Канаде. При этом по
	гибли более 130 ч
	еловек.1954 — На
	 Новой Земле 
	создан советский яде
	рный полигон.1955 — 
	Первый полёт самолёт
	а (NB-36) с работающим
	 ядерным реакторо
	м на борту1988 — В Се
	уле начались XXI
	V летние Олимп
	ийские игры.1991 — Л
	инус Торвальдс оп
	убликовал исходный код Linux\, ядра оп
	ерационной системы
DTSTART;VALUE=DATE:20150917
END:VEVENT
END:VCALENDAR
