BEGIN:VCALENDAR
VERSION:2.0
PRODID:-//IP.Board Calendar 4.0.13.1//EN
METHOD:PUBLISH
CALSCALE:GREGORIAN
X-WR-CALNAME:Революция. 100 лет. День за днем. 
BEGIN:VTIMEZONE
TZID:Europe/London
TZURL:http://tzurl.org/zoneinfo/Europe/London
X-LIC-LOCATION:Europe/London
BEGIN:DAYLIGHT
TZOFFSETFROM:+0000
TZOFFSETTO:+0100
TZNAME:BST
DTSTART:20170326T020000Z
RRULE:FREQ=YEARLY;BYMONTH=3;BYDAY=-1SU
END:DAYLIGHT
BEGIN:STANDARD
TZOFFSETFROM:+0100
TZOFFSETTO:+0000
TZNAME:GMT
DTSTART:20171029T020000Z
RRULE:FREQ=YEARLY;BYMONTH=10;BYDAY=-1SU
END:STANDARD
END:VTIMEZONE
BEGIN:VEVENT
SUMMARY:21 февраля (6 марта) 1917 г.
DTSTAMP:20170307T115502Z
SEQUENCE:0
UID:a68f1853d8e4f0a41a949653ec54cb1c@172.17.0.3
ORGANIZER;CN="Doctor Haider":fai@fai.org.ru
DESCRIPTION:\nSo\, it begins...21 февраля 
	(6 марта)По сооб
	щениям газе
	ты «Биржевы
	е ведомости
	»\, 21 февр
	аля (6 ма
	рта) на Пет
	роградско
	й стороне 
	начался разг
	ром булочных 
	и мелочных ла
	вок\, продолж
	авшийся затем
	 по всему городу.
	 Толпа окружила
	 пекарни и було
	чные и с криками
	: «Хлеба\, хлеб
	а» двинулась
	 по улицам. М
	орис Палеоло
	г\, французск
	ий посол в Рос
	сии:Петроград
	 терпит недоста
	ток в хлебе и д
	ровах\, народ 
	страдает. Се
	годня утром у
	 булочной на Ли
	тейном я был п
	оражен злым выр
	ажением\, которое
	 я читал на лицах
	 всех бедных лю
	дей\, стоявших в
	 хвосте\, из кот
	орых большинст
	во провело там всю
	 ночь. Покровский\,
	 с которым я гово
	рил об этом\, не
	 скрыл от мен
	я своего б
	еспокойст
	ва. Но что 
	делать? Жел
	езнодорожн
	ый кризис де
	йствительно ух
	удшился. Сильные мор
	озы\, которые держат
	ся во всей России (-4
	3°R)\, вывели из с
	троя  вследст
	вие того\, чт
	о полопались 
	трубы паровик
	ов\, более ты
	сячи двухсо
	т локомотивов
	\, а запасных тр
	уб вследствие
	 забастовок н
	е хватает. Кр
	оме того\, в по
	следние неде
	ли выпал искл
	ючительно обиль
	ный снег\, а в дерев
	нях нет рабочих д
	ля очистки путей
	. В результате 5
	700 вагонов в на
	стоящее врем
	я застряли. И
	з дневника имп
	ератора Николая 
	II:Погулял полчас
	а. Погода была х
	олодная и ветрен
	ая\, шёл снег. П
	ринял Беляева\
	, Покровского\, 
	Щегловитова. П
	осидел наверху у 
	Ольги и Алексея\, 
	которому лучше. Погул
	ял с Татьяной. В 4 ч. прин
	ял Танеева\, в 6 час
	. Стаховича и в 
	9.45 Протопо
	пова. Сит
	уация в Пе
	трограде:На 
	Путиловском за
	воде продолжается забастовка\, нача
	вшаяся 18 февраля (3 марта).\n
DTSTART;VALUE=DATE:20170306
END:VEVENT
END:VCALENDAR
